From mboxrd@z Thu Jan 1 00:00:00 1970 Return-Path: Received: from mails.dpdk.org (mails.dpdk.org [217.70.189.124]) by inbox.dpdk.org (Postfix) with ESMTP id A5ABD461F4 for ; Tue, 11 Feb 2025 09:49:32 +0100 (CET) Received: from mails.dpdk.org (localhost [127.0.0.1]) by mails.dpdk.org (Postfix) with ESMTP id 9F9FA40156; Tue, 11 Feb 2025 09:49:32 +0100 (CET) Received: from mail-io1-f99.google.com (mail-io1-f99.google.com [209.85.166.99]) by mails.dpdk.org (Postfix) with ESMTP id 54A7940150 for ; Tue, 11 Feb 2025 09:49:31 +0100 (CET) Received: by mail-io1-f99.google.com with SMTP id ca18e2360f4ac-854a68f5afcso116725439f.0 for ; Tue, 11 Feb 2025 00:49:31 -0800 (PST) DKIM-Signature: v=1; a=rsa-sha256; c=relaxed/relaxed; d=iol.unh.edu; s=unh-iol; t=1739263770; x=1739868570; darn=dpdk.org; h=cc:to:from:subject:message-id:date:from:to:cc:subject:date :message-id:reply-to; bh=eYP11jazl/IdYnraaG7Bb4zmY/AE79Aj2l1PxIkMHSI=; b=ZV7/8EepYDCkLVfZgWOPt9jvx605VQThQEUoaBxXy+GLKq7L1BSw3MPfjeJnQXA9Z0 NyQnG0vxe1iVoqC6viNY/acetFHqblGqA4fE7A41GKpwcMdZMTYm/XuT2bdmZHaStVXY 6gzzKWgiDOgm65OuReolbjsh/Xvjf/Psy9dT4= X-Google-DKIM-Signature: v=1; a=rsa-sha256; c=relaxed/relaxed; d=1e100.net; s=20230601; t=1739263770; x=1739868570; h=cc:to:from:subject:message-id:date:x-gm-message-state:from:to:cc :subject:date:message-id:reply-to; bh=eYP11jazl/IdYnraaG7Bb4zmY/AE79Aj2l1PxIkMHSI=; b=kXl8Tp/xCatK7GY+/DFS4V6x3AUw4ruc/8GMWfgLOrSCcDkzEckU86s4BFjFcC7gUw k+MNSX/1sgp0JAOIgZsjuCaU6mJt5q64iwTXu1zkEcw7lkC9ceSo3MPUpLk4H0sWRJId lfDxFHypfPwyL71QaWrr85YTGP6gazeDlp4hp5a5J7Mvv4aX7VXHIGfdz5su2OI1Lhpf FZw5SKtXtl5WMW72Gy+TUvr0SP29lYUXgOMNhHDu8avo01awCjMe5J1k9dQy0uHDtV6U GBsterUDVaGg+SSDnSIZ/TTNDoj8vrDe3m38SX2tw8nx/6z976IfHT8W3t0ZrUQUtt4y Nnrg== X-Gm-Message-State: AOJu0YxNLro5sTZ2vQu2qUsFopMri9iVclLPfh1Jq3LN/uB+L7eJL0mu Ixgv32w1dj4LUf0+POnBWj7WWZEEagmBqGAGcLgkiFi0Hd+D4xOL65XDXdtP7iNRD7XvgI8qp6u w9MlsS6iil9eueyvDoXPjN3IZXm9rnsLy X-Gm-Gg: ASbGnct3tYPVWSChYLkUq1OjD1xCGkQ678lRZBZmgqc3c0MPDlPcA6KFEslqUS7kxXg uGbeycIoi2vNxB7MlwK54lp4X0oTNm5ayX/igpdRk1p7xCh5MeVl1dsEi5mDurdJgBBzAcgFjzo kDhrgmefFsngp/vQF3DEhcKckvAu1BMsh1R223UgpBBefyqwrwhXuJhYg2osQvnikYlct3XKUGp gDr9yKHbxaxVCNiNRUuA3LQu5dpslzFzOh2lekIZq8WqBTgLe580VMzjLnQqUoisV8hfaGSs0BA GgKHsZ7gQeMf4gN7pRp98dQbD3bgwg== X-Google-Smtp-Source: AGHT+IGa3ARa6PIVeAtZ6o5ZjxIgx8EaO6UqzTLpRGITOwfy+MBWmd3dyhMnRIs/4wmBS5JMxafYa3t8pexP X-Received: by 2002:a05:6602:3f8b:b0:855:196f:5f5b with SMTP id ca18e2360f4ac-855196f6132mr788788239f.2.1739263770631; Tue, 11 Feb 2025 00:49:30 -0800 (PST) Received: from postal.iol.unh.edu (postal.iol.unh.edu. [132.177.123.84]) by smtp-relay.gmail.com with ESMTPS id ca18e2360f4ac-854f674035asm60173039f.21.2025.02.11.00.49.30 (version=TLS1_2 cipher=ECDHE-ECDSA-AES128-GCM-SHA256 bits=128/128); Tue, 11 Feb 2025 00:49:30 -0800 (PST) X-Relaying-Domain: iol.unh.edu Date: Tue, 11 Feb 2025 00:49:30 -0800 (PST) Message-ID: <67ab0f1a.050a0220.1e15f7.4772SMTPIN_ADDED_MISSING@mx.google.com> Received: from [172.21.0.7] (unknown [172.18.0.240]) by postal.iol.unh.edu (Postfix) with ESMTP id 25BB16052471; Tue, 11 Feb 2025 03:49:30 -0500 (EST) Subject: |SUCCESS| [GIT MASTER] c66daa12e76d7b4912cfb7109a761856a7a873ab From: dpdklab@iol.unh.edu To: Test Report Cc: dpdk-test-reports@iol.unh.edu, Xueming Li , Christian Ehrhardt , Kevin Traynor , Luca Boccassi Content-Type: text/plain X-BeenThere: test-report@dpdk.org X-Mailman-Version: 2.1.29 Precedence: list List-Id: automatic DPDK test reports List-Unsubscribe: , List-Archive: List-Post: List-Help: List-Subscribe: , Errors-To: test-report-bounces@dpdk.org _Testing PASS_ Branch: tags/v23.11 c66daa12e76d7b4912cfb7109a761856a7a873ab --> testing pass Upstream job id: Generic-DPDK-Compile-ABI#115787 Test environment and result as below: +-------------------+----------+ | Environment | abi_test | +===================+==========+ | CentOS Stream 9 | PASS | +-------------------+----------+ | CentOS Stream 10 | PASS | +-------------------+----------+ | Debian Bullseye | PASS | +-------------------+----------+ | Fedora 40 (Clang) | PASS | +-------------------+----------+ | Debian 12 | PASS | +-------------------+----------+ | Fedora 40 | PASS | +-------------------+----------+ | Fedora 41 (Clang) | PASS | +-------------------+----------+ | RHEL8 | PASS | +-------------------+----------+ | RHEL9 | PASS | +-------------------+----------+ | openSUSE Leap 15 | PASS | +-------------------+----------+ | Fedora 41 | PASS | +-------------------+----------+ | Ubuntu 22.04 | PASS | +-------------------+----------+ | Ubuntu 24.04 | PASS | +-------------------+----------+ CentOS Stream 9 Kernel: Depends on container host Compiler: gcc 11.5.0 20240719 (Red Hat 11.5.0-2) CentOS Stream 10 Kernel: Depends on container host Compiler: gcc 14.2.1 20241104 (Red Hat 14.2.1-6) Debian Bullseye Kernel: Depends on container host Compiler: gcc (Debian 10.2.1-6) 10.2.1 20210110 Fedora 40 (Clang) Kernel: Depends on container host Compiler: clang 18.1.8 (Fedora 18.1.8-1.fc40) Debian 12 Kernel: Depends on container host Compiler: gcc (Debian 12.2.0-14) 12.2.0 Fedora 40 Kernel: Depends on container host Compiler: gcc 14.2.1 20240912 (Red Hat 14.2.1-3) Fedora 41 (Clang) Kernel: Depends on container host Compiler: clang 19.1.5 (Fedora 19.1.5-1.fc41) RHEL8 Kernel: Depends on container host Compiler: gcc 8.5.0 20210514 (Red Hat 8.5.0-22) RHEL9 Kernel: Depends on container host Compiler: gcc 11.5.0 20240719 (Red Hat 11.5.0-2) openSUSE Leap 15 Kernel: Depends on container host Compiler: gcc (SUSE Linux) 7.5.0 Fedora 41 Kernel: Depends on container host Compiler: gcc 14.2.1 20240912 (Red Hat 14.2.1-3) Ubuntu 22.04 Kernel: Depends on container host Compiler: gcc (Ubuntu 11.4.0-1ubuntu1~22.04) 11.4.0 Ubuntu 24.04 Kernel: Depends on container host Compiler: gcc (Ubuntu 13.3.0-6ubuntu2~24.04) 13.3.0 To view detailed results, visit: https://lab.dpdk.org/results/dashboard/tarballs/32538/ UNH-IOL DPDK Community Lab To manage your email subscriptions, visit: https://lab.dpdk.org/results/dashboard/preferences/subscriptions/