From mboxrd@z Thu Jan 1 00:00:00 1970 Return-Path: Received: from mails.dpdk.org (mails.dpdk.org [217.70.189.124]) by inbox.dpdk.org (Postfix) with ESMTP id 4A0BC461F4 for ; Tue, 11 Feb 2025 09:53:22 +0100 (CET) Received: from mails.dpdk.org (localhost [127.0.0.1]) by mails.dpdk.org (Postfix) with ESMTP id 3990140608; Tue, 11 Feb 2025 09:53:22 +0100 (CET) Received: from mail-qv1-f100.google.com (mail-qv1-f100.google.com [209.85.219.100]) by mails.dpdk.org (Postfix) with ESMTP id A5E75402DA for ; Tue, 11 Feb 2025 09:53:21 +0100 (CET) Received: by mail-qv1-f100.google.com with SMTP id 6a1803df08f44-6e43c9c8d08so48915276d6.3 for ; Tue, 11 Feb 2025 00:53:21 -0800 (PST) DKIM-Signature: v=1; a=rsa-sha256; c=relaxed/relaxed; d=iol.unh.edu; s=unh-iol; t=1739264001; x=1739868801; darn=dpdk.org; h=references:in-reply-to:cc:to:from:subject:message-id:date:from:to :cc:subject:date:message-id:reply-to; bh=iPaOLWIMrVfAgYnCOPj43o/7x82Xgegd19HRs2eehzk=; b=BxkQoy0gQmgXPPXLda0S3GLUVWh7pKUPj/QIpEU1DBLa5cgqmX7LZ3C35acpzRjalQ I7q/srEqPD7FwOZFUPRAk0Kr7tqyWMVabFNKo5NbNwrLh0fqjt6eczJuBU/yu3fAYpdf r3Xmggqs6prIRpNBp9FPKhM3L3zpyB5qjv9Ug= X-Google-DKIM-Signature: v=1; a=rsa-sha256; c=relaxed/relaxed; d=1e100.net; s=20230601; t=1739264001; x=1739868801; h=references:in-reply-to:cc:to:from:subject:message-id:date :x-gm-message-state:from:to:cc:subject:date:message-id:reply-to; bh=iPaOLWIMrVfAgYnCOPj43o/7x82Xgegd19HRs2eehzk=; b=ijH/vAjhXceTYsQxpy3q8XMZKLF1JcLL64qbZtdIa6fqqL9XBvwsJm/Tc63WnOArJq lNBcYPIcwVQ8/6jb+x+9ci++jAkU05KEoEfhBSk/9iYjEDOR7K/95axTAeyjEqZOrEzi AMKtbGi6RY8Yd4ajVvBYr4Mup7UyXuE6Zk/sqT4eOSSy3VdjBwtMSUwW/v6ov6fmEy35 Ux+uLMjp88gZBGSpBZSRci4jAQSmn9DtO/G+7MjJ72cu0ms167BVOeDFD+aeGksf/lbG ZRH6mnBjJwcUXSeRzSSQeUHgIUO7+FVotWxRHtSqFOA3jjWF8ZYmah5AjSAxngduCQc1 urvw== X-Gm-Message-State: AOJu0YwioWY71V+yiGIGJ4OJ0SFGDUKXMH+KlNReE2FWiptSaGAFCoIm Pw8RUwlTRs1gxXB3akA5YlrJKK4xmgnvOvytiWs1Qagg7onX06H/iY0W0dMwQivHleJJ6/b5WQa 6qyp/2CaO5x2pDt+tELrNHyK2flIcw0sZcklpyAlY X-Gm-Gg: ASbGnctH3AU+11zkoK0I7E7/eKnPx9XmHCRyPHQ/v3WtydAzF5fRETvPcQyV2rlGxgD q+0//B3IfZRp6aEXG9kUD8Z+gDX9gnr/bVJuUDlscWwphtRcxtUJqr8S4WXlauowz56QRZurrup qekGCXUmfhHazCfkSjnlyaX6iM9fqxEbZNK/m5eJXjMcJvvT0udGu8mPU2ktJjLoEPieknWL7ak 5y5pHr8byxHklBA7WaNJrXz+mbhCm0Wn/zvEqwpAEWO+hFEFSvG8OR8qpZu6I5174QkcMJ6T/q7 g+71AnCUZB3Uj27lGi3fvMW/l6wgFA== X-Google-Smtp-Source: AGHT+IHRFnN7BctuAyHWbmcDgKo+B+uhv07pP+ZjdjIuj21C5yuStT05cMsHOTrprOMAJ9YxHCV2EwvOo3Gt X-Received: by 2002:a05:6214:2503:b0:6e4:4194:df35 with SMTP id 6a1803df08f44-6e4455c9612mr288906056d6.9.1739263999823; Tue, 11 Feb 2025 00:53:19 -0800 (PST) Received: from postal.iol.unh.edu (postal.iol.unh.edu. [132.177.123.84]) by smtp-relay.gmail.com with ESMTPS id 6a1803df08f44-6e4449c28cesm5864016d6.45.2025.02.11.00.53.19 (version=TLS1_2 cipher=ECDHE-ECDSA-AES128-GCM-SHA256 bits=128/128); Tue, 11 Feb 2025 00:53:19 -0800 (PST) X-Relaying-Domain: iol.unh.edu Date: Tue, 11 Feb 2025 00:53:19 -0800 (PST) Message-ID: <67ab0fff.d40a0220.1e3882.e44bSMTPIN_ADDED_MISSING@mx.google.com> Received: from [172.21.0.5] (unknown [172.18.0.240]) by postal.iol.unh.edu (Postfix) with ESMTP id 73BB06052471; Tue, 11 Feb 2025 03:53:19 -0500 (EST) Subject: |SUCCESS| pw151289 [PATCH] drivers/net: signed/unsigned mismatch From: dpdklab@iol.unh.edu To: Test Report Cc: dpdk-test-reports@iol.unh.edu In-Reply-To: <1739222725-30747-1-git-send-email-andremue@linux.microsoft.com> References: <1739222725-30747-1-git-send-email-andremue@linux.microsoft.com> Content-Type: text/plain X-BeenThere: test-report@dpdk.org X-Mailman-Version: 2.1.29 Precedence: list List-Id: automatic DPDK test reports List-Unsubscribe: , List-Archive: List-Post: List-Help: List-Subscribe: , Errors-To: test-report-bounces@dpdk.org Test-Label: iol-compile-arm64-testing Test-Status: SUCCESS http://dpdk.org/patch/151289 _Testing PASS_ Submitter: Andre Muezerie Date: Monday, February 10 2025 21:25:25 DPDK git baseline: Repo:dpdk Branch: master CommitID:d4d1e6c55a2f17785ee6be361599e1c5ab28f0fb 151289 --> testing pass Upstream job id: Generic-DPDK-Compile-Meson#360436 Test environment and result as below: +----------------------------------------+--------------------+ | Environment | dpdk_meson_compile | +========================================+====================+ | RHEL9 (ARM) | PASS | +----------------------------------------+--------------------+ | Ubuntu 20.04 ARM GCC Cross Compile | PASS | +----------------------------------------+--------------------+ | Ubuntu 20.04 ARM SVE | PASS | +----------------------------------------+--------------------+ | Debian 12 with MUSDK | PASS | +----------------------------------------+--------------------+ | Fedora 40 (ARM) | PASS | +----------------------------------------+--------------------+ | Fedora 40 (ARM Clang) | PASS | +----------------------------------------+--------------------+ | Fedora 41 (ARM) | PASS | +----------------------------------------+--------------------+ | Fedora 41 (ARM Clang) | PASS | +----------------------------------------+--------------------+ | Ubuntu 20.04 (ARM) | PASS | +----------------------------------------+--------------------+ | Ubuntu 22.04 (ARM) | PASS | +----------------------------------------+--------------------+ | Ubuntu 24.04 (ARM) | PASS | +----------------------------------------+--------------------+ | CentOS Stream 9 (ARM) | PASS | +----------------------------------------+--------------------+ | CentOS Stream 10 (ARM) | PASS | +----------------------------------------+--------------------+ | Debian 11 (Buster) (ARM) | PASS | +----------------------------------------+--------------------+ | Debian 12 (arm) | PASS | +----------------------------------------+--------------------+ | Ubuntu 20.04 ARM Clang Cross Compile | PASS | +----------------------------------------+--------------------+ | Ubuntu 20.04 aarch32 GCC Cross Compile | PASS | +----------------------------------------+--------------------+ RHEL9 (ARM) Kernel: Depends on container host Compiler: gcc 11.5.0 20240719 (Red Hat 11.5.0-2) Ubuntu 20.04 ARM GCC Cross Compile Kernel: Depends on container host Compiler: aarch64-linux-gnu-gcc (Ubuntu 9.4.0-1ubuntu1~20.04.2) 9.4.0 Ubuntu 20.04 ARM SVE Kernel: Depends on container host Compiler: gcc (Ubuntu 10.5.0-1ubuntu1~20.04) 10.5.0 Debian 12 with MUSDK Kernel: Depends on container host Compiler: gcc (Debian 12.2.0-14) 12.2.0 Fedora 40 (ARM) Kernel: Depends on container host Compiler: gcc 14.2.1 20240912 (Red Hat 14.2.1-3) Fedora 40 (ARM Clang) Kernel: Depends on container host Compiler: clang 18.1.8 (Fedora 18.1.8-1.fc40) Fedora 41 (ARM) Kernel: Depends on container host Compiler: gcc 14.2.1 20240912 (Red Hat 14.2.1-3) Fedora 41 (ARM Clang) Kernel: Depends on container host Compiler: clang 19.1.5 (Fedora 19.1.5-1.fc41) Ubuntu 20.04 (ARM) Kernel: Depends on container host Compiler: gcc (Ubuntu 9.4.0-1ubuntu1~20.04.2) 9.4.0 Ubuntu 22.04 (ARM) Kernel: Depends on container host Compiler: gcc (Ubuntu 11.4.0-1ubuntu1~22.04) 11.4.0 Ubuntu 24.04 (ARM) Kernel: Depends on container host Compiler: gcc (Ubuntu 13.3.0-6ubuntu2~24.04) 13.3.0 CentOS Stream 9 (ARM) Kernel: Depends on container host Compiler: gcc 11.5.0 20240719 (Red Hat 11.5.0-2) CentOS Stream 10 (ARM) Kernel: Depends on container host Compiler: gcc 14.2.1 20241104 (Red Hat 14.2.1-6) Debian 11 (Buster) (ARM) Kernel: Depends on container host Compiler: gcc (Debian 10.2.1-6) 10.2.1 20210110 Debian 12 (arm) Kernel: Depends on container host Compiler: gcc (Debian 12.2.0-14) 12.2.0 Ubuntu 20.04 ARM Clang Cross Compile Kernel: Depends on container host Compiler: clang 10.0.0-4ubuntu1 Ubuntu 20.04 aarch32 GCC Cross Compile Kernel: Depends on container host Compiler: gcc 9.4.0 To view detailed results, visit: https://lab.dpdk.org/results/dashboard/patchsets/32553/ UNH-IOL DPDK Community Lab To manage your email subscriptions, visit: https://lab.dpdk.org/results/dashboard/preferences/subscriptions/