From mboxrd@z Thu Jan 1 00:00:00 1970 Return-Path: Received: from mails.dpdk.org (mails.dpdk.org [217.70.189.124]) by inbox.dpdk.org (Postfix) with ESMTP id 79694461F6 for ; Tue, 11 Feb 2025 10:23:36 +0100 (CET) Received: from mails.dpdk.org (localhost [127.0.0.1]) by mails.dpdk.org (Postfix) with ESMTP id 48D1740156; Tue, 11 Feb 2025 10:23:36 +0100 (CET) Received: from mail-qk1-f227.google.com (mail-qk1-f227.google.com [209.85.222.227]) by mails.dpdk.org (Postfix) with ESMTP id C947640150 for ; Tue, 11 Feb 2025 10:23:34 +0100 (CET) Received: by mail-qk1-f227.google.com with SMTP id af79cd13be357-7c05cda3e3fso205773485a.1 for ; Tue, 11 Feb 2025 01:23:34 -0800 (PST) DKIM-Signature: v=1; a=rsa-sha256; c=relaxed/relaxed; d=iol.unh.edu; s=unh-iol; t=1739265814; x=1739870614; darn=dpdk.org; h=cc:to:from:subject:message-id:date:from:to:cc:subject:date :message-id:reply-to; bh=4yLMs47z9xOFwWcWD1J0E7ye5V6o7Cqw5dCk7CsFKlA=; b=AnsvN+WU+MBd7XixgSsroPyxkiKVXVmuBnNZJOy4/sXkXHkFZFgpLJaikaPHZ4WeHZ 6dG/QatqzLNfowttWBKndqOemFD+Mx/kO1ifUjpE4ktwY0tHePHyJeE0wTiGy0kwqJbt zOcaF28HUkPBSOZKPI1e8iVborDFBLINgqCPA= X-Google-DKIM-Signature: v=1; a=rsa-sha256; c=relaxed/relaxed; d=1e100.net; s=20230601; t=1739265814; x=1739870614; h=cc:to:from:subject:message-id:date:x-gm-message-state:from:to:cc :subject:date:message-id:reply-to; bh=4yLMs47z9xOFwWcWD1J0E7ye5V6o7Cqw5dCk7CsFKlA=; b=oRG6HvDs0Aw1MC4uxo0a9YLDgmp39qh1xVAtcfqKrPusjCe8zUjDjepFxZIkZ9VT3n tnZAJ1OZXIbaE0gdcsHDbuuyyYwV+zC5D7idoSl+6AbAJgVsoGNnnm+eVJuYyFSF2o7x FY30/oThWsOaySVzuWjT3nbaCALnxGRbwHcZCVdIsUFcEzAn5iGnCxhv/c/2tYrBnsIY 56G5kvcs76DFDNL+RwS7JDbQwRy6AKZmkrgJWMEpJqCICn00WKKaWzsN6wqHx7U10Wyh FmqChTfjspOJCDqUyfj9tbE/O8un4VAc4SY7A4lhSUdKywckg2RTurz5cDZEKL1UVGgF eWIw== X-Gm-Message-State: AOJu0YxvBImVlDXSCJWDoSEwPFSoKMJbB3nZqv5IQe3WSwJabnIY1YSP tO8UWaqQQ3w9Ww44INgs8nl4iXaFpe7Z5gCyYxJk8LOYV/nCRvrhLHGnvCEzZQAFYZxjLRdA2hm baFeciCoSqAd9YsDJL1MvYnVQflVVK9yAGIHXMbbOQnnIQD7B X-Gm-Gg: ASbGncteZBLlFTGNcX0JXT4emvwCxXN+ueZl22VemWQCxlQKwR5SUXWO7XtqGmRO8Hf VMoxcaPVifcoDkaCZW2gHp/qS4UhZzmDTZdzd4mqV2Sh5VsPMKlE+z+ji6UgPGcFVG2MufVoY2T iRPvUnVckRScBtNNrId4/5jetnV0PLbEaNImelbpuDroOnLJI31ahX7R4myooOVAm5+Wnv2Bzkx mm+0kA+tPxA6x89Rg5ZFsm4hShciJu91Te2+msjljdpURTTPw+szZskvwSy3Rom3ieBEj1751Yc iI0WaYWNzVqrGKOcdaG4wRwPdtLzF28KiMuD/IFxvg== X-Google-Smtp-Source: AGHT+IHFNZm7hlC/hZqjWP/YCU00S+kDiWG1hnXY9zn3m52upKvwr+G1VsNs85jUbV5c1TIWANA6i04XztkA X-Received: by 2002:a05:620a:4691:b0:7c0:6944:db84 with SMTP id af79cd13be357-7c06944dd7dmr377680885a.48.1739265814097; Tue, 11 Feb 2025 01:23:34 -0800 (PST) Received: from postal.iol.unh.edu (postal.iol.unh.edu. [2606:4100:3880:1234::84]) by smtp-relay.gmail.com with ESMTPS id af79cd13be357-7c041de92d2sm75061785a.2.2025.02.11.01.23.33 (version=TLS1_2 cipher=ECDHE-ECDSA-AES128-GCM-SHA256 bits=128/128); Tue, 11 Feb 2025 01:23:33 -0800 (PST) X-Relaying-Domain: iol.unh.edu Date: Tue, 11 Feb 2025 01:23:33 -0800 (PST) Message-ID: <67ab1715.050a0220.39cdb4.6aa2SMTPIN_ADDED_MISSING@mx.google.com> Received: from [172.21.0.6] (unknown [172.18.0.240]) by postal.iol.unh.edu (Postfix) with ESMTP id 7B0426052471; Tue, 11 Feb 2025 04:23:33 -0500 (EST) Subject: |SUCCESS| [GIT MASTER] f2eea2f37a82bb73fb01d56350708f7d70e21379 From: dpdklab@iol.unh.edu To: Test Report Cc: dpdk-test-reports@iol.unh.edu, Xueming Li , Christian Ehrhardt , Kevin Traynor , Luca Boccassi Content-Type: text/plain X-BeenThere: test-report@dpdk.org X-Mailman-Version: 2.1.29 Precedence: list List-Id: automatic DPDK test reports List-Unsubscribe: , List-Archive: List-Post: List-Help: List-Subscribe: , Errors-To: test-report-bounces@dpdk.org _Testing PASS_ Branch: tags/v24.11 f2eea2f37a82bb73fb01d56350708f7d70e21379 --> testing pass Upstream job id: Generic-Unit-Test-DPDK#313929 Test environment and result as below: +-----------------------------+----------------+--------------+---------------------------+------------------------------+ | Environment | dpdk_unit_test | lpm_autotest | cryptodev_sw_zuc_autotest | cryptodev_sw_snow3g_autotest | +=============================+================+==============+===========================+==============================+ | Debian 11 (Buster) (ARM) | PASS | SKIPPED | SKIPPED | SKIPPED | +-----------------------------+----------------+--------------+---------------------------+------------------------------+ | Debian 12 (arm) | PASS | SKIPPED | PASS | PASS | +-----------------------------+----------------+--------------+---------------------------+------------------------------+ | CentOS Stream 9 (ARM) | PASS | SKIPPED | SKIPPED | SKIPPED | +-----------------------------+----------------+--------------+---------------------------+------------------------------+ | CentOS Stream 10 (ARM) | PASS | SKIPPED | SKIPPED | SKIPPED | +-----------------------------+----------------+--------------+---------------------------+------------------------------+ | Fedora 41 (ARM) | PASS | SKIPPED | SKIPPED | SKIPPED | +-----------------------------+----------------+--------------+---------------------------+------------------------------+ | Ubuntu 20.04 (ARM) | PASS | SKIPPED | SKIPPED | SKIPPED | +-----------------------------+----------------+--------------+---------------------------+------------------------------+ | Fedora 40 (ARM Clang) | PASS | SKIPPED | SKIPPED | SKIPPED | +-----------------------------+----------------+--------------+---------------------------+------------------------------+ | Fedora 40 (ARM) | PASS | SKIPPED | SKIPPED | SKIPPED | +-----------------------------+----------------+--------------+---------------------------+------------------------------+ | Fedora 41 (ARM Clang) | PASS | SKIPPED | SKIPPED | SKIPPED | +-----------------------------+----------------+--------------+---------------------------+------------------------------+ | RHEL9 (ARM) | PASS | SKIPPED | SKIPPED | SKIPPED | +-----------------------------+----------------+--------------+---------------------------+------------------------------+ | Ubuntu 22.04 (ARM) | PASS | SKIPPED | SKIPPED | SKIPPED | +-----------------------------+----------------+--------------+---------------------------+------------------------------+ | Ubuntu 24.04 (ARM) | PASS | SKIPPED | SKIPPED | SKIPPED | +-----------------------------+----------------+--------------+---------------------------+------------------------------+ | 32-bit Ubuntu 22.04.4 (ARM) | PASS | SKIPPED | SKIPPED | SKIPPED | +-----------------------------+----------------+--------------+---------------------------+------------------------------+ | Ubuntu 20.04 ARM SVE | SKIPPED | PASS | SKIPPED | SKIPPED | +-----------------------------+----------------+--------------+---------------------------+------------------------------+ Debian 11 (Buster) (ARM) Kernel: Depends on container host Compiler: gcc (Debian 10.2.1-6) 10.2.1 20210110 Debian 12 (arm) Kernel: Depends on container host Compiler: gcc (Debian 12.2.0-14) 12.2.0 CentOS Stream 9 (ARM) Kernel: Depends on container host Compiler: gcc 11.5.0 20240719 (Red Hat 11.5.0-2) CentOS Stream 10 (ARM) Kernel: Depends on container host Compiler: gcc 14.2.1 20241104 (Red Hat 14.2.1-6) Fedora 41 (ARM) Kernel: Depends on container host Compiler: gcc 14.2.1 20240912 (Red Hat 14.2.1-3) Ubuntu 20.04 (ARM) Kernel: Depends on container host Compiler: gcc (Ubuntu 9.4.0-1ubuntu1~20.04.2) 9.4.0 Fedora 40 (ARM Clang) Kernel: Depends on container host Compiler: clang 18.1.8 (Fedora 18.1.8-1.fc40) Fedora 40 (ARM) Kernel: Depends on container host Compiler: gcc 14.2.1 20240912 (Red Hat 14.2.1-3) Fedora 41 (ARM Clang) Kernel: Depends on container host Compiler: clang 19.1.5 (Fedora 19.1.5-1.fc41) RHEL9 (ARM) Kernel: Depends on container host Compiler: gcc 11.5.0 20240719 (Red Hat 11.5.0-2) Ubuntu 22.04 (ARM) Kernel: Depends on container host Compiler: gcc (Ubuntu 11.4.0-1ubuntu1~22.04) 11.4.0 Ubuntu 24.04 (ARM) Kernel: Depends on container host Compiler: gcc (Ubuntu 13.3.0-6ubuntu2~24.04) 13.3.0 32-bit Ubuntu 22.04.4 (ARM) Kernel: 5.15.83+ aarch64 Compiler: gcc (Ubuntu 11.4.0-1ubuntu1~22.04) 11.4.0 Ubuntu 20.04 ARM SVE Kernel: Depends on container host Compiler: gcc (Ubuntu 10.5.0-1ubuntu1~20.04) 10.5.0 To view detailed results, visit: https://lab.dpdk.org/results/dashboard/tarballs/32536/ UNH-IOL DPDK Community Lab To manage your email subscriptions, visit: https://lab.dpdk.org/results/dashboard/preferences/subscriptions/