From mboxrd@z Thu Jan 1 00:00:00 1970 Return-Path: Received: from mails.dpdk.org (mails.dpdk.org [217.70.189.124]) by inbox.dpdk.org (Postfix) with ESMTP id EB41E461F6 for ; Tue, 11 Feb 2025 11:42:35 +0100 (CET) Received: from mails.dpdk.org (localhost [127.0.0.1]) by mails.dpdk.org (Postfix) with ESMTP id D090B40156; Tue, 11 Feb 2025 11:42:35 +0100 (CET) Received: from mail-io1-f100.google.com (mail-io1-f100.google.com [209.85.166.100]) by mails.dpdk.org (Postfix) with ESMTP id 9702940150 for ; Tue, 11 Feb 2025 11:42:34 +0100 (CET) Received: by mail-io1-f100.google.com with SMTP id ca18e2360f4ac-85521efa9b5so52014839f.3 for ; Tue, 11 Feb 2025 02:42:34 -0800 (PST) DKIM-Signature: v=1; a=rsa-sha256; c=relaxed/relaxed; d=iol.unh.edu; s=unh-iol; t=1739270554; x=1739875354; darn=dpdk.org; h=references:in-reply-to:cc:to:from:subject:message-id:date:from:to :cc:subject:date:message-id:reply-to; bh=Laa595/GHs/zi38aCTIUkRt9mH3HpiV2cSnXu8BjtFo=; b=RdWjAYLSdETakl/YJm+cMCk9SqhoYpdnNVn2zAuCGgGs2uTJ1PRsh0pmYD37vrFsAP LaxAqp2z+DG92SL2bIRu9WTDiVMDKM3UhEVZ+BbsnEKPwtQJ2H0CdxAkm+aapdRdN75i P24Qq+vlQu192AnFNrrK+6xVMW7vCnuT8h0BU= X-Google-DKIM-Signature: v=1; a=rsa-sha256; c=relaxed/relaxed; d=1e100.net; s=20230601; t=1739270554; x=1739875354; h=references:in-reply-to:cc:to:from:subject:message-id:date :x-gm-message-state:from:to:cc:subject:date:message-id:reply-to; bh=Laa595/GHs/zi38aCTIUkRt9mH3HpiV2cSnXu8BjtFo=; b=mmhh0hhpog85VBWKBvMxA5FzH4D9OUPmyWEJFpdLZmxYOlP/Gms65LM4T8+LLTEzwC UmaIKkF0SHN17K2u35xFq07WKNTQXN7/L6z4qTGSpjC3Dc7knd9g2RNjNAcOFAr0edK9 FiYba5pSr9v8SmXYvXhfQj4uJNM1uMXj9zexJ0e6Rihz5DwLzLcwGgI/D3e4ftop4oj0 cs7MSIlvQ3DMuM88G2v5I1PGMSOFM+nOskkqjUEbwwEiE3Yj9P+zXysx3RrWdxw/w1EB a+MsnfJi31eGOyehtNgwESKpcE+2mnt2wekEB9sZvVtOU1UnaDVOV6x/EZLeqajG76OF bZFw== X-Gm-Message-State: AOJu0Yx2/ODNI5JSr4DCMiBc8L1DXd63+YcRepj6y5ATPoYxkRLN7Qey IsHb967QC+DYGIqqS/qKUaDzAqPFRYFhbisQg2XVwVCvAXYiDBTIp78B/0Uo0iMcS7We+dyjWZK /uUBECQBdhCxgeubYsSSnNrp7zPMin3wo5ASygooiZf/XDOVqqKQBpGZj X-Gm-Gg: ASbGncvOMFAW5vPF1kOPOzxWI5nitkZxXXMFsG/ULSRB6HH/vj9KhjDFytxmL8i1wBN 7UKuSJ8otpcx90cBMXW//9gmEoQD/q/1ACmewgepJeHLVL2zjPNUqCzU4GhkAyY0wnYofk/hOc5 Cs+icHODk4td43vz3XWxwerXIt+cYgT0z1sON6zTAs1usg5W6BQ+TuT0N/q3QBswXiFTz68tYLl UaxmdP6WcnDGQVsarl2SjnPqMhKG4wswQP5VbNa9BT1VQ5fjynnlhBJ9L0Zmem1JWRVhjz79vQo MgmUdxuvCN+RjI0181MC3etLFgVRt3vTEnGImmXoJg== X-Google-Smtp-Source: AGHT+IHteRbbLRBcrTKxjqRG6azb+TQ6UXK/ujijco7xjiTw6WEJwzPKB03dgXWibLo2roVn5DdoDlS7yKxR X-Received: by 2002:a05:6602:3f94:b0:855:3ed8:ee8b with SMTP id ca18e2360f4ac-8553ed9b7a1mr465872839f.5.1739270553888; Tue, 11 Feb 2025 02:42:33 -0800 (PST) Received: from postal.iol.unh.edu (postal.iol.unh.edu. [2606:4100:3880:1234::84]) by smtp-relay.gmail.com with ESMTPS id 8926c6da1cb9f-4ed08675d17sm113408173.53.2025.02.11.02.42.33 (version=TLS1_2 cipher=ECDHE-ECDSA-AES128-GCM-SHA256 bits=128/128); Tue, 11 Feb 2025 02:42:33 -0800 (PST) X-Relaying-Domain: iol.unh.edu Date: Tue, 11 Feb 2025 02:42:33 -0800 (PST) Message-ID: <67ab2999.050a0220.c51a5.7639SMTPIN_ADDED_MISSING@mx.google.com> Received: from [172.21.0.5] (unknown [172.18.0.240]) by postal.iol.unh.edu (Postfix) with ESMTP id 599D26052471; Tue, 11 Feb 2025 05:42:33 -0500 (EST) Subject: |SUCCESS| pw151325 [PATCH] [v7] net: add thread-safe crc api From: dpdklab@iol.unh.edu To: Test Report Cc: dpdk-test-reports@iol.unh.edu In-Reply-To: <20250211090202.1018656-1-arkadiuszx.kusztal@intel.com> References: <20250211090202.1018656-1-arkadiuszx.kusztal@intel.com> Content-Type: text/plain X-BeenThere: test-report@dpdk.org X-Mailman-Version: 2.1.29 Precedence: list List-Id: automatic DPDK test reports List-Unsubscribe: , List-Archive: List-Post: List-Help: List-Subscribe: , Errors-To: test-report-bounces@dpdk.org Test-Label: iol-compile-amd64-testing Test-Status: SUCCESS http://dpdk.org/patch/151325 _Testing PASS_ Submitter: Arkadiusz Kusztal Date: Tuesday, February 11 2025 09:02:02 DPDK git baseline: Repo:dpdk Branch: master CommitID:7125636162d67b1c40ba6802a3ff4466d125d243 151325 --> testing pass Upstream job id: Windows-Compile-DPDK-VS#4900 Test environment and result as below: +---------------------+-------------------------+-------------------+--------------------+ | Environment | dpdk_llvm_clang_compile | dpdk_msvc_compile | dpdk_meson_compile | +=====================+=========================+===================+====================+ | Windows Server 2022 | PASS | PASS | SKIPPED | +---------------------+-------------------------+-------------------+--------------------+ | FreeBSD 13.4 | SKIPPED | SKIPPED | PASS | +---------------------+-------------------------+-------------------+--------------------+ | FreeBSD 14.2 | SKIPPED | SKIPPED | PASS | +---------------------+-------------------------+-------------------+--------------------+ Windows Server 2022 Kernel: 10.0.20348.2031 Compiler: clang 15.0.7, gcc 14.1.0 (MinGW), and MSVC VS 19.39.33521 FreeBSD 13.4 Kernel: 13.4-RELEASE-p1 Compiler: clang 18.1.6 FreeBSD 14.2 Kernel: 14.2-RELEASE Compiler: clang 18.1.6 To view detailed results, visit: https://lab.dpdk.org/results/dashboard/patchsets/32558/ UNH-IOL DPDK Community Lab To manage your email subscriptions, visit: https://lab.dpdk.org/results/dashboard/preferences/subscriptions/