automatic DPDK test reports
 help / color / mirror / Atom feed
From: dpdklab@iol.unh.edu
To: Test Report <test-report@dpdk.org>
Cc: dpdk-test-reports@iol.unh.edu
Subject: |SUCCESS| pw151325 [PATCH] [v7] net: add thread-safe crc api
Date: Tue, 11 Feb 2025 02:44:52 -0800 (PST)	[thread overview]
Message-ID: <67ab2a24.050a0220.360ca7.4a25SMTPIN_ADDED_MISSING@mx.google.com> (raw)
In-Reply-To: <20250211090202.1018656-1-arkadiuszx.kusztal@intel.com>

Test-Label: iol-compile-amd64-testing
Test-Status: SUCCESS
http://dpdk.org/patch/151325

_Testing PASS_

Submitter: Arkadiusz Kusztal <arkadiuszx.kusztal@intel.com>
Date: Tuesday, February 11 2025 09:02:02 
DPDK git baseline: Repo:dpdk
  Branch: master
  CommitID:7125636162d67b1c40ba6802a3ff4466d125d243

151325 --> testing pass

Upstream job id: Generic-VM-DPDK-Compile-Meson#33230

Test environment and result as below:

+---------------------+-------------------------+-------------------+--------------------+
|     Environment     | dpdk_llvm_clang_compile | dpdk_msvc_compile | dpdk_meson_compile |
+=====================+=========================+===================+====================+
| Windows Server 2022 | PASS                    | PASS              | SKIPPED            |
+---------------------+-------------------------+-------------------+--------------------+
| FreeBSD 13.4        | SKIPPED                 | SKIPPED           | PASS               |
+---------------------+-------------------------+-------------------+--------------------+
| FreeBSD 14.2        | SKIPPED                 | SKIPPED           | PASS               |
+---------------------+-------------------------+-------------------+--------------------+


Windows Server 2022
	Kernel: 10.0.20348.2031
	Compiler: clang 15.0.7, gcc 14.1.0 (MinGW), and MSVC VS 19.39.33521

FreeBSD 13.4
	Kernel: 13.4-RELEASE-p1
	Compiler: clang 18.1.6

FreeBSD 14.2
	Kernel: 14.2-RELEASE
	Compiler: clang 18.1.6

To view detailed results, visit:
https://lab.dpdk.org/results/dashboard/patchsets/32558/

UNH-IOL DPDK Community Lab

To manage your email subscriptions, visit: 
https://lab.dpdk.org/results/dashboard/preferences/subscriptions/

  parent reply	other threads:[~2025-02-11 10:44 UTC|newest]

Thread overview: 22+ messages / expand[flat|nested]  mbox.gz  Atom feed  top
     [not found] <20250211090202.1018656-1-arkadiuszx.kusztal@intel.com>
2025-02-11  8:29 ` |SUCCESS| pw151325 [PATCH v7] " qemudev
2025-02-11  8:33 ` qemudev
2025-02-11  9:02 ` |WARNING| " checkpatch
2025-02-11  9:57 ` |SUCCESS| pw151325 [PATCH] [v7] " dpdklab
2025-02-11 10:18 ` dpdklab
2025-02-11 10:25 ` |SUCCESS| pw151325 [PATCH v7] " 0-day Robot
2025-02-11 10:26 ` |SUCCESS| pw151325 [PATCH] [v7] " dpdklab
2025-02-11 10:26 ` dpdklab
2025-02-11 10:31 ` dpdklab
2025-02-11 10:33 ` dpdklab
2025-02-11 10:42 ` dpdklab
2025-02-11 10:44 ` dpdklab [this message]
2025-02-11 10:44 ` |PENDING| " dpdklab
2025-02-11 10:53 ` |SUCCESS| " dpdklab
2025-02-11 10:54 ` |PENDING| " dpdklab
2025-02-11 11:11 ` dpdklab
2025-02-11 12:20 ` dpdklab
2025-02-11 12:37 ` |SUCCESS| " dpdklab
2025-02-11 13:01 ` dpdklab
2025-02-11 13:46 ` dpdklab
2025-02-11 14:09 ` dpdklab
2025-02-11 14:30 ` dpdklab

Reply instructions:

You may reply publicly to this message via plain-text email
using any one of the following methods:

* Save the following mbox file, import it into your mail client,
  and reply-to-all from there: mbox

  Avoid top-posting and favor interleaved quoting:
  https://en.wikipedia.org/wiki/Posting_style#Interleaved_style

* Reply using the --to, --cc, and --in-reply-to
  switches of git-send-email(1):

  git send-email \
    --in-reply-to=67ab2a24.050a0220.360ca7.4a25SMTPIN_ADDED_MISSING@mx.google.com \
    --to=dpdklab@iol.unh.edu \
    --cc=dpdk-test-reports@iol.unh.edu \
    --cc=test-report@dpdk.org \
    /path/to/YOUR_REPLY

  https://kernel.org/pub/software/scm/git/docs/git-send-email.html

* If your mail client supports setting the In-Reply-To header
  via mailto: links, try the mailto: link
Be sure your reply has a Subject: header at the top and a blank line before the message body.
This is a public inbox, see mirroring instructions
for how to clone and mirror all data and code used for this inbox;
as well as URLs for NNTP newsgroup(s).