From mboxrd@z Thu Jan 1 00:00:00 1970 Return-Path: Received: from mails.dpdk.org (mails.dpdk.org [217.70.189.124]) by inbox.dpdk.org (Postfix) with ESMTP id 45686461F6 for ; Tue, 11 Feb 2025 11:44:56 +0100 (CET) Received: from mails.dpdk.org (localhost [127.0.0.1]) by mails.dpdk.org (Postfix) with ESMTP id 2AE7D40156; Tue, 11 Feb 2025 11:44:56 +0100 (CET) Received: from mail-qk1-f226.google.com (mail-qk1-f226.google.com [209.85.222.226]) by mails.dpdk.org (Postfix) with ESMTP id 0AB8C40150 for ; Tue, 11 Feb 2025 11:44:55 +0100 (CET) Received: by mail-qk1-f226.google.com with SMTP id af79cd13be357-7c05dc87ad9so227813685a.3 for ; Tue, 11 Feb 2025 02:44:54 -0800 (PST) DKIM-Signature: v=1; a=rsa-sha256; c=relaxed/relaxed; d=iol.unh.edu; s=unh-iol; t=1739270694; x=1739875494; darn=dpdk.org; h=references:in-reply-to:cc:to:from:subject:message-id:date:from:to :cc:subject:date:message-id:reply-to; bh=LrznOiQs8F175R8ap8sMVjPar0h3txCU3GU2MJA3BqQ=; b=Ugd+ncq5E1HEgmgcdYh1joOog2dvf+EnHaJYcosCkVWnOXhxq26eK7w4JvGIy6Vq3G nc0i6a8kUyeWWeMvWU8v6MCi0QXYePin4U7SL/rfhYW81CySmc2kZIQfmYL+FzygyuyZ SIwTll0OBHSJcJS2PaU9Xa9LPkycu+Ukma+r0= X-Google-DKIM-Signature: v=1; a=rsa-sha256; c=relaxed/relaxed; d=1e100.net; s=20230601; t=1739270694; x=1739875494; h=references:in-reply-to:cc:to:from:subject:message-id:date :x-gm-message-state:from:to:cc:subject:date:message-id:reply-to; bh=LrznOiQs8F175R8ap8sMVjPar0h3txCU3GU2MJA3BqQ=; b=lmc8xvITDI78WkOaDygw5u+5FZ48ABvM+c0zhYGNkUbcaDS+5nQAijqNPRstQZ2zTv N0MqMgsDKleZGAI58KLM0MiCXboSHcpYYSiB9kVCJ65vFIMRT+zaMFrBk2QArl18zOsI QofAqzRrajVTRcvhfzFuWy5Qxy148McESmep4X+QBPeC6IdAZ5jU2MX0cEhqQ2GSod3g Vdm53abYiD3MIIzdkjCnPI6vCKCqS5wk55X6F8JxRvBTk7/VhG/OXZgX5OFumkfGgYZH lvm5E+7UKmzr9ph0st/qmaFAfM0aQHd64qzpx/VwHm9cG0lJMqjpHmCRoA0SRnScDMqF AExw== X-Gm-Message-State: AOJu0YycITR6AE0JrQVu7VljKpR+NfVEp+H9JQu4g92/umlG6/7+uIZG IGyYrzvk0Oz0tbdaby8xYkJA1m2r9rgxrgPpaLhepJVba3+J8uWnRqMaxz389ASvF2Xq7wfwuU3 KJ8XTFFdIGSl18XaoIQpqh+g/FVNiLhxWjFsisvoM X-Gm-Gg: ASbGnctz0/p5L35CdDH+ojMzEkxrOCLJzlwpRbZoswtVL9FuQ9ea5+eGDvPYyoPiwEb 2S6xLEi6UGvrmbLJTRFe+EpiJSwac5DhHy79aZKzh83ft3vybDw8JeP0TpR2aFnkyTq8E93wXKu dKf2I4VgBUGcdAN9DfPd3xhP3CUQqzlaN4QlRPhSL3ovfklF3C5atEwYS6kO4USKQF1WgmQCPU3 VqukG60tcE2u3gLXzoTQKNW61XKZpnjO1DkE+UeDkY/DUTGkcGlUGGTorlJioo7ywycFTQRsisL N8vWnh2TrBlbHIjkaC47Fd4B/H0KSA== X-Google-Smtp-Source: AGHT+IEvA8Ot5hji/k+vsT8ZlgnrhWNxYTFFoEj2cagtgiYa0OLUzE7HtTFZw9fwe/2BvevsMbAzk3vGl4CH X-Received: by 2002:a05:620a:4588:b0:7c0:6156:9d48 with SMTP id af79cd13be357-7c06156a12amr852239585a.31.1739270692964; Tue, 11 Feb 2025 02:44:52 -0800 (PST) Received: from postal.iol.unh.edu (postal.iol.unh.edu. [132.177.123.84]) by smtp-relay.gmail.com with ESMTPS id af79cd13be357-7c041e757c1sm73339685a.5.2025.02.11.02.44.52 (version=TLS1_2 cipher=ECDHE-ECDSA-AES128-GCM-SHA256 bits=128/128); Tue, 11 Feb 2025 02:44:52 -0800 (PST) X-Relaying-Domain: iol.unh.edu Date: Tue, 11 Feb 2025 02:44:52 -0800 (PST) Message-ID: <67ab2a24.050a0220.360ca7.4a25SMTPIN_ADDED_MISSING@mx.google.com> Received: from [172.21.0.7] (unknown [172.18.0.240]) by postal.iol.unh.edu (Postfix) with ESMTP id A05906052471; Tue, 11 Feb 2025 05:44:52 -0500 (EST) Subject: |SUCCESS| pw151325 [PATCH] [v7] net: add thread-safe crc api From: dpdklab@iol.unh.edu To: Test Report Cc: dpdk-test-reports@iol.unh.edu In-Reply-To: <20250211090202.1018656-1-arkadiuszx.kusztal@intel.com> References: <20250211090202.1018656-1-arkadiuszx.kusztal@intel.com> Content-Type: text/plain X-BeenThere: test-report@dpdk.org X-Mailman-Version: 2.1.29 Precedence: list List-Id: automatic DPDK test reports List-Unsubscribe: , List-Archive: List-Post: List-Help: List-Subscribe: , Errors-To: test-report-bounces@dpdk.org Test-Label: iol-compile-amd64-testing Test-Status: SUCCESS http://dpdk.org/patch/151325 _Testing PASS_ Submitter: Arkadiusz Kusztal Date: Tuesday, February 11 2025 09:02:02 DPDK git baseline: Repo:dpdk Branch: master CommitID:7125636162d67b1c40ba6802a3ff4466d125d243 151325 --> testing pass Upstream job id: Generic-VM-DPDK-Compile-Meson#33230 Test environment and result as below: +---------------------+-------------------------+-------------------+--------------------+ | Environment | dpdk_llvm_clang_compile | dpdk_msvc_compile | dpdk_meson_compile | +=====================+=========================+===================+====================+ | Windows Server 2022 | PASS | PASS | SKIPPED | +---------------------+-------------------------+-------------------+--------------------+ | FreeBSD 13.4 | SKIPPED | SKIPPED | PASS | +---------------------+-------------------------+-------------------+--------------------+ | FreeBSD 14.2 | SKIPPED | SKIPPED | PASS | +---------------------+-------------------------+-------------------+--------------------+ Windows Server 2022 Kernel: 10.0.20348.2031 Compiler: clang 15.0.7, gcc 14.1.0 (MinGW), and MSVC VS 19.39.33521 FreeBSD 13.4 Kernel: 13.4-RELEASE-p1 Compiler: clang 18.1.6 FreeBSD 14.2 Kernel: 14.2-RELEASE Compiler: clang 18.1.6 To view detailed results, visit: https://lab.dpdk.org/results/dashboard/patchsets/32558/ UNH-IOL DPDK Community Lab To manage your email subscriptions, visit: https://lab.dpdk.org/results/dashboard/preferences/subscriptions/