From mboxrd@z Thu Jan 1 00:00:00 1970 Return-Path: Received: from mails.dpdk.org (mails.dpdk.org [217.70.189.124]) by inbox.dpdk.org (Postfix) with ESMTP id 66253461F6 for ; Tue, 11 Feb 2025 12:11:30 +0100 (CET) Received: from mails.dpdk.org (localhost [127.0.0.1]) by mails.dpdk.org (Postfix) with ESMTP id 62A0640156; Tue, 11 Feb 2025 12:11:30 +0100 (CET) Received: from mail-il1-f227.google.com (mail-il1-f227.google.com [209.85.166.227]) by mails.dpdk.org (Postfix) with ESMTP id 68AD140150 for ; Tue, 11 Feb 2025 12:11:27 +0100 (CET) Received: by mail-il1-f227.google.com with SMTP id e9e14a558f8ab-3cfc8772469so19503915ab.3 for ; Tue, 11 Feb 2025 03:11:27 -0800 (PST) DKIM-Signature: v=1; a=rsa-sha256; c=relaxed/relaxed; d=iol.unh.edu; s=unh-iol; t=1739272287; x=1739877087; darn=dpdk.org; h=cc:to:from:subject:message-id:date:from:to:cc:subject:date :message-id:reply-to; bh=0phYJTUbDBUb5cMPAHgRQvVif5hLceuLmvIsT/8AlOE=; b=be2gDrHisBo8rKk1CSRKewLUDUVA5wSK/3Sowg45Ue7JWS17YXAfl5akKH5nCTpPlP lz1Ee/Ph1gPSmVa9GbyLojwo5bKgII+yRpXk0xR1lbneIAqxjlrkEOx8OOlgSo7R6lEF natrS+59bUAmB70sFuSS1VzCVJISFT1EG3km8= X-Google-DKIM-Signature: v=1; a=rsa-sha256; c=relaxed/relaxed; d=1e100.net; s=20230601; t=1739272287; x=1739877087; h=cc:to:from:subject:message-id:date:x-gm-message-state:from:to:cc :subject:date:message-id:reply-to; bh=0phYJTUbDBUb5cMPAHgRQvVif5hLceuLmvIsT/8AlOE=; b=Wd07ITogEguR3oEdcPjADfN8Mz3dMbchUhiQ33CoKf6mbCX5lF38rWeD+GVuUnYcH8 Ss9slQTopuX4GO6A42P/IjklkMAzxl5m+idIhm5KqY//WazlBkj1Uuk34DSkwliP42lM HtYqdAeyWef4AS16nPTJavwY7vm9dlEgdb6fp/S9ae0GwCfTl6+Wwq0Flsk3kcQloG5B qzAH7+uMYlU5jX6BSp9GpLfcfw65gGl7s6zmb+BZwkuKq9f2iU/n3R7qiRJrNuxbfbgC LwkvLtIMNMdW4QZPvzxZisUyEWC0lQ6OUCZk5/EX5cSDfqKa5mJg4ipvur7B0JqN8iyg 5lBQ== X-Gm-Message-State: AOJu0YzibxOSB2uOeE0YLp1AZ5PHZJaiBNhXtE8xMo5oz0ICigieWAc5 uCUZ/4QoD1WSYJzFf1IGm5G2N/fRkQyB9B1Qy4VnRXQXdwVhFhTzEr3rWSbYo5u1g+js/sBF4YO Bzwvi2QRkgxM0C5/j1DaDd1i8CzVvU6m01vmhFTxiHBuYUjA/ X-Gm-Gg: ASbGncugMqXpv+4K8+qNfFEiUhnT3F9HJ/Go+zbP4MO9jUnR5I7cjlTZiO65HyLOaIA nknHKyUwp+vbE5JvMoaPaJYFsZQpLjD4Vpdibe4bO2FIsJzgMuYI+W8ZI/slsQD7fOTZBiiYGUq xsEjj7SHM3yiWaLpE+WsWaDtHBdJeB2ZDwjqY6tmaZ+6PFBtSxLSwDpkVgZquy6EWZ12xASGc9o Bdo1yc410jYbkFUbrOvtqZfYiFVVP0iYG259awdTNCza8OGTEOjoMllcKGRviX6LBq04IcvvFm+ c9DEXiOqIXD2lr3hZJ86q6T+0D0Xl9whV4jGf7tSeQ== X-Google-Smtp-Source: AGHT+IG/PikefKtL4/GUqpt3IPDvoAZJu9hhgA5Z8kSCpdN91a9LcSlD4YmAfd1GyRz2nIoYVJEQwlc5l7kd X-Received: by 2002:a05:6e02:b4d:b0:3cf:ae67:4115 with SMTP id e9e14a558f8ab-3d13dd2547dmr97414295ab.8.1739272286757; Tue, 11 Feb 2025 03:11:26 -0800 (PST) Received: from postal.iol.unh.edu (postal.iol.unh.edu. [2606:4100:3880:1234::84]) by smtp-relay.gmail.com with ESMTPS id 8926c6da1cb9f-4ecf65bfdecsm244311173.61.2025.02.11.03.11.26 (version=TLS1_2 cipher=ECDHE-ECDSA-AES128-GCM-SHA256 bits=128/128); Tue, 11 Feb 2025 03:11:26 -0800 (PST) X-Relaying-Domain: iol.unh.edu Date: Tue, 11 Feb 2025 03:11:26 -0800 (PST) Message-ID: <67ab305e.050a0220.1f7a54.d010SMTPIN_ADDED_MISSING@mx.google.com> Received: from [172.21.0.6] (unknown [172.18.0.240]) by postal.iol.unh.edu (Postfix) with ESMTP id 4590B6052471; Tue, 11 Feb 2025 06:11:26 -0500 (EST) Subject: |SUCCESS| [GIT MASTER] c66daa12e76d7b4912cfb7109a761856a7a873ab From: dpdklab@iol.unh.edu To: Test Report Cc: dpdk-test-reports@iol.unh.edu, Xueming Li , Christian Ehrhardt , Kevin Traynor , Luca Boccassi Content-Type: text/plain X-BeenThere: test-report@dpdk.org X-Mailman-Version: 2.1.29 Precedence: list List-Id: automatic DPDK test reports List-Unsubscribe: , List-Archive: List-Post: List-Help: List-Subscribe: , Errors-To: test-report-bounces@dpdk.org _Testing PASS_ Branch: tags/v23.11 c66daa12e76d7b4912cfb7109a761856a7a873ab --> testing pass Upstream job id: Generic-Unit-Test-DPDK#313994 Test environment and result as below: +---------------------+----------------+ | Environment | dpdk_unit_test | +=====================+================+ | CentOS Stream 10 | PASS | +---------------------+----------------+ | Debian 12 | PASS | +---------------------+----------------+ | Fedora 40 | PASS | +---------------------+----------------+ | Debian Bullseye | PASS | +---------------------+----------------+ | Fedora 40 (Clang) | PASS | +---------------------+----------------+ | CentOS Stream 9 | PASS | +---------------------+----------------+ | RHEL9 | PASS | +---------------------+----------------+ | Ubuntu 20.04 | PASS | +---------------------+----------------+ | Fedora 41 | PASS | +---------------------+----------------+ | Fedora 41 (Clang) | PASS | +---------------------+----------------+ | Ubuntu 22.04 | PASS | +---------------------+----------------+ | RHEL8 | PASS | +---------------------+----------------+ | Ubuntu 24.04 | PASS | +---------------------+----------------+ | Windows Server 2022 | PASS | +---------------------+----------------+ CentOS Stream 10 Kernel: Depends on container host Compiler: gcc 14.2.1 20241104 (Red Hat 14.2.1-6) Debian 12 Kernel: Depends on container host Compiler: gcc (Debian 12.2.0-14) 12.2.0 Fedora 40 Kernel: Depends on container host Compiler: gcc 14.2.1 20240912 (Red Hat 14.2.1-3) Debian Bullseye Kernel: Depends on container host Compiler: gcc (Debian 10.2.1-6) 10.2.1 20210110 Fedora 40 (Clang) Kernel: Depends on container host Compiler: clang 18.1.8 (Fedora 18.1.8-1.fc40) CentOS Stream 9 Kernel: Depends on container host Compiler: gcc 11.5.0 20240719 (Red Hat 11.5.0-2) RHEL9 Kernel: Depends on container host Compiler: gcc 11.5.0 20240719 (Red Hat 11.5.0-2) Ubuntu 20.04 Kernel: Depends on container host Compiler: gcc (Ubuntu 9.4.0-1ubuntu1~20.04.2) 9.4.0 Fedora 41 Kernel: Depends on container host Compiler: gcc 14.2.1 20240912 (Red Hat 14.2.1-3) Fedora 41 (Clang) Kernel: Depends on container host Compiler: clang 19.1.5 (Fedora 19.1.5-1.fc41) Ubuntu 22.04 Kernel: Depends on container host Compiler: gcc (Ubuntu 11.4.0-1ubuntu1~22.04) 11.4.0 RHEL8 Kernel: Depends on container host Compiler: gcc 8.5.0 20210514 (Red Hat 8.5.0-22) Ubuntu 24.04 Kernel: Depends on container host Compiler: gcc (Ubuntu 13.3.0-6ubuntu2~24.04) 13.3.0 Windows Server 2022 Kernel: 10.0.20348.2031 Compiler: clang 15.0.7, gcc 14.1.0 (MinGW), and MSVC VS 19.39.33521 To view detailed results, visit: https://lab.dpdk.org/results/dashboard/tarballs/32538/ UNH-IOL DPDK Community Lab To manage your email subscriptions, visit: https://lab.dpdk.org/results/dashboard/preferences/subscriptions/