From mboxrd@z Thu Jan 1 00:00:00 1970 Return-Path: Received: from mails.dpdk.org (mails.dpdk.org [217.70.189.124]) by inbox.dpdk.org (Postfix) with ESMTP id 5DF28461F6 for ; Tue, 11 Feb 2025 13:01:59 +0100 (CET) Received: from mails.dpdk.org (localhost [127.0.0.1]) by mails.dpdk.org (Postfix) with ESMTP id 2FB0C40156; Tue, 11 Feb 2025 13:01:59 +0100 (CET) Received: from mail-oa1-f97.google.com (mail-oa1-f97.google.com [209.85.160.97]) by mails.dpdk.org (Postfix) with ESMTP id 97A6440150 for ; Tue, 11 Feb 2025 13:01:57 +0100 (CET) Received: by mail-oa1-f97.google.com with SMTP id 586e51a60fabf-2b89395a3efso931931fac.2 for ; Tue, 11 Feb 2025 04:01:57 -0800 (PST) DKIM-Signature: v=1; a=rsa-sha256; c=relaxed/relaxed; d=iol.unh.edu; s=unh-iol; t=1739275316; x=1739880116; darn=dpdk.org; h=cc:to:from:subject:message-id:date:from:to:cc:subject:date :message-id:reply-to; bh=RAgTG22hGIKNLg3efovT2JZc41Fk6sGPtGHrKHJpe4Q=; b=E/YfHlgNiLVMw2zpSFgCiOI1/e6hnCcQ5want6vWewGu4D0MIesLEvXjMuhYNQ5JQU xQ40n8vsIJNpkfeASCzx0p9eJFHuBVzNYqTmnxr7hX8TYiBehJ8VZ6FVUiwFYm8NcLW9 F3lsJxBmafrR5GbiS/U22LsKqq/bQV7WZamNo= X-Google-DKIM-Signature: v=1; a=rsa-sha256; c=relaxed/relaxed; d=1e100.net; s=20230601; t=1739275316; x=1739880116; h=cc:to:from:subject:message-id:date:x-gm-message-state:from:to:cc :subject:date:message-id:reply-to; bh=RAgTG22hGIKNLg3efovT2JZc41Fk6sGPtGHrKHJpe4Q=; b=DjSb/eKbMdOvXaFskfIs4KumDAchhbOTuegHYI5IL8cCkuVxaQNyzkwud6g9AP5MQR 3a7o0BaJeqTp1Yg6tAVmh+MVs9hR0QubJY2XoJH8Avb1B2lZcd1Fv2nEQw9WTCoHggM8 6DDUsi9Me2se//YRbu98vBoVJdQSsmkY41fueCS5+1q14MqYDojuFYoCzwvZfocFSfIY oRgF/x9Tb/47YXTaPJuzVm6AHjGcR8asCQv8LLFOG0hnxrclDogU783wDGudXcJIqGke 8z2NXDLERT6CM20vv7TiXLE0szB9yxPywXSeyURpnEdE0XGZp20vwp5PNhWNsTiSA7Zq JaLQ== X-Gm-Message-State: AOJu0Ywa5d5DDTGKF2ryQNOikvh9vYdVM6lnJ3LwMCdY0ppha5W7DqdO NwFV0gBVgqlvyqZvMsVw0zQgBcWbXR8eUfR0TSZngpOr0bbT7gm7/Ys8jPEinMAqvoi5VSvQ+WU CMaRCUXkXiLAvLIBwmAd3Tm2RlYtmGzW2O2gNZJdzXvTOSEJcOkQpcJKL X-Gm-Gg: ASbGnct9PA/ccHOydhhJ3084VDXhGyMBHwcJENbAJhiMeTSHimMXNmvfKUPU5TOgey8 pRqO791kvBWmr2cjCtWtW6wnUI8yuhOlsJuKz/k30tDQJF7oXROoNo9wFo9/z+4PybeSIbqs8WM yhQhUMZIFIBDpt/lc3pVprlDjqvt6Jx4BOoC+A+K47rq3/C8jlnhajbSYuuLCoeE7PiAqfsW3iV MBEiUBGYQkFMx4aLHSgR9jUuy3FQRKvSQCjg8OJgeW0hbaMG7sA9Hbrbvev36KQE83x087v8ZjY OWZOfuI424sdsoi40gkZKL6l8jJZH7GzI3hgAKZyRQ== X-Google-Smtp-Source: AGHT+IG0iJ7KsrcQsyYOg7L2G3SknhnIYhTUSjLmpNU/vZ9JARTO1G8dROY+bv1IB5dBALQOLaoFMhxSsOPl X-Received: by 2002:a05:6870:891f:b0:2b8:306f:c5b5 with SMTP id 586e51a60fabf-2b83eca3ff3mr10213706fac.7.1739275316663; Tue, 11 Feb 2025 04:01:56 -0800 (PST) Received: from postal.iol.unh.edu (postal.iol.unh.edu. [2606:4100:3880:1234::84]) by smtp-relay.gmail.com with ESMTPS id 586e51a60fabf-2b8c924a80csm22264fac.25.2025.02.11.04.01.56 (version=TLS1_2 cipher=ECDHE-ECDSA-AES128-GCM-SHA256 bits=128/128); Tue, 11 Feb 2025 04:01:56 -0800 (PST) X-Relaying-Domain: iol.unh.edu Date: Tue, 11 Feb 2025 04:01:56 -0800 (PST) Message-ID: <67ab3c34.050a0220.1007fb.11a8SMTPIN_ADDED_MISSING@mx.google.com> Received: from [172.21.0.5] (unknown [172.18.0.240]) by postal.iol.unh.edu (Postfix) with ESMTP id 084326052471; Tue, 11 Feb 2025 07:01:56 -0500 (EST) Subject: |SUCCESS| [GIT MASTER] d4d1e6c55a2f17785ee6be361599e1c5ab28f0fb From: dpdklab@iol.unh.edu To: Test Report Cc: dpdk-test-reports@iol.unh.edu, Stephen Hemminger Content-Type: text/plain X-BeenThere: test-report@dpdk.org X-Mailman-Version: 2.1.29 Precedence: list List-Id: automatic DPDK test reports List-Unsubscribe: , List-Archive: List-Post: List-Help: List-Subscribe: , Errors-To: test-report-bounces@dpdk.org _Testing PASS_ Branch: dpdk-next-net d4d1e6c55a2f17785ee6be361599e1c5ab28f0fb --> testing pass Upstream job id: Generic-Unit-Test-DPDK#314013 Test environment and result as below: +---------------------+----------------+ | Environment | dpdk_unit_test | +=====================+================+ | Debian Bullseye | PASS | +---------------------+----------------+ | CentOS Stream 9 | PASS | +---------------------+----------------+ | Debian 12 | PASS | +---------------------+----------------+ | CentOS Stream 10 | PASS | +---------------------+----------------+ | Fedora 40 | PASS | +---------------------+----------------+ | Fedora 40 (Clang) | PASS | +---------------------+----------------+ | Ubuntu 20.04 | PASS | +---------------------+----------------+ | RHEL8 | PASS | +---------------------+----------------+ | RHEL9 | PASS | +---------------------+----------------+ | Ubuntu 24.04 | PASS | +---------------------+----------------+ | Fedora 41 | PASS | +---------------------+----------------+ | Ubuntu 22.04 | PASS | +---------------------+----------------+ | Fedora 41 (Clang) | PASS | +---------------------+----------------+ | Windows Server 2022 | PASS | +---------------------+----------------+ Debian Bullseye Kernel: Depends on container host Compiler: gcc (Debian 10.2.1-6) 10.2.1 20210110 CentOS Stream 9 Kernel: Depends on container host Compiler: gcc 11.5.0 20240719 (Red Hat 11.5.0-2) Debian 12 Kernel: Depends on container host Compiler: gcc (Debian 12.2.0-14) 12.2.0 CentOS Stream 10 Kernel: Depends on container host Compiler: gcc 14.2.1 20241104 (Red Hat 14.2.1-6) Fedora 40 Kernel: Depends on container host Compiler: gcc 14.2.1 20240912 (Red Hat 14.2.1-3) Fedora 40 (Clang) Kernel: Depends on container host Compiler: clang 18.1.8 (Fedora 18.1.8-1.fc40) Ubuntu 20.04 Kernel: Depends on container host Compiler: gcc (Ubuntu 9.4.0-1ubuntu1~20.04.2) 9.4.0 RHEL8 Kernel: Depends on container host Compiler: gcc 8.5.0 20210514 (Red Hat 8.5.0-22) RHEL9 Kernel: Depends on container host Compiler: gcc 11.5.0 20240719 (Red Hat 11.5.0-2) Ubuntu 24.04 Kernel: Depends on container host Compiler: gcc (Ubuntu 13.3.0-6ubuntu2~24.04) 13.3.0 Fedora 41 Kernel: Depends on container host Compiler: gcc 14.2.1 20240912 (Red Hat 14.2.1-3) Ubuntu 22.04 Kernel: Depends on container host Compiler: gcc (Ubuntu 11.4.0-1ubuntu1~22.04) 11.4.0 Fedora 41 (Clang) Kernel: Depends on container host Compiler: clang 19.1.5 (Fedora 19.1.5-1.fc41) Windows Server 2022 Kernel: 10.0.20348.2031 Compiler: clang 15.0.7, gcc 14.1.0 (MinGW), and MSVC VS 19.39.33521 To view detailed results, visit: https://lab.dpdk.org/results/dashboard/tarballs/32539/ UNH-IOL DPDK Community Lab To manage your email subscriptions, visit: https://lab.dpdk.org/results/dashboard/preferences/subscriptions/