From mboxrd@z Thu Jan 1 00:00:00 1970 Return-Path: Received: from mails.dpdk.org (mails.dpdk.org [217.70.189.124]) by inbox.dpdk.org (Postfix) with ESMTP id AC5AA461F6 for ; Tue, 11 Feb 2025 13:37:09 +0100 (CET) Received: from mails.dpdk.org (localhost [127.0.0.1]) by mails.dpdk.org (Postfix) with ESMTP id A8FF640156; Tue, 11 Feb 2025 13:37:09 +0100 (CET) Received: from mail-yb1-f225.google.com (mail-yb1-f225.google.com [209.85.219.225]) by mails.dpdk.org (Postfix) with ESMTP id A22AD40150 for ; Tue, 11 Feb 2025 13:37:08 +0100 (CET) Received: by mail-yb1-f225.google.com with SMTP id 3f1490d57ef6-e5b296611d1so5196622276.1 for ; Tue, 11 Feb 2025 04:37:08 -0800 (PST) DKIM-Signature: v=1; a=rsa-sha256; c=relaxed/relaxed; d=iol.unh.edu; s=unh-iol; t=1739277428; x=1739882228; darn=dpdk.org; h=references:in-reply-to:cc:to:from:subject:message-id:date:from:to :cc:subject:date:message-id:reply-to; bh=AGcMlUPv/ePv22vnm9RvDtRgNuhPX0MvZOoTfxDajis=; b=IV+PLyCv4u5evU9Tx2dui9jW5x5epAPxe9IzSkPXrinfGpR2goXoho0xFqFnKFoVxZ TVafmvHigY8cVqO+JkRTo1+jdaq9KecbIbD1d2CdRM+IySgJEObRcqKVfQ1FURnetWg7 kr/3Plfoh4chF1NO3bhbM+xtkLQQhBF9LtQ4g= X-Google-DKIM-Signature: v=1; a=rsa-sha256; c=relaxed/relaxed; d=1e100.net; s=20230601; t=1739277428; x=1739882228; h=references:in-reply-to:cc:to:from:subject:message-id:date :x-gm-message-state:from:to:cc:subject:date:message-id:reply-to; bh=AGcMlUPv/ePv22vnm9RvDtRgNuhPX0MvZOoTfxDajis=; b=dqUejPlYP8SA8KG5IeNbXyVAIT2fGatWseHvhJBAXsUUaVJl1QGdFEX/47Yfb2BEzi Q0CqGXAkwXgVee/TsHjDqeD6sv542OkAoy5PgB7JEAnfNDvCKYbNuRQ0YgTgNKyQ4jt/ DvQrj8dcDjQApfngLorWFjLfqnBGgS++aAcwUYFIRwdk/NK1XPqcP4ZNI+MenGQaREda gS0QDRnH8SDy2SgRT81H60q8fa5NUyLrpbARpMZ3hHivEqpIJEY48ZGBJ8NCdJgA0B4r 0i/aClrQYq6LJi616kh5ZCWkZo4ok7CtqxetWF0Y0Px4rkxs0vU+IH+fMbeHOt9tMBjM 7KBw== X-Gm-Message-State: AOJu0YxY7qGnfa9IUnCOwyGvvCX+UvzndZDgkZ+Yf01+yg9cOY5UDsZ4 /RKeCiUqOQLnSiZc7SrmNUkBvPhKjDJMBE4eRjmbyNyQWe7YX8edCBGQuPzl3+WEJQlqJb+xj0C vFTsF2cA3gNHpuePDLFsGg11Mg1ScQVjs3WAIoHDe X-Gm-Gg: ASbGnctOBAzNVKw37CacMZBMf1xLhRi57p08Bn3EbZva+OzmFtVKkeu7C0gngMeQ3z4 H3y0py4T+ZTLfP3voQLxYKYtW2u+aBwBN913RHKVO0dxxg80pcz3MHQVPq+R5jZmVN80+hTahFf DdJUYsqjCC24sD5jPgMRmUbAl9A/GXgBElniB+R3AZ09kJiy7DM8QArp/zV8we4/jfc+0MLPCL0 kTXuR+VNZfc2HRKu8R8vD/d9KzMNRCqCrywa4yUjJzPtA5bJTBeHiLiCtV62SWfAs5xmSMuIGHe MUE8RExDc6CmzX5dXAqXGruZdt/8eA== X-Google-Smtp-Source: AGHT+IHNLxqcFJoRhoj0Tr34WkcFq+31tLeX1G4uMuVI1A9eFppftW+H80TFbhtvb587Jh8s4/2l23iOlWde X-Received: by 2002:a05:6902:220f:b0:e58:55be:b0ae with SMTP id 3f1490d57ef6-e5d944c9abfmr3557324276.14.1739277427983; Tue, 11 Feb 2025 04:37:07 -0800 (PST) Received: from postal.iol.unh.edu (postal.iol.unh.edu. [132.177.123.84]) by smtp-relay.gmail.com with ESMTPS id 3f1490d57ef6-e5b3a1f1188sm659471276.4.2025.02.11.04.37.07 (version=TLS1_2 cipher=ECDHE-ECDSA-AES128-GCM-SHA256 bits=128/128); Tue, 11 Feb 2025 04:37:07 -0800 (PST) X-Relaying-Domain: iol.unh.edu Date: Tue, 11 Feb 2025 04:37:07 -0800 (PST) Message-ID: <67ab4473.250a0220.7a57e.2f94SMTPIN_ADDED_MISSING@mx.google.com> Received: from [172.21.0.5] (unknown [172.18.0.240]) by postal.iol.unh.edu (Postfix) with ESMTP id 5DE5C6052471; Tue, 11 Feb 2025 07:37:07 -0500 (EST) Subject: |SUCCESS| pw151325 [PATCH] [v7] net: add thread-safe crc api From: dpdklab@iol.unh.edu To: Test Report Cc: dpdk-test-reports@iol.unh.edu In-Reply-To: <20250211090202.1018656-1-arkadiuszx.kusztal@intel.com> References: <20250211090202.1018656-1-arkadiuszx.kusztal@intel.com> Content-Type: text/plain X-BeenThere: test-report@dpdk.org X-Mailman-Version: 2.1.29 Precedence: list List-Id: automatic DPDK test reports List-Unsubscribe: , List-Archive: List-Post: List-Help: List-Subscribe: , Errors-To: test-report-bounces@dpdk.org Test-Label: iol-abi-testing Test-Status: SUCCESS http://dpdk.org/patch/151325 _Testing PASS_ Submitter: Arkadiusz Kusztal Date: Tuesday, February 11 2025 09:02:02 DPDK git baseline: Repo:dpdk Branch: master CommitID:7125636162d67b1c40ba6802a3ff4466d125d243 151325 --> testing pass Upstream job id: Generic-DPDK-Compile-ABI#115793 Test environment and result as below: +-------------------+----------+ | Environment | abi_test | +===================+==========+ | CentOS Stream 9 | PASS | +-------------------+----------+ | CentOS Stream 10 | PASS | +-------------------+----------+ | Debian 12 | PASS | +-------------------+----------+ | Debian Bullseye | PASS | +-------------------+----------+ | Fedora 40 (Clang) | PASS | +-------------------+----------+ | Fedora 40 | PASS | +-------------------+----------+ | Fedora 41 (Clang) | PASS | +-------------------+----------+ | openSUSE Leap 15 | PASS | +-------------------+----------+ | RHEL8 | PASS | +-------------------+----------+ | Ubuntu 22.04 | PASS | +-------------------+----------+ | RHEL9 | PASS | +-------------------+----------+ | Ubuntu 24.04 | PASS | +-------------------+----------+ | Fedora 41 | PASS | +-------------------+----------+ CentOS Stream 9 Kernel: Depends on container host Compiler: gcc 11.5.0 20240719 (Red Hat 11.5.0-2) CentOS Stream 10 Kernel: Depends on container host Compiler: gcc 14.2.1 20241104 (Red Hat 14.2.1-6) Debian 12 Kernel: Depends on container host Compiler: gcc (Debian 12.2.0-14) 12.2.0 Debian Bullseye Kernel: Depends on container host Compiler: gcc (Debian 10.2.1-6) 10.2.1 20210110 Fedora 40 (Clang) Kernel: Depends on container host Compiler: clang 18.1.8 (Fedora 18.1.8-1.fc40) Fedora 40 Kernel: Depends on container host Compiler: gcc 14.2.1 20240912 (Red Hat 14.2.1-3) Fedora 41 (Clang) Kernel: Depends on container host Compiler: clang 19.1.5 (Fedora 19.1.5-1.fc41) openSUSE Leap 15 Kernel: Depends on container host Compiler: gcc (SUSE Linux) 7.5.0 RHEL8 Kernel: Depends on container host Compiler: gcc 8.5.0 20210514 (Red Hat 8.5.0-22) Ubuntu 22.04 Kernel: Depends on container host Compiler: gcc (Ubuntu 11.4.0-1ubuntu1~22.04) 11.4.0 RHEL9 Kernel: Depends on container host Compiler: gcc 11.5.0 20240719 (Red Hat 11.5.0-2) Ubuntu 24.04 Kernel: Depends on container host Compiler: gcc (Ubuntu 13.3.0-6ubuntu2~24.04) 13.3.0 Fedora 41 Kernel: Depends on container host Compiler: gcc 14.2.1 20240912 (Red Hat 14.2.1-3) To view detailed results, visit: https://lab.dpdk.org/results/dashboard/patchsets/32558/ UNH-IOL DPDK Community Lab To manage your email subscriptions, visit: https://lab.dpdk.org/results/dashboard/preferences/subscriptions/