From mboxrd@z Thu Jan 1 00:00:00 1970 Return-Path: Received: from mails.dpdk.org (mails.dpdk.org [217.70.189.124]) by inbox.dpdk.org (Postfix) with ESMTP id BAE2F461F6 for ; Tue, 11 Feb 2025 13:46:33 +0100 (CET) Received: from mails.dpdk.org (localhost [127.0.0.1]) by mails.dpdk.org (Postfix) with ESMTP id 9640B40156; Tue, 11 Feb 2025 13:46:33 +0100 (CET) Received: from mail-pl1-f226.google.com (mail-pl1-f226.google.com [209.85.214.226]) by mails.dpdk.org (Postfix) with ESMTP id 42E9740150 for ; Tue, 11 Feb 2025 13:46:32 +0100 (CET) Received: by mail-pl1-f226.google.com with SMTP id d9443c01a7336-21f5660c2fdso74513095ad.2 for ; Tue, 11 Feb 2025 04:46:32 -0800 (PST) DKIM-Signature: v=1; a=rsa-sha256; c=relaxed/relaxed; d=iol.unh.edu; s=unh-iol; t=1739277991; x=1739882791; darn=dpdk.org; h=cc:to:from:subject:message-id:date:from:to:cc:subject:date :message-id:reply-to; bh=fB2WU9cb9GBy9UYjAbzCC2ds4/KRlxVuX0F/3DkXjzc=; b=a42hZ4AuqyUvpevtlmZ5gtQau8AlBpL/uMc5tyv9ZcaiGm6Evf+fzJ01GeMO2ZHl3m POw/2mW49iSgWeweC+iGYPv28V4PNbGFQMIBDFsZVqqqfPzfn4q5wm7hgIsVbfhQ6XaB EtNQVeX6f8tsn6cVCTRuMFarJLnYKEU90pM1Y= X-Google-DKIM-Signature: v=1; a=rsa-sha256; c=relaxed/relaxed; d=1e100.net; s=20230601; t=1739277991; x=1739882791; h=cc:to:from:subject:message-id:date:x-gm-message-state:from:to:cc :subject:date:message-id:reply-to; bh=fB2WU9cb9GBy9UYjAbzCC2ds4/KRlxVuX0F/3DkXjzc=; b=AinCbUK1tAYHnMSPOYoEP/6tBk/S11siB8vlV0dupgbH8tS+tQJd9ffnwGAg4ix7i7 2lfRHkkVbgpRkIVMsKoPWFKYsnA/XvBpDJt1rcDocXZMjI721jKyis8oFycykxIZHYyq qaZspN/lWawqlrq132xfIitu3xcg75QPPNskpZ5sLaOyJd9eTPkDiuhqFoRpoEWdyaaa mWwhM+gKwcfs6phvLYAnsNHsUZCZwA4t3GzfmUdTBnHUjUep0UZqXYABl3aPsHcAJfEa JEaMaSNZzdxyBH7c5zysp2gjaPLoY6XsoCcL/JIa4TSghAa2b5SsH9R4v/XaVJTpvkm9 b0+A== X-Gm-Message-State: AOJu0YwpDge5OSkAoJn1U/+LEKIeAUDC0uGxNreqdSGohOUxjBpror7z qqa4nkPFqmeUXym8AjYtqYcXIPhaQSvvtphZDClapmAo0PaYY9bFH1DdUKGtX6+wdD2U04sYk1L az00StFX7oIJ4vUuvu8ov59/lhTl599TseOaZpEAKIs0Q1vPu4jFPZgXj X-Gm-Gg: ASbGncvat4emOdxc/iI4B7mPPmTz4O+ZAHEsXUFMBonZUMD4EtRYSRzmv0DC91HfsYU qmMk3hfGi6uWgnxxvNJ2BbOMTVeLpxs9FRkl86/ldzyzdqGkknS62VKqynkuL0iVieMnpRkHLdW jTI9yFkO3Z0ehSC+dWwJ1gL/9uChp5omlh2xBkpkLjZY1d41hB4JR+dR7AZisgKpbTQ/R7W8eN8 C/eM/TLoLufXsFjdPl8Q7PJzdrcHzTDGtxtqo3sEcLDSkbC+1RKVpmVZQ17zlv4D7Qy/tOGJxkC vc1OwybJjrDhBH8pONx2tJspvXI3UQ6NNjR+RFA08Q== X-Google-Smtp-Source: AGHT+IG8wyyb1+FszpGAnoqjttjTA84cWLKVAXkogS0zW4xgwb/UC25VJl/ZgIhZqrJNcaBy2XwOfCEdmWwq X-Received: by 2002:a17:903:240f:b0:21f:768:cced with SMTP id d9443c01a7336-21f4e6a12dbmr274149975ad.8.1739277991309; Tue, 11 Feb 2025 04:46:31 -0800 (PST) Received: from postal.iol.unh.edu (postal.iol.unh.edu. [2606:4100:3880:1234::84]) by smtp-relay.gmail.com with ESMTPS id d9443c01a7336-21f572c33absm4927765ad.87.2025.02.11.04.46.31 (version=TLS1_2 cipher=ECDHE-ECDSA-AES128-GCM-SHA256 bits=128/128); Tue, 11 Feb 2025 04:46:31 -0800 (PST) X-Relaying-Domain: iol.unh.edu Date: Tue, 11 Feb 2025 04:46:31 -0800 (PST) Message-ID: <67ab46a7.170a0220.3edc9.92d7SMTPIN_ADDED_MISSING@mx.google.com> Received: from [172.21.0.7] (unknown [172.18.0.240]) by postal.iol.unh.edu (Postfix) with ESMTP id 64DA86052471; Tue, 11 Feb 2025 07:46:30 -0500 (EST) Subject: |SUCCESS| [GIT MASTER] d4d1e6c55a2f17785ee6be361599e1c5ab28f0fb From: dpdklab@iol.unh.edu To: Test Report Cc: dpdk-test-reports@iol.unh.edu, Stephen Hemminger Content-Type: text/plain X-BeenThere: test-report@dpdk.org X-Mailman-Version: 2.1.29 Precedence: list List-Id: automatic DPDK test reports List-Unsubscribe: , List-Archive: List-Post: List-Help: List-Subscribe: , Errors-To: test-report-bounces@dpdk.org _Testing PASS_ Branch: dpdk-next-net d4d1e6c55a2f17785ee6be361599e1c5ab28f0fb --> testing pass Upstream job id: Generic-Unit-Test-DPDK#314021 Test environment and result as below: +-----------------------------+----------------+---------------------------+--------------+------------------------------+ | Environment | dpdk_unit_test | cryptodev_sw_zuc_autotest | lpm_autotest | cryptodev_sw_snow3g_autotest | +=============================+================+===========================+==============+==============================+ | 32-bit Ubuntu 22.04.4 (ARM) | PASS | SKIPPED | SKIPPED | SKIPPED | +-----------------------------+----------------+---------------------------+--------------+------------------------------+ | CentOS Stream 9 (ARM) | PASS | SKIPPED | SKIPPED | SKIPPED | +-----------------------------+----------------+---------------------------+--------------+------------------------------+ | CentOS Stream 10 (ARM) | PASS | SKIPPED | SKIPPED | SKIPPED | +-----------------------------+----------------+---------------------------+--------------+------------------------------+ | Debian 12 (arm) | PASS | PASS | SKIPPED | PASS | +-----------------------------+----------------+---------------------------+--------------+------------------------------+ | Debian 11 (Buster) (ARM) | PASS | SKIPPED | SKIPPED | SKIPPED | +-----------------------------+----------------+---------------------------+--------------+------------------------------+ | Fedora 40 (ARM Clang) | PASS | SKIPPED | SKIPPED | SKIPPED | +-----------------------------+----------------+---------------------------+--------------+------------------------------+ | Fedora 40 (ARM) | PASS | SKIPPED | SKIPPED | SKIPPED | +-----------------------------+----------------+---------------------------+--------------+------------------------------+ | Fedora 41 (ARM Clang) | PASS | SKIPPED | SKIPPED | SKIPPED | +-----------------------------+----------------+---------------------------+--------------+------------------------------+ | Fedora 41 (ARM) | PASS | SKIPPED | SKIPPED | SKIPPED | +-----------------------------+----------------+---------------------------+--------------+------------------------------+ | Ubuntu 24.04 (ARM) | PASS | SKIPPED | SKIPPED | SKIPPED | +-----------------------------+----------------+---------------------------+--------------+------------------------------+ | Ubuntu 20.04 (ARM) | PASS | SKIPPED | SKIPPED | SKIPPED | +-----------------------------+----------------+---------------------------+--------------+------------------------------+ | Ubuntu 22.04 (ARM) | PASS | SKIPPED | SKIPPED | SKIPPED | +-----------------------------+----------------+---------------------------+--------------+------------------------------+ | RHEL9 (ARM) | PASS | SKIPPED | SKIPPED | SKIPPED | +-----------------------------+----------------+---------------------------+--------------+------------------------------+ | Ubuntu 20.04 ARM SVE | SKIPPED | SKIPPED | PASS | SKIPPED | +-----------------------------+----------------+---------------------------+--------------+------------------------------+ 32-bit Ubuntu 22.04.4 (ARM) Kernel: 5.15.83+ aarch64 Compiler: gcc (Ubuntu 11.4.0-1ubuntu1~22.04) 11.4.0 CentOS Stream 9 (ARM) Kernel: Depends on container host Compiler: gcc 11.5.0 20240719 (Red Hat 11.5.0-2) CentOS Stream 10 (ARM) Kernel: Depends on container host Compiler: gcc 14.2.1 20241104 (Red Hat 14.2.1-6) Debian 12 (arm) Kernel: Depends on container host Compiler: gcc (Debian 12.2.0-14) 12.2.0 Debian 11 (Buster) (ARM) Kernel: Depends on container host Compiler: gcc (Debian 10.2.1-6) 10.2.1 20210110 Fedora 40 (ARM Clang) Kernel: Depends on container host Compiler: clang 18.1.8 (Fedora 18.1.8-1.fc40) Fedora 40 (ARM) Kernel: Depends on container host Compiler: gcc 14.2.1 20240912 (Red Hat 14.2.1-3) Fedora 41 (ARM Clang) Kernel: Depends on container host Compiler: clang 19.1.5 (Fedora 19.1.5-1.fc41) Fedora 41 (ARM) Kernel: Depends on container host Compiler: gcc 14.2.1 20240912 (Red Hat 14.2.1-3) Ubuntu 24.04 (ARM) Kernel: Depends on container host Compiler: gcc (Ubuntu 13.3.0-6ubuntu2~24.04) 13.3.0 Ubuntu 20.04 (ARM) Kernel: Depends on container host Compiler: gcc (Ubuntu 9.4.0-1ubuntu1~20.04.2) 9.4.0 Ubuntu 22.04 (ARM) Kernel: Depends on container host Compiler: gcc (Ubuntu 11.4.0-1ubuntu1~22.04) 11.4.0 RHEL9 (ARM) Kernel: Depends on container host Compiler: gcc 11.5.0 20240719 (Red Hat 11.5.0-2) Ubuntu 20.04 ARM SVE Kernel: Depends on container host Compiler: gcc (Ubuntu 10.5.0-1ubuntu1~20.04) 10.5.0 To view detailed results, visit: https://lab.dpdk.org/results/dashboard/tarballs/32539/ UNH-IOL DPDK Community Lab To manage your email subscriptions, visit: https://lab.dpdk.org/results/dashboard/preferences/subscriptions/