From mboxrd@z Thu Jan 1 00:00:00 1970 Return-Path: Received: from mails.dpdk.org (mails.dpdk.org [217.70.189.124]) by inbox.dpdk.org (Postfix) with ESMTP id 6284F461F6 for ; Tue, 11 Feb 2025 13:53:10 +0100 (CET) Received: from mails.dpdk.org (localhost [127.0.0.1]) by mails.dpdk.org (Postfix) with ESMTP id 40D6540156; Tue, 11 Feb 2025 13:53:10 +0100 (CET) Received: from mail-pl1-f226.google.com (mail-pl1-f226.google.com [209.85.214.226]) by mails.dpdk.org (Postfix) with ESMTP id 523A340150 for ; Tue, 11 Feb 2025 13:53:09 +0100 (CET) Received: by mail-pl1-f226.google.com with SMTP id d9443c01a7336-21f53ad05a0so66263495ad.3 for ; Tue, 11 Feb 2025 04:53:09 -0800 (PST) DKIM-Signature: v=1; a=rsa-sha256; c=relaxed/relaxed; d=iol.unh.edu; s=unh-iol; t=1739278388; x=1739883188; darn=dpdk.org; h=cc:to:from:subject:message-id:date:from:to:cc:subject:date :message-id:reply-to; bh=7lnK4fLRarnXsG622saLdBezj5pknz7y5X97BIGkLdI=; b=JPI35WxzKy4D3iW4sRB7+kH5WOb0bAZIKXdxsKk7wVNPDuPeC82XHdY4jPMuVsq4qO vQF9AighVFE1Qj1kMKY7xMbFOrbJG33V03oJoViqecijp1XV9q3sWozLrOqyzWZB1kbA Inllzoi2TADzuvSjAgmxqgfRddf23jGIeP9ok= X-Google-DKIM-Signature: v=1; a=rsa-sha256; c=relaxed/relaxed; d=1e100.net; s=20230601; t=1739278388; x=1739883188; h=cc:to:from:subject:message-id:date:x-gm-message-state:from:to:cc :subject:date:message-id:reply-to; bh=7lnK4fLRarnXsG622saLdBezj5pknz7y5X97BIGkLdI=; b=ui5rPa8lsGwiju2/M3DIJXCjE3VwKchyEJdZGsOVHuCuYWKhySZJ6nvApykdC8IvAg lf3M4F0fMmOwrmeEzwGHTdSH5NKN05q5hZM03LRdxCuM+Y6mIc2NrFRCatnX0Zjq9FFW 2rfxY/uysuuEbSSyeRSk+1ZVT2nvvRTY4o1zTVOA407HwahEgGlmgX70HnCOxRHGxcSv ZovKb5r90pBEeVXbfEjegnIOM93A7hSnYJuEu3FuZSkvq8Pa68Mi2fJhiL1OkPQSnGbY fckbti32AgwRmjMCvnUlw3av0v0zUjm7Oo4GGZaL3y0JtSSM/inpMG6ppfgfaX3hXqxf snPA== X-Gm-Message-State: AOJu0YzYKoZ2/IvDON9KZM3qR4hIACFoY9qstWLkQMBL5KcBXxxSSBoF eOFh0I5VwnaGK579OuJeWrDFD0FgWDGORDlzbzpKsNdOQ1ir7bILSMOrtdZzy6UaBo7GqVqZgxw nXesv5tDSjIw4+a+coHwQyqvCvEq9kmpmM6eniDgHuOMZMFKr X-Gm-Gg: ASbGncspReIHNPTjJGStbw+Jsc9r2AqapGkuAMOf6myVvkJViUpUIaqHhz6G0HhhYp6 vbww3d+OrczpYKKymqKoKzf+gO2wrr3UPR7dekjutaqMRdT2Siikgg1D/r5EUjViGRr9P/2eL3n lfsSPnrn/BrRiQgjrdjDS+LPpR2qcOV45ECAmag6aD9ByiJ0J1944Dx7nDOqqtUNwPbq1oXDIrk Zpr8j+tj26mjdF7ubHloVGiMXvGsK26DPuj0eq7/DrEch0Cuis8rAEureUWovLU23x5WbSAD2ob fuQh+DJeLAU4DsdOYmbm2+KVgy6N9i0/qu+PjLzOMA== X-Google-Smtp-Source: AGHT+IHQrlq/HqtxBL+L2FlwUfvXnERTy/pVQFeC/NhsGf6UJsPbPwOogisu3w0Lj6onHMo0B6UUmDblnTA/ X-Received: by 2002:a05:6a20:938f:b0:1e1:b28e:a148 with SMTP id adf61e73a8af0-1ee49d388b8mr6308150637.5.1739278388427; Tue, 11 Feb 2025 04:53:08 -0800 (PST) Received: from postal.iol.unh.edu (postal.iol.unh.edu. [2606:4100:3880:1234::84]) by smtp-relay.gmail.com with ESMTPS id 41be03b00d2f7-ad51af472c5sm265822a12.21.2025.02.11.04.53.08 (version=TLS1_2 cipher=ECDHE-ECDSA-AES128-GCM-SHA256 bits=128/128); Tue, 11 Feb 2025 04:53:08 -0800 (PST) X-Relaying-Domain: iol.unh.edu Date: Tue, 11 Feb 2025 04:53:08 -0800 (PST) Message-ID: <67ab4834.050a0220.2397a9.ca86SMTPIN_ADDED_MISSING@mx.google.com> Received: from [172.21.0.6] (unknown [172.18.0.240]) by postal.iol.unh.edu (Postfix) with ESMTP id 6E8166052471; Tue, 11 Feb 2025 07:53:07 -0500 (EST) Subject: |SUCCESS| [GIT MASTER] 7ce7d3341d7e21c2a81f2fea8e451681d7306d77 From: dpdklab@iol.unh.edu To: Test Report Cc: dpdk-test-reports@iol.unh.edu, Xueming Li , Christian Ehrhardt , Kevin Traynor , Luca Boccassi Content-Type: text/plain X-BeenThere: test-report@dpdk.org X-Mailman-Version: 2.1.29 Precedence: list List-Id: automatic DPDK test reports List-Unsubscribe: , List-Archive: List-Post: List-Help: List-Subscribe: , Errors-To: test-report-bounces@dpdk.org _Testing PASS_ Branch: tags/v22.11 7ce7d3341d7e21c2a81f2fea8e451681d7306d77 --> testing pass Upstream job id: Generic-DPDK-Compile-Meson#360498 Test environment and result as below: +------------------------------------+--------------------+ | Environment | dpdk_meson_compile | +====================================+====================+ | RHEL9 (ARM) | PASS | +------------------------------------+--------------------+ | Ubuntu 20.04 ARM GCC Cross Compile | PASS | +------------------------------------+--------------------+ | Fedora 40 (ARM) | PASS | +------------------------------------+--------------------+ | Debian 12 with MUSDK | PASS | +------------------------------------+--------------------+ | Ubuntu 22.04 (ARM) | PASS | +------------------------------------+--------------------+ | Ubuntu 24.04 (ARM) | PASS | +------------------------------------+--------------------+ | Fedora 40 (ARM Clang) | PASS | +------------------------------------+--------------------+ | Fedora 41 (ARM) | PASS | +------------------------------------+--------------------+ | Ubuntu 20.04 (ARM) | PASS | +------------------------------------+--------------------+ | Fedora 41 (ARM Clang) | PASS | +------------------------------------+--------------------+ | Debian 11 (Buster) (ARM) | PASS | +------------------------------------+--------------------+ | CentOS Stream 10 (ARM) | PASS | +------------------------------------+--------------------+ | Debian 12 (arm) | PASS | +------------------------------------+--------------------+ | Ubuntu 20.04 ARM SVE | PASS | +------------------------------------+--------------------+ | CentOS Stream 9 (ARM) | PASS | +------------------------------------+--------------------+ RHEL9 (ARM) Kernel: Depends on container host Compiler: gcc 11.5.0 20240719 (Red Hat 11.5.0-2) Ubuntu 20.04 ARM GCC Cross Compile Kernel: Depends on container host Compiler: aarch64-linux-gnu-gcc (Ubuntu 9.4.0-1ubuntu1~20.04.2) 9.4.0 Fedora 40 (ARM) Kernel: Depends on container host Compiler: gcc 14.2.1 20240912 (Red Hat 14.2.1-3) Debian 12 with MUSDK Kernel: Depends on container host Compiler: gcc (Debian 12.2.0-14) 12.2.0 Ubuntu 22.04 (ARM) Kernel: Depends on container host Compiler: gcc (Ubuntu 11.4.0-1ubuntu1~22.04) 11.4.0 Ubuntu 24.04 (ARM) Kernel: Depends on container host Compiler: gcc (Ubuntu 13.3.0-6ubuntu2~24.04) 13.3.0 Fedora 40 (ARM Clang) Kernel: Depends on container host Compiler: clang 18.1.8 (Fedora 18.1.8-1.fc40) Fedora 41 (ARM) Kernel: Depends on container host Compiler: gcc 14.2.1 20240912 (Red Hat 14.2.1-3) Ubuntu 20.04 (ARM) Kernel: Depends on container host Compiler: gcc (Ubuntu 9.4.0-1ubuntu1~20.04.2) 9.4.0 Fedora 41 (ARM Clang) Kernel: Depends on container host Compiler: clang 19.1.5 (Fedora 19.1.5-1.fc41) Debian 11 (Buster) (ARM) Kernel: Depends on container host Compiler: gcc (Debian 10.2.1-6) 10.2.1 20210110 CentOS Stream 10 (ARM) Kernel: Depends on container host Compiler: gcc 14.2.1 20241104 (Red Hat 14.2.1-6) Debian 12 (arm) Kernel: Depends on container host Compiler: gcc (Debian 12.2.0-14) 12.2.0 Ubuntu 20.04 ARM SVE Kernel: Depends on container host Compiler: gcc (Ubuntu 10.5.0-1ubuntu1~20.04) 10.5.0 CentOS Stream 9 (ARM) Kernel: Depends on container host Compiler: gcc 11.5.0 20240719 (Red Hat 11.5.0-2) To view detailed results, visit: https://lab.dpdk.org/results/dashboard/tarballs/32537/ UNH-IOL DPDK Community Lab To manage your email subscriptions, visit: https://lab.dpdk.org/results/dashboard/preferences/subscriptions/