From mboxrd@z Thu Jan 1 00:00:00 1970 Return-Path: Received: from mails.dpdk.org (mails.dpdk.org [217.70.189.124]) by inbox.dpdk.org (Postfix) with ESMTP id A1C2F461F9 for ; Tue, 11 Feb 2025 14:01:59 +0100 (CET) Received: from mails.dpdk.org (localhost [127.0.0.1]) by mails.dpdk.org (Postfix) with ESMTP id A9BFE402DD; Tue, 11 Feb 2025 14:01:58 +0100 (CET) Received: from mail-pl1-f226.google.com (mail-pl1-f226.google.com [209.85.214.226]) by mails.dpdk.org (Postfix) with ESMTP id 4C137402DD for ; Tue, 11 Feb 2025 14:01:57 +0100 (CET) Received: by mail-pl1-f226.google.com with SMTP id d9443c01a7336-21f49837d36so62318815ad.3 for ; Tue, 11 Feb 2025 05:01:57 -0800 (PST) DKIM-Signature: v=1; a=rsa-sha256; c=relaxed/relaxed; d=iol.unh.edu; s=unh-iol; t=1739278916; x=1739883716; darn=dpdk.org; h=references:in-reply-to:cc:to:from:subject:message-id:date:from:to :cc:subject:date:message-id:reply-to; bh=RAnSDotAe2OvuV3jjlaV+ubFA91Qas6GQxxbQzQMYFY=; b=daaE45XyyJtQcD7n2Wg10/44Hk3a7jMNCnJTm2ftvNNg8nJNDjj5Af+BWsXHY9n8UJ wZi3UKKASTUATSEYYpABK21ao3JrFIvZ4lOEJCBLEJssFp8UsT6C2PnxKuOzGqqKTbgx IamX27GtCL3ggI791K2/VMd9571S89IvkqyDQ= X-Google-DKIM-Signature: v=1; a=rsa-sha256; c=relaxed/relaxed; d=1e100.net; s=20230601; t=1739278916; x=1739883716; h=references:in-reply-to:cc:to:from:subject:message-id:date :x-gm-message-state:from:to:cc:subject:date:message-id:reply-to; bh=RAnSDotAe2OvuV3jjlaV+ubFA91Qas6GQxxbQzQMYFY=; b=jb/uAjK2Uil09UC/YTMpHjvPjon3/t1L1fd0VPJMFtp6U+JrZgGS+jgmAzQC+ml0fQ HsxrWzGBdrV+vMLoNPe7w95QvknmcEUFZ8QIgTKzpk6uhwI+KCRDlH7oMcClpDkunnti ad+mSMkTs3uTHKvPj1XshC4cC+JVgjasWlOXVK6QroIOJVzKqk4fAylKfIn5sRoK28Lo Khdan0D/HYWX4eu3R3Gq+GD9U/ccXyCMmX6q9QhQHOMk7Xl2MS8lLFUCqvvA/l8rh5+W E7jHtOXFgoDDwoly5HtVOg6TDuF+VsV60ZjWjZFwe2F+V/UsvJo0j8h4n1idTUaVKsPg WGVg== X-Gm-Message-State: AOJu0YxzEV6R0wGkkeXN3kImzB9A6M5xibWRxVDOiA4t4DaMG5QPZ+W8 YoguxFEHUlZMkMlgZ/qeY5PzUU+XKguqJjajCmj0uzzlnJ54PeCE93DTQgELTjh3fYuTIWiDqGf J4PMt5pKp43p2wZGpCV8msXotjlxvpVH4gDm3O+tERmY9kRtIR7dHsrqU X-Gm-Gg: ASbGncuPsVASHeQmBjhneod7yjmKeMgMWugY5cr/+mtgSpU1VsibzyrVo9pMMoUGopj EhIIQH97Li+LpWBvkV88SHMxqzEpArdBm8hh3+Um4IVqIGjc4na3bjxczK9Nq8C9eWsnU7VdatZ OUa5Y9HTes+sREl3eKP2I8tDfnczt+XyCG+rzj0uy/K/cWuSa6Q09qPfz1G08gH046aMR3pxgNB 6cZ8Ro99+kbugS8afnWSSsyXDngRAtNREchJbSpBdX7PPZ6fkUhNTy0L+2ovHSZZIya2UA6pnfk XsGQ5RPyqD8M11rIlJa+fMkhW+BDQy8J2AXYTl/z0Q== X-Google-Smtp-Source: AGHT+IGAEfoXwWRzhM3bVzj7/rq9/LXMt6QCvAPof/eROuPZZ4i3D5dacqa2d7OkunJY13CVPOULmFQfiX67 X-Received: by 2002:a17:903:240f:b0:21f:768:cced with SMTP id d9443c01a7336-21f4e6a12dbmr274909565ad.8.1739278914918; Tue, 11 Feb 2025 05:01:54 -0800 (PST) Received: from postal.iol.unh.edu (postal.iol.unh.edu. [2606:4100:3880:1234::84]) by smtp-relay.gmail.com with ESMTPS id 98e67ed59e1d1-2fa4b46b495sm480847a91.2.2025.02.11.05.01.54 (version=TLS1_2 cipher=ECDHE-ECDSA-AES128-GCM-SHA256 bits=128/128); Tue, 11 Feb 2025 05:01:54 -0800 (PST) X-Relaying-Domain: iol.unh.edu Date: Tue, 11 Feb 2025 05:01:54 -0800 (PST) Message-ID: <67ab4a42.170a0220.93cd4.7f64SMTPIN_ADDED_MISSING@mx.google.com> Received: from [172.21.0.5] (unknown [172.18.0.240]) by postal.iol.unh.edu (Postfix) with ESMTP id 5DF3B6052471; Tue, 11 Feb 2025 08:01:54 -0500 (EST) Subject: |SUCCESS| pw151325 [PATCH] [v7] net: add thread-safe crc api From: dpdklab@iol.unh.edu To: Test Report Cc: dpdk-test-reports@iol.unh.edu In-Reply-To: <20250211090202.1018656-1-arkadiuszx.kusztal@intel.com> References: <20250211090202.1018656-1-arkadiuszx.kusztal@intel.com> Content-Type: text/plain X-BeenThere: test-report@dpdk.org X-Mailman-Version: 2.1.29 Precedence: list List-Id: automatic DPDK test reports List-Unsubscribe: , List-Archive: List-Post: List-Help: List-Subscribe: , Errors-To: test-report-bounces@dpdk.org Test-Label: iol-unit-amd64-testing Test-Status: SUCCESS http://dpdk.org/patch/151325 _Testing PASS_ Submitter: Arkadiusz Kusztal Date: Tuesday, February 11 2025 09:02:02 DPDK git baseline: Repo:dpdk Branch: master CommitID:7125636162d67b1c40ba6802a3ff4466d125d243 151325 --> testing pass Upstream job id: Generic-Unit-Test-DPDK#314037 Test environment and result as below: +---------------------+----------------+ | Environment | dpdk_unit_test | +=====================+================+ | CentOS Stream 9 | PASS | +---------------------+----------------+ | CentOS Stream 10 | PASS | +---------------------+----------------+ | Fedora 40 (Clang) | PASS | +---------------------+----------------+ | Debian Bullseye | PASS | +---------------------+----------------+ | Debian 12 | PASS | +---------------------+----------------+ | Fedora 40 | PASS | +---------------------+----------------+ | Fedora 41 | PASS | +---------------------+----------------+ | RHEL8 | PASS | +---------------------+----------------+ | Fedora 41 (Clang) | PASS | +---------------------+----------------+ | RHEL9 | PASS | +---------------------+----------------+ | Ubuntu 20.04 | PASS | +---------------------+----------------+ | Ubuntu 24.04 | PASS | +---------------------+----------------+ | Ubuntu 22.04 | PASS | +---------------------+----------------+ | Windows Server 2022 | PASS | +---------------------+----------------+ CentOS Stream 9 Kernel: Depends on container host Compiler: gcc 11.5.0 20240719 (Red Hat 11.5.0-2) CentOS Stream 10 Kernel: Depends on container host Compiler: gcc 14.2.1 20241104 (Red Hat 14.2.1-6) Fedora 40 (Clang) Kernel: Depends on container host Compiler: clang 18.1.8 (Fedora 18.1.8-1.fc40) Debian Bullseye Kernel: Depends on container host Compiler: gcc (Debian 10.2.1-6) 10.2.1 20210110 Debian 12 Kernel: Depends on container host Compiler: gcc (Debian 12.2.0-14) 12.2.0 Fedora 40 Kernel: Depends on container host Compiler: gcc 14.2.1 20240912 (Red Hat 14.2.1-3) Fedora 41 Kernel: Depends on container host Compiler: gcc 14.2.1 20240912 (Red Hat 14.2.1-3) RHEL8 Kernel: Depends on container host Compiler: gcc 8.5.0 20210514 (Red Hat 8.5.0-22) Fedora 41 (Clang) Kernel: Depends on container host Compiler: clang 19.1.5 (Fedora 19.1.5-1.fc41) RHEL9 Kernel: Depends on container host Compiler: gcc 11.5.0 20240719 (Red Hat 11.5.0-2) Ubuntu 20.04 Kernel: Depends on container host Compiler: gcc (Ubuntu 9.4.0-1ubuntu1~20.04.2) 9.4.0 Ubuntu 24.04 Kernel: Depends on container host Compiler: gcc (Ubuntu 13.3.0-6ubuntu2~24.04) 13.3.0 Ubuntu 22.04 Kernel: Depends on container host Compiler: gcc (Ubuntu 11.4.0-1ubuntu1~22.04) 11.4.0 Windows Server 2022 Kernel: 10.0.20348.2031 Compiler: clang 15.0.7, gcc 14.1.0 (MinGW), and MSVC VS 19.39.33521 To view detailed results, visit: https://lab.dpdk.org/results/dashboard/patchsets/32558/ UNH-IOL DPDK Community Lab To manage your email subscriptions, visit: https://lab.dpdk.org/results/dashboard/preferences/subscriptions/