From mboxrd@z Thu Jan 1 00:00:00 1970 Return-Path: Received: from mails.dpdk.org (mails.dpdk.org [217.70.189.124]) by inbox.dpdk.org (Postfix) with ESMTP id AB2A5461F9 for ; Tue, 11 Feb 2025 14:30:48 +0100 (CET) Received: from mails.dpdk.org (localhost [127.0.0.1]) by mails.dpdk.org (Postfix) with ESMTP id A7FEE40156; Tue, 11 Feb 2025 14:30:48 +0100 (CET) Received: from mail-pl1-f225.google.com (mail-pl1-f225.google.com [209.85.214.225]) by mails.dpdk.org (Postfix) with ESMTP id 5D71740150 for ; Tue, 11 Feb 2025 14:30:47 +0100 (CET) Received: by mail-pl1-f225.google.com with SMTP id d9443c01a7336-21f6d264221so37507355ad.1 for ; Tue, 11 Feb 2025 05:30:47 -0800 (PST) DKIM-Signature: v=1; a=rsa-sha256; c=relaxed/relaxed; d=iol.unh.edu; s=unh-iol; t=1739280646; x=1739885446; darn=dpdk.org; h=cc:to:from:subject:message-id:date:from:to:cc:subject:date :message-id:reply-to; bh=Ha5nwODd2281MdmpBpZB+/rLklzVQFzU6REehRQ8a7E=; b=fmasAomhJdLmgnEU7mwthcCxYoPgwhrIfBbSFb1bEBQOzQhD5oNFdskQS94uq/c+GP ky1SKBqKaWETDUy3VH0KO69GgQeOXjTqUD4zrgnf9g85HnjAMwGL/I5pRCrvzGZPCrkc v2jmnCCB1CNwFWAIykRj7UY6N9Qsh5evfGVaU= X-Google-DKIM-Signature: v=1; a=rsa-sha256; c=relaxed/relaxed; d=1e100.net; s=20230601; t=1739280646; x=1739885446; h=cc:to:from:subject:message-id:date:x-gm-message-state:from:to:cc :subject:date:message-id:reply-to; bh=Ha5nwODd2281MdmpBpZB+/rLklzVQFzU6REehRQ8a7E=; b=ZyjgRGZLr3lzBGJJI5B34LGZWqHESYhdrJoHiGQxOrApcqugwTnlPZfqItI/DWNpLC QaPR8RenYqi3BFsKqNXdJVy14JfWtcrcDA07W6rk15Axp2W7SNx3E5AF4dRZxRtnvP4k lp5DaD4CBs1+8JKk6pq/BPl948lhtPJOy5iALgZSkEpwsjKVb75Qyfhrvf2S7W69IA0Z dTnGVrXMZHHxeZL5mtSzUjtegWjjIJLWyCzbD2XeHuuK0+jfVuypNS5DzijXyY0RzXYA TsR6fbEyl+J25irDu/4smVl3dyg5pCcZlUHRW0QfNb64Hkd1XyI92tGyU1f02hdCZNge Vngw== X-Gm-Message-State: AOJu0YzhnvGB3p2AznQB4yiOFB9MoWEYRdN/5sIosz4UyUTUcAK2huir h0dXL0/Ij5lHB/hkdmJgRf8r3xIgtm3oJpDd23t+Sz2lWnx1/qrdYdl4UcJFMS4vZs0DPLvSnOD 0l2iMjJmcNx1fvvLaizBGTm2huItbtOi+m4FRGCfnsjN/khEJI/me0tes X-Gm-Gg: ASbGncvxzMHPNlkN4OGXdjDFGxDpBK3/kUQ5DjvujMgeCb1VSLaT3W8TcrZPaf1xc6B zB95qRC7bB6XV9xJ4yoJjteEyfbLym7KrUwG+xXpBkJqJ/97BbZ9LRKEgsNPtzRNhCAzxePy/yZ g4+/LxgKVyx/jPdIsWIgH/aP4uTRFG/UfH63mVxl1n5YVxrfBj9+FvtTK4zIoYk+8J4XoPihvAV 3CjSHcRwY4seR2rA5rxyZXD7Qt7TtlHJRzrP+2LsJGnMmgV+fajdbeddSUILHn89nO8G16omiZ1 hrTOrXY4TVqXHzY6ZcGwnum05ubbp+uSr8AKhHpvVA== X-Google-Smtp-Source: AGHT+IE4unLcBUZlyh0Sw3YY5GhkP+R0N+r7b0CjGVmCMZPjIMkoFInLqGwtqretlRYnYVUL7RN0pZCOt5wO X-Received: by 2002:a17:902:f54a:b0:215:44fe:163e with SMTP id d9443c01a7336-21f4e1cf11emr257311165ad.1.1739280646435; Tue, 11 Feb 2025 05:30:46 -0800 (PST) Received: from postal.iol.unh.edu (postal.iol.unh.edu. [2606:4100:3880:1234::84]) by smtp-relay.gmail.com with ESMTPS id d9443c01a7336-21f36839873sm6283885ad.86.2025.02.11.05.30.46 (version=TLS1_2 cipher=ECDHE-ECDSA-AES128-GCM-SHA256 bits=128/128); Tue, 11 Feb 2025 05:30:46 -0800 (PST) X-Relaying-Domain: iol.unh.edu Date: Tue, 11 Feb 2025 05:30:46 -0800 (PST) Message-ID: <67ab5106.170a0220.34607b.fe74SMTPIN_ADDED_MISSING@mx.google.com> Received: from [172.21.0.6] (unknown [172.18.0.240]) by postal.iol.unh.edu (Postfix) with ESMTP id C57076052471; Tue, 11 Feb 2025 08:30:45 -0500 (EST) Subject: |SUCCESS| [GIT MASTER] d4d1e6c55a2f17785ee6be361599e1c5ab28f0fb From: dpdklab@iol.unh.edu To: Test Report Cc: dpdk-test-reports@iol.unh.edu, Stephen Hemminger Content-Type: text/plain X-BeenThere: test-report@dpdk.org X-Mailman-Version: 2.1.29 Precedence: list List-Id: automatic DPDK test reports List-Unsubscribe: , List-Archive: List-Post: List-Help: List-Subscribe: , Errors-To: test-report-bounces@dpdk.org _Testing PASS_ Branch: dpdk-next-net d4d1e6c55a2f17785ee6be361599e1c5ab28f0fb --> testing pass Upstream job id: Generic-DPDK-Compile-Meson#360552 Test environment and result as below: +---------------------+--------------------+-------------------+-------------------------+----------------------+-------------------+------------------+ | Environment | dpdk_meson_compile | dpdk_msvc_compile | dpdk_llvm_clang_compile | dpdk_mingw64_compile | dpdk_compile_spdk | dpdk_compile_ovs | +=====================+====================+===================+=========================+======================+===================+==================+ | FreeBSD 13.4 | PASS | SKIPPED | SKIPPED | SKIPPED | SKIPPED | SKIPPED | +---------------------+--------------------+-------------------+-------------------------+----------------------+-------------------+------------------+ | FreeBSD 14.2 | PASS | SKIPPED | SKIPPED | SKIPPED | SKIPPED | SKIPPED | +---------------------+--------------------+-------------------+-------------------------+----------------------+-------------------+------------------+ | CentOS Stream 9 | PASS | SKIPPED | SKIPPED | SKIPPED | PASS | SKIPPED | +---------------------+--------------------+-------------------+-------------------------+----------------------+-------------------+------------------+ | CentOS Stream 10 | PASS | SKIPPED | SKIPPED | SKIPPED | SKIPPED | SKIPPED | +---------------------+--------------------+-------------------+-------------------------+----------------------+-------------------+------------------+ | Debian Bullseye | PASS | SKIPPED | SKIPPED | SKIPPED | PASS | SKIPPED | +---------------------+--------------------+-------------------+-------------------------+----------------------+-------------------+------------------+ | Debian 12 | PASS | SKIPPED | SKIPPED | SKIPPED | PASS | SKIPPED | +---------------------+--------------------+-------------------+-------------------------+----------------------+-------------------+------------------+ | Fedora 40 (Clang) | PASS | SKIPPED | SKIPPED | SKIPPED | PASS | SKIPPED | +---------------------+--------------------+-------------------+-------------------------+----------------------+-------------------+------------------+ | Fedora 40 | PASS | SKIPPED | SKIPPED | SKIPPED | PASS | SKIPPED | +---------------------+--------------------+-------------------+-------------------------+----------------------+-------------------+------------------+ | Fedora 41 (Clang) | PASS | SKIPPED | SKIPPED | SKIPPED | PASS | PASS | +---------------------+--------------------+-------------------+-------------------------+----------------------+-------------------+------------------+ | Fedora 41 | PASS | SKIPPED | SKIPPED | SKIPPED | PASS | PASS | +---------------------+--------------------+-------------------+-------------------------+----------------------+-------------------+------------------+ | openSUSE Leap 15 | PASS | SKIPPED | SKIPPED | SKIPPED | SKIPPED | SKIPPED | +---------------------+--------------------+-------------------+-------------------------+----------------------+-------------------+------------------+ | RHEL8 | PASS | SKIPPED | SKIPPED | SKIPPED | SKIPPED | SKIPPED | +---------------------+--------------------+-------------------+-------------------------+----------------------+-------------------+------------------+ | RHEL9 | PASS | SKIPPED | SKIPPED | SKIPPED | SKIPPED | SKIPPED | +---------------------+--------------------+-------------------+-------------------------+----------------------+-------------------+------------------+ | Ubuntu 20.04 | PASS | SKIPPED | SKIPPED | SKIPPED | SKIPPED | SKIPPED | +---------------------+--------------------+-------------------+-------------------------+----------------------+-------------------+------------------+ | Ubuntu 22.04 | PASS | SKIPPED | SKIPPED | SKIPPED | PASS | SKIPPED | +---------------------+--------------------+-------------------+-------------------------+----------------------+-------------------+------------------+ | Ubuntu 24.04 | PASS | SKIPPED | SKIPPED | SKIPPED | PASS | PASS | +---------------------+--------------------+-------------------+-------------------------+----------------------+-------------------+------------------+ | Alpine | PASS | SKIPPED | SKIPPED | SKIPPED | SKIPPED | SKIPPED | +---------------------+--------------------+-------------------+-------------------------+----------------------+-------------------+------------------+ | Windows Server 2022 | SKIPPED | PASS | PASS | PASS | SKIPPED | SKIPPED | +---------------------+--------------------+-------------------+-------------------------+----------------------+-------------------+------------------+ FreeBSD 13.4 Kernel: 13.4-RELEASE-p1 Compiler: clang 18.1.6 FreeBSD 14.2 Kernel: 14.2-RELEASE Compiler: clang 18.1.6 CentOS Stream 9 Kernel: Depends on container host Compiler: gcc 11.5.0 20240719 (Red Hat 11.5.0-2) CentOS Stream 10 Kernel: Depends on container host Compiler: gcc 14.2.1 20241104 (Red Hat 14.2.1-6) Debian Bullseye Kernel: Depends on container host Compiler: gcc (Debian 10.2.1-6) 10.2.1 20210110 Debian 12 Kernel: Depends on container host Compiler: gcc (Debian 12.2.0-14) 12.2.0 Fedora 40 (Clang) Kernel: Depends on container host Compiler: clang 18.1.8 (Fedora 18.1.8-1.fc40) Fedora 40 Kernel: Depends on container host Compiler: gcc 14.2.1 20240912 (Red Hat 14.2.1-3) Fedora 41 (Clang) Kernel: Depends on container host Compiler: clang 19.1.5 (Fedora 19.1.5-1.fc41) Fedora 41 Kernel: Depends on container host Compiler: gcc 14.2.1 20240912 (Red Hat 14.2.1-3) openSUSE Leap 15 Kernel: Depends on container host Compiler: gcc (SUSE Linux) 7.5.0 RHEL8 Kernel: Depends on container host Compiler: gcc 8.5.0 20210514 (Red Hat 8.5.0-22) RHEL9 Kernel: Depends on container host Compiler: gcc 11.5.0 20240719 (Red Hat 11.5.0-2) Ubuntu 20.04 Kernel: Depends on container host Compiler: gcc (Ubuntu 9.4.0-1ubuntu1~20.04.2) 9.4.0 Ubuntu 22.04 Kernel: Depends on container host Compiler: gcc (Ubuntu 11.4.0-1ubuntu1~22.04) 11.4.0 Ubuntu 24.04 Kernel: Depends on container host Compiler: gcc (Ubuntu 13.3.0-6ubuntu2~24.04) 13.3.0 Alpine Kernel: Depends on container host Compiler: gcc (Alpine 14.2.0) 14.2.0 Windows Server 2022 Kernel: 10.0.20348.2031 Compiler: clang 15.0.7, gcc 14.1.0 (MinGW), and MSVC VS 19.39.33521 To view detailed results, visit: https://lab.dpdk.org/results/dashboard/tarballs/32539/ UNH-IOL DPDK Community Lab To manage your email subscriptions, visit: https://lab.dpdk.org/results/dashboard/preferences/subscriptions/