From mboxrd@z Thu Jan 1 00:00:00 1970 Return-Path: Received: from mails.dpdk.org (mails.dpdk.org [217.70.189.124]) by inbox.dpdk.org (Postfix) with ESMTP id 64DD6461F9 for ; Tue, 11 Feb 2025 14:47:01 +0100 (CET) Received: from mails.dpdk.org (localhost [127.0.0.1]) by mails.dpdk.org (Postfix) with ESMTP id 3817B40156; Tue, 11 Feb 2025 14:47:01 +0100 (CET) Received: from mail-pl1-f226.google.com (mail-pl1-f226.google.com [209.85.214.226]) by mails.dpdk.org (Postfix) with ESMTP id 0A7D040150 for ; Tue, 11 Feb 2025 14:47:00 +0100 (CET) Received: by mail-pl1-f226.google.com with SMTP id d9443c01a7336-21f6f18b474so43012695ad.1 for ; Tue, 11 Feb 2025 05:46:59 -0800 (PST) DKIM-Signature: v=1; a=rsa-sha256; c=relaxed/relaxed; d=iol.unh.edu; s=unh-iol; t=1739281619; x=1739886419; darn=dpdk.org; h=references:in-reply-to:cc:to:from:subject:message-id:date:from:to :cc:subject:date:message-id:reply-to; bh=Fwt7Vnr2WOPow52nR5c8VrveRZ2DsJH6eBHM52YkF70=; b=i+HCqT3s9b+JBkLrFcTZcMHnl2HMLlmsWJd2TqadL1ysKo+4YbVht+gsKBIxlZaut7 1VEnHZDtrAzNue3LT35GPx+C3lRrhVcehwZ12hVQVHoZH57nNj8AmmzfhvuqDbBwPUa3 RY1Ly6lQOUPhDx2dwi3LCawo/ib4bOolJWfl0= X-Google-DKIM-Signature: v=1; a=rsa-sha256; c=relaxed/relaxed; d=1e100.net; s=20230601; t=1739281619; x=1739886419; h=references:in-reply-to:cc:to:from:subject:message-id:date :x-gm-message-state:from:to:cc:subject:date:message-id:reply-to; bh=Fwt7Vnr2WOPow52nR5c8VrveRZ2DsJH6eBHM52YkF70=; b=B9JVIKv28ndYtAjC6ECfetK/bVmVJT711feCtRUFOr8r5aCslhqAq/0IutWaq1ZFa4 bkfJGKgPB2bURgcwZusshQfeMjHpZ+mjLWZNbkz62YyCDBl0thFzgsYf6WBN5pYc4+xU DlSJtiqRrRT5zd18o8tRpKx1FUMUCPStwVGdhHJMxkHGjz9K13xfsROBrpx2vKyMyAta f1gBtIzVj99nVj96MSn8dXVjHZ7u8X0unn5vkff0ty62jbeqSiuqQG50N+WQ6uDnvHWJ 8H7Ujv0PHKkCbdfNf3taHD4TOuRypy4oSgPswVmG78cijWG8odVAQpJeRNUhLQlhmly8 DDPw== X-Gm-Message-State: AOJu0YwmBljB3bSlrMWS2zx6kgkFT/2gzu80GOJ3ZVpD5egtFUM5bMbK Bnjf4+iwGKO4NJCi+BHOl5stwZU6lQM3b9bHJvoaLyG5JroaUNlUaBByCZsQ5jWvE9ZsFbqQPu0 y/9ecoSHurkHHmkzmsv/97DVkil0XZLrQDXzSjDetf50FzMrddCvcbOi2 X-Gm-Gg: ASbGncsA6sT9o1VT5rohIaH3RUJ4DAFam1L3OfNFa6crlXVjD/JBsmhXs/ZjpjhaIa/ BPKyog07F/m1rrU/TK687+WCFu6gixB2Pzdak5d0PyGjoRe9bpQ9wFg0794XRaKwIhU3qARUnOq dPoxiLTkyIYpYeXTFYpZxuXOj6Id1Nc9W0xzuGvW1EdF8MUp+Ys0s6beR5BvZnzxFwnWbk1Bac/ FMcHQEAELv01vM35dNegw1+Egyw1Ohq3m0PAj1KJ6mIZ8NGxpQCk+OzNhahr64CDyhzoU/I/uK1 ASuDFJ3Z7hCWQtSOq6NCCx4zxoRF88Jh8hTtp77Agg== X-Google-Smtp-Source: AGHT+IEIG5jfwr51s2gjiRWuele3scO1CGoP9V+WjBXQ1hfZV9CDhYHIfz+sha5ZvwpdG7ccrJyAl+3D4rDj X-Received: by 2002:a17:902:f60a:b0:21f:3e2d:7d48 with SMTP id d9443c01a7336-21f4e129872mr289766525ad.0.1739281619038; Tue, 11 Feb 2025 05:46:59 -0800 (PST) Received: from postal.iol.unh.edu (postal.iol.unh.edu. [2606:4100:3880:1234::84]) by smtp-relay.gmail.com with ESMTPS id d9443c01a7336-21f3656d5adsm6121285ad.54.2025.02.11.05.46.58 (version=TLS1_2 cipher=ECDHE-ECDSA-AES128-GCM-SHA256 bits=128/128); Tue, 11 Feb 2025 05:46:59 -0800 (PST) X-Relaying-Domain: iol.unh.edu Date: Tue, 11 Feb 2025 05:46:59 -0800 (PST) Message-ID: <67ab54d3.170a0220.2acdbc.f7cbSMTPIN_ADDED_MISSING@mx.google.com> Received: from [172.21.0.5] (unknown [172.18.0.240]) by postal.iol.unh.edu (Postfix) with ESMTP id 709036052471; Tue, 11 Feb 2025 08:46:58 -0500 (EST) Subject: |SUCCESS| pw151325 [PATCH] [v7] net: add thread-safe crc api From: dpdklab@iol.unh.edu To: Test Report Cc: dpdk-test-reports@iol.unh.edu In-Reply-To: <20250211090202.1018656-1-arkadiuszx.kusztal@intel.com> References: <20250211090202.1018656-1-arkadiuszx.kusztal@intel.com> Content-Type: text/plain X-BeenThere: test-report@dpdk.org X-Mailman-Version: 2.1.29 Precedence: list List-Id: automatic DPDK test reports List-Unsubscribe: , List-Archive: List-Post: List-Help: List-Subscribe: , Errors-To: test-report-bounces@dpdk.org Test-Label: iol-compile-amd64-testing Test-Status: SUCCESS http://dpdk.org/patch/151325 _Testing PASS_ Submitter: Arkadiusz Kusztal Date: Tuesday, February 11 2025 09:02:02 DPDK git baseline: Repo:dpdk Branch: master CommitID:7125636162d67b1c40ba6802a3ff4466d125d243 151325 --> testing pass Upstream job id: Generic-DPDK-Compile-Meson#360601 Test environment and result as below: +---------------------+-------------------------+-------------------+--------------------+-------------------+------------------+----------------------+ | Environment | dpdk_llvm_clang_compile | dpdk_msvc_compile | dpdk_meson_compile | dpdk_compile_spdk | dpdk_compile_ovs | dpdk_mingw64_compile | +=====================+=========================+===================+====================+===================+==================+======================+ | Windows Server 2022 | PASS | PASS | SKIPPED | SKIPPED | SKIPPED | PASS | +---------------------+-------------------------+-------------------+--------------------+-------------------+------------------+----------------------+ | FreeBSD 13.4 | SKIPPED | SKIPPED | PASS | SKIPPED | SKIPPED | SKIPPED | +---------------------+-------------------------+-------------------+--------------------+-------------------+------------------+----------------------+ | FreeBSD 14.2 | SKIPPED | SKIPPED | PASS | SKIPPED | SKIPPED | SKIPPED | +---------------------+-------------------------+-------------------+--------------------+-------------------+------------------+----------------------+ | CentOS Stream 9 | SKIPPED | SKIPPED | PASS | PASS | SKIPPED | SKIPPED | +---------------------+-------------------------+-------------------+--------------------+-------------------+------------------+----------------------+ | CentOS Stream 10 | SKIPPED | SKIPPED | PASS | SKIPPED | SKIPPED | SKIPPED | +---------------------+-------------------------+-------------------+--------------------+-------------------+------------------+----------------------+ | Debian Bullseye | SKIPPED | SKIPPED | PASS | PASS | SKIPPED | SKIPPED | +---------------------+-------------------------+-------------------+--------------------+-------------------+------------------+----------------------+ | Debian 12 | SKIPPED | SKIPPED | PASS | PASS | SKIPPED | SKIPPED | +---------------------+-------------------------+-------------------+--------------------+-------------------+------------------+----------------------+ | Fedora 40 (Clang) | SKIPPED | SKIPPED | PASS | PASS | SKIPPED | SKIPPED | +---------------------+-------------------------+-------------------+--------------------+-------------------+------------------+----------------------+ | Fedora 40 | SKIPPED | SKIPPED | PASS | PASS | SKIPPED | SKIPPED | +---------------------+-------------------------+-------------------+--------------------+-------------------+------------------+----------------------+ | Fedora 41 (Clang) | SKIPPED | SKIPPED | PASS | PASS | PASS | SKIPPED | +---------------------+-------------------------+-------------------+--------------------+-------------------+------------------+----------------------+ | Fedora 41 | SKIPPED | SKIPPED | PASS | PASS | PASS | SKIPPED | +---------------------+-------------------------+-------------------+--------------------+-------------------+------------------+----------------------+ | openSUSE Leap 15 | SKIPPED | SKIPPED | PASS | SKIPPED | SKIPPED | SKIPPED | +---------------------+-------------------------+-------------------+--------------------+-------------------+------------------+----------------------+ | RHEL8 | SKIPPED | SKIPPED | PASS | SKIPPED | SKIPPED | SKIPPED | +---------------------+-------------------------+-------------------+--------------------+-------------------+------------------+----------------------+ | RHEL9 | SKIPPED | SKIPPED | PASS | SKIPPED | SKIPPED | SKIPPED | +---------------------+-------------------------+-------------------+--------------------+-------------------+------------------+----------------------+ | Ubuntu 20.04 | SKIPPED | SKIPPED | PASS | SKIPPED | SKIPPED | SKIPPED | +---------------------+-------------------------+-------------------+--------------------+-------------------+------------------+----------------------+ | Ubuntu 22.04 | SKIPPED | SKIPPED | PASS | PASS | SKIPPED | SKIPPED | +---------------------+-------------------------+-------------------+--------------------+-------------------+------------------+----------------------+ | Ubuntu 24.04 | SKIPPED | SKIPPED | PASS | PASS | PASS | SKIPPED | +---------------------+-------------------------+-------------------+--------------------+-------------------+------------------+----------------------+ | Alpine | SKIPPED | SKIPPED | PASS | SKIPPED | SKIPPED | SKIPPED | +---------------------+-------------------------+-------------------+--------------------+-------------------+------------------+----------------------+ Windows Server 2022 Kernel: 10.0.20348.2031 Compiler: clang 15.0.7, gcc 14.1.0 (MinGW), and MSVC VS 19.39.33521 FreeBSD 13.4 Kernel: 13.4-RELEASE-p1 Compiler: clang 18.1.6 FreeBSD 14.2 Kernel: 14.2-RELEASE Compiler: clang 18.1.6 CentOS Stream 9 Kernel: Depends on container host Compiler: gcc 11.5.0 20240719 (Red Hat 11.5.0-2) CentOS Stream 10 Kernel: Depends on container host Compiler: gcc 14.2.1 20241104 (Red Hat 14.2.1-6) Debian Bullseye Kernel: Depends on container host Compiler: gcc (Debian 10.2.1-6) 10.2.1 20210110 Debian 12 Kernel: Depends on container host Compiler: gcc (Debian 12.2.0-14) 12.2.0 Fedora 40 (Clang) Kernel: Depends on container host Compiler: clang 18.1.8 (Fedora 18.1.8-1.fc40) Fedora 40 Kernel: Depends on container host Compiler: gcc 14.2.1 20240912 (Red Hat 14.2.1-3) Fedora 41 (Clang) Kernel: Depends on container host Compiler: clang 19.1.5 (Fedora 19.1.5-1.fc41) Fedora 41 Kernel: Depends on container host Compiler: gcc 14.2.1 20240912 (Red Hat 14.2.1-3) openSUSE Leap 15 Kernel: Depends on container host Compiler: gcc (SUSE Linux) 7.5.0 RHEL8 Kernel: Depends on container host Compiler: gcc 8.5.0 20210514 (Red Hat 8.5.0-22) RHEL9 Kernel: Depends on container host Compiler: gcc 11.5.0 20240719 (Red Hat 11.5.0-2) Ubuntu 20.04 Kernel: Depends on container host Compiler: gcc (Ubuntu 9.4.0-1ubuntu1~20.04.2) 9.4.0 Ubuntu 22.04 Kernel: Depends on container host Compiler: gcc (Ubuntu 11.4.0-1ubuntu1~22.04) 11.4.0 Ubuntu 24.04 Kernel: Depends on container host Compiler: gcc (Ubuntu 13.3.0-6ubuntu2~24.04) 13.3.0 Alpine Kernel: Depends on container host Compiler: gcc (Alpine 14.2.0) 14.2.0 To view detailed results, visit: https://lab.dpdk.org/results/dashboard/patchsets/32558/ UNH-IOL DPDK Community Lab To manage your email subscriptions, visit: https://lab.dpdk.org/results/dashboard/preferences/subscriptions/