From mboxrd@z Thu Jan 1 00:00:00 1970 Return-Path: Received: from mails.dpdk.org (mails.dpdk.org [217.70.189.124]) by inbox.dpdk.org (Postfix) with ESMTP id BDF84461F9 for ; Tue, 11 Feb 2025 15:09:06 +0100 (CET) Received: from mails.dpdk.org (localhost [127.0.0.1]) by mails.dpdk.org (Postfix) with ESMTP id BB00D402C6; Tue, 11 Feb 2025 15:09:06 +0100 (CET) Received: from mail-io1-f98.google.com (mail-io1-f98.google.com [209.85.166.98]) by mails.dpdk.org (Postfix) with ESMTP id E72DA402C3 for ; Tue, 11 Feb 2025 15:09:04 +0100 (CET) Received: by mail-io1-f98.google.com with SMTP id ca18e2360f4ac-8552ae0fc4dso157043939f.1 for ; Tue, 11 Feb 2025 06:09:04 -0800 (PST) DKIM-Signature: v=1; a=rsa-sha256; c=relaxed/relaxed; d=iol.unh.edu; s=unh-iol; t=1739282944; x=1739887744; darn=dpdk.org; h=references:in-reply-to:cc:to:from:subject:message-id:date:from:to :cc:subject:date:message-id:reply-to; bh=ffxl3EmiW6rhyfz5PNf/g03a/jgfi55/vN2WjRaOTwE=; b=Mp0XvuGjOeXqP5XVjjWMnkuAFXfN/ao2EUVH83MB//XYV7CNl2h6aW+5I8HswHBAU2 em4qQLdWSwh8YF5oMcQmNv05eNLYzoOrC0UIID+Pi/FANMi710XpU8Y66I4JhYRjvj1f rpfWkiQUCKcd040NLq/Qha4XJ3nGa7cvKtQ2Y= X-Google-DKIM-Signature: v=1; a=rsa-sha256; c=relaxed/relaxed; d=1e100.net; s=20230601; t=1739282944; x=1739887744; h=references:in-reply-to:cc:to:from:subject:message-id:date :x-gm-message-state:from:to:cc:subject:date:message-id:reply-to; bh=ffxl3EmiW6rhyfz5PNf/g03a/jgfi55/vN2WjRaOTwE=; b=dyDSt/WamRdtTIE7GsNhuEfYKXSFVwsJHTJr4Mw8Y0Y+Ov8DGzxKPUIa545qRasudT RSI4yGQm12k0K8CuH74Tg5/ZMgmqHPnsA15Pan/zev1XCPd7aYb9luKzgpIPpP+C8Oac TSIvy/l803apHZKy27S6Ap1Ipd54OPHLkoNvxdJeHnUc4A2WYFW+nVNmHSPpQVGPWY0p 7GqyV8KiSalrVPXdy80wFlAecLjOAvWJOoOMmofosduWINse7my6yQfEcmHNwaeYfW2k hzXXWFb6RjeUenCWdbUOqUN/5Kv2NEKIkRD8UL0T05KvxhWx5wu/amgFZYRMh3E5rI/H sLiA== X-Gm-Message-State: AOJu0YwzEu9pLuG9OPOW8uWLyUyHVB9qTyJ188zdi8yjklL0T/YMTk9K PzuA75VmqewanGDlzQ9mi4C+a/aBZoDI0S+OLytpfVZGhWCmAfOdbl8qt0Bl8ZEhv9ZQ9lD/3vK nMc8gPwkwqSWjGrmwZlZ9U49Y3rckgWpm9JJrWTPLTcxJ7KjKKZ7lpRW/ X-Gm-Gg: ASbGncsxjpnSN6EYBDkaarB02SPxHHDC9td0XzurSZ0VaWpyVn6FbByXKETz+GtTIAq LD/p1lRvK3/512j4z6vwlEtLJ5QIVQc4EgdBe0DaZm4mtPbfm/9Rdz53zX3sojfepBKLf/vA5L8 4ceP6TvwN26rbYlwl1OelyRMSX/QaKxU+eHPFZoveUEFcdFz97YmZdS2qQGH4sQe5IO9A5ckjl7 rrmsX+IpL0vhzTtQUMncflWQGD1sI2ROF1xGjeutoyW7ZoV9Fb6nIrmF0QTdqBtFskOxeuzMEWr fUbV84VEXF5JJDIFW1dtlQb4ycVQ5mIK+HqEPFwutA== X-Google-Smtp-Source: AGHT+IHN1Gk+HJUpHkIKVHFE3VTb7xV1EimEOcTFMwNnrCc1q8bS4F3AnvQiWDpYqTTNvdMLYjZtzC9d754F X-Received: by 2002:a05:6e02:b21:b0:3d0:4bce:cfa8 with SMTP id e9e14a558f8ab-3d16e4560d9mr35368515ab.3.1739282944353; Tue, 11 Feb 2025 06:09:04 -0800 (PST) Received: from postal.iol.unh.edu (postal.iol.unh.edu. [2606:4100:3880:1234::84]) by smtp-relay.gmail.com with ESMTPS id e9e14a558f8ab-3d05e8fd95bsm7493535ab.16.2025.02.11.06.09.04 (version=TLS1_2 cipher=ECDHE-ECDSA-AES128-GCM-SHA256 bits=128/128); Tue, 11 Feb 2025 06:09:04 -0800 (PST) X-Relaying-Domain: iol.unh.edu Date: Tue, 11 Feb 2025 06:09:04 -0800 (PST) Message-ID: <67ab5a00.920a0220.27439f.6da5SMTPIN_ADDED_MISSING@mx.google.com> Received: from [172.21.0.5] (unknown [172.18.0.240]) by postal.iol.unh.edu (Postfix) with ESMTP id B5C966052471; Tue, 11 Feb 2025 09:09:03 -0500 (EST) Subject: |SUCCESS| pw151325 [PATCH] [v7] net: add thread-safe crc api From: dpdklab@iol.unh.edu To: Test Report Cc: dpdk-test-reports@iol.unh.edu In-Reply-To: <20250211090202.1018656-1-arkadiuszx.kusztal@intel.com> References: <20250211090202.1018656-1-arkadiuszx.kusztal@intel.com> Content-Type: text/plain X-BeenThere: test-report@dpdk.org X-Mailman-Version: 2.1.29 Precedence: list List-Id: automatic DPDK test reports List-Unsubscribe: , List-Archive: List-Post: List-Help: List-Subscribe: , Errors-To: test-report-bounces@dpdk.org Test-Label: iol-unit-arm64-testing Test-Status: SUCCESS http://dpdk.org/patch/151325 _Testing PASS_ Submitter: Arkadiusz Kusztal Date: Tuesday, February 11 2025 09:02:02 DPDK git baseline: Repo:dpdk Branch: master CommitID:7125636162d67b1c40ba6802a3ff4466d125d243 151325 --> testing pass Upstream job id: Generic-Unit-Test-DPDK#314051 Test environment and result as below: +-----------------------------+----------------+------------------------------+--------------+---------------------------+ | Environment | dpdk_unit_test | cryptodev_sw_snow3g_autotest | lpm_autotest | cryptodev_sw_zuc_autotest | +=============================+================+==============================+==============+===========================+ | 32-bit Ubuntu 22.04.4 (ARM) | PASS | SKIPPED | SKIPPED | SKIPPED | +-----------------------------+----------------+------------------------------+--------------+---------------------------+ | CentOS Stream 10 (ARM) | PASS | SKIPPED | SKIPPED | SKIPPED | +-----------------------------+----------------+------------------------------+--------------+---------------------------+ | CentOS Stream 9 (ARM) | PASS | SKIPPED | SKIPPED | SKIPPED | +-----------------------------+----------------+------------------------------+--------------+---------------------------+ | Debian 11 (Buster) (ARM) | PASS | SKIPPED | SKIPPED | SKIPPED | +-----------------------------+----------------+------------------------------+--------------+---------------------------+ | Fedora 40 (ARM Clang) | PASS | SKIPPED | SKIPPED | SKIPPED | +-----------------------------+----------------+------------------------------+--------------+---------------------------+ | Fedora 41 (ARM) | PASS | SKIPPED | SKIPPED | SKIPPED | +-----------------------------+----------------+------------------------------+--------------+---------------------------+ | Fedora 40 (ARM) | PASS | SKIPPED | SKIPPED | SKIPPED | +-----------------------------+----------------+------------------------------+--------------+---------------------------+ | Debian 12 (arm) | PASS | PASS | SKIPPED | PASS | +-----------------------------+----------------+------------------------------+--------------+---------------------------+ | Fedora 41 (ARM Clang) | PASS | SKIPPED | SKIPPED | SKIPPED | +-----------------------------+----------------+------------------------------+--------------+---------------------------+ | RHEL9 (ARM) | PASS | SKIPPED | SKIPPED | SKIPPED | +-----------------------------+----------------+------------------------------+--------------+---------------------------+ | Ubuntu 20.04 (ARM) | PASS | SKIPPED | SKIPPED | SKIPPED | +-----------------------------+----------------+------------------------------+--------------+---------------------------+ | Ubuntu 22.04 (ARM) | PASS | SKIPPED | SKIPPED | SKIPPED | +-----------------------------+----------------+------------------------------+--------------+---------------------------+ | Ubuntu 24.04 (ARM) | PASS | SKIPPED | SKIPPED | SKIPPED | +-----------------------------+----------------+------------------------------+--------------+---------------------------+ | Ubuntu 20.04 ARM SVE | SKIPPED | SKIPPED | PASS | SKIPPED | +-----------------------------+----------------+------------------------------+--------------+---------------------------+ 32-bit Ubuntu 22.04.4 (ARM) Kernel: 5.15.83+ aarch64 Compiler: gcc (Ubuntu 11.4.0-1ubuntu1~22.04) 11.4.0 CentOS Stream 10 (ARM) Kernel: Depends on container host Compiler: gcc 14.2.1 20241104 (Red Hat 14.2.1-6) CentOS Stream 9 (ARM) Kernel: Depends on container host Compiler: gcc 11.5.0 20240719 (Red Hat 11.5.0-2) Debian 11 (Buster) (ARM) Kernel: Depends on container host Compiler: gcc (Debian 10.2.1-6) 10.2.1 20210110 Fedora 40 (ARM Clang) Kernel: Depends on container host Compiler: clang 18.1.8 (Fedora 18.1.8-1.fc40) Fedora 41 (ARM) Kernel: Depends on container host Compiler: gcc 14.2.1 20240912 (Red Hat 14.2.1-3) Fedora 40 (ARM) Kernel: Depends on container host Compiler: gcc 14.2.1 20240912 (Red Hat 14.2.1-3) Debian 12 (arm) Kernel: Depends on container host Compiler: gcc (Debian 12.2.0-14) 12.2.0 Fedora 41 (ARM Clang) Kernel: Depends on container host Compiler: clang 19.1.5 (Fedora 19.1.5-1.fc41) RHEL9 (ARM) Kernel: Depends on container host Compiler: gcc 11.5.0 20240719 (Red Hat 11.5.0-2) Ubuntu 20.04 (ARM) Kernel: Depends on container host Compiler: gcc (Ubuntu 9.4.0-1ubuntu1~20.04.2) 9.4.0 Ubuntu 22.04 (ARM) Kernel: Depends on container host Compiler: gcc (Ubuntu 11.4.0-1ubuntu1~22.04) 11.4.0 Ubuntu 24.04 (ARM) Kernel: Depends on container host Compiler: gcc (Ubuntu 13.3.0-6ubuntu2~24.04) 13.3.0 Ubuntu 20.04 ARM SVE Kernel: Depends on container host Compiler: gcc (Ubuntu 10.5.0-1ubuntu1~20.04) 10.5.0 To view detailed results, visit: https://lab.dpdk.org/results/dashboard/patchsets/32558/ UNH-IOL DPDK Community Lab To manage your email subscriptions, visit: https://lab.dpdk.org/results/dashboard/preferences/subscriptions/