From mboxrd@z Thu Jan 1 00:00:00 1970 Return-Path: Received: from mails.dpdk.org (mails.dpdk.org [217.70.189.124]) by inbox.dpdk.org (Postfix) with ESMTP id 208D7461F9 for ; Tue, 11 Feb 2025 15:26:08 +0100 (CET) Received: from mails.dpdk.org (localhost [127.0.0.1]) by mails.dpdk.org (Postfix) with ESMTP id EAF03402D1; Tue, 11 Feb 2025 15:26:07 +0100 (CET) Received: from mail-qv1-f97.google.com (mail-qv1-f97.google.com [209.85.219.97]) by mails.dpdk.org (Postfix) with ESMTP id 17029402C9 for ; Tue, 11 Feb 2025 15:26:07 +0100 (CET) Received: by mail-qv1-f97.google.com with SMTP id 6a1803df08f44-6e45dd13b24so20375606d6.0 for ; Tue, 11 Feb 2025 06:26:07 -0800 (PST) DKIM-Signature: v=1; a=rsa-sha256; c=relaxed/relaxed; d=iol.unh.edu; s=unh-iol; t=1739283966; x=1739888766; darn=dpdk.org; h=references:in-reply-to:cc:to:from:subject:message-id:date:from:to :cc:subject:date:message-id:reply-to; bh=uRM/ckOc3HZxaji19losN+H2ZaMA1Pzga4g9skbSfmU=; b=U6yAIBrBirQq4w91b8TnYGShIJGEU66VGpo6QD5i1CH1RzkQEMuuIZcRLLbc93pGCL 5O/JjnUGcYwrU516VLH0iW5C2sJ6+AC8K56EMvuRQpWTxjmabPj6FXTLadRI60o5+gg9 oRBimLzVP5HDCYGWiDJB0GGK8qkpXMUVRrZAQ= X-Google-DKIM-Signature: v=1; a=rsa-sha256; c=relaxed/relaxed; d=1e100.net; s=20230601; t=1739283966; x=1739888766; h=references:in-reply-to:cc:to:from:subject:message-id:date :x-gm-message-state:from:to:cc:subject:date:message-id:reply-to; bh=uRM/ckOc3HZxaji19losN+H2ZaMA1Pzga4g9skbSfmU=; b=ECYzz4JXDWEaRrQeYJccSazs2uwSJ2zXibffE53/qA4/AfZ0YmY3pTRtbhap1IOOZx 8dqeQMA0RSg/tRxBN5jpTWjl7MEyAJV30VR9oCoIEh4UlF7I5EaVvcC4bjauGqVkozfE J/mtIUDFBe85V+HMNQfy97JHohI7wPZYLOflPIpQdhbFirl1nwiP8ik6X80wFyqKVeqA Z0NUJ33pquRIlrN7jCTy/Sv8hjOsS58so9xjr//1SQ5OBsrzx1mmRY5iiZ4qNpDJauPB IaRVO2J0YigAY7NZoVlPuL1T1ovHJsAnlDzASin9TNjgq736auYVSbKM/nPzY8DNQ3FK zp/w== X-Gm-Message-State: AOJu0Yye3DHX8xLxvBL1GBAGX/PY5557+HrVhTC7VUZUhcHPWqUbtjlP rqRJPgHKaGZVvR6zm9cGTrkfdqhOfeQCbJUBWvA4n5hMzuBbMfG1IPCphfiLYUAjsDjP4o6+v5a maAW9tCSkVbMzn7hxkGxfwTZq7bnMTfcig6OowwIj X-Gm-Gg: ASbGncuBaS/34ranBNZL9fkrnBelFlkGSSFWR+Mfk06RMDmf6Nbfi3EdxmoHhhQdfar lJmtOJpSWRmcCUyI8nWifnOorq5d2zSBKZHXkJ8eHW3S7iPCqtpUp910m3cgYh4M5Lei03UJRLp ZVOzUatJreKC/LPp12guY0DciHCVRQEu2LqYE/zzW766bOjgmId2xQJboKpUlLMhlai1/olA+2w eoOWPHZ9Ww4ErermVLlzUtCCl3kLo5wzvpr9+4kGXY5khZBU11TWJXrmt16vzNQKrgUBZdHDlrJ 923ttCrzpVWD8BKzgVn3ni+AqubsXw== X-Google-Smtp-Source: AGHT+IETw8oBs7WoSu3U7weQl/1hEFwdFBISbBxLdDUmz8bvs8SOYpSSy8l/8iHaEoXdgsLi9Zgdqq8e/v+E X-Received: by 2002:ad4:5caf:0:b0:6dd:d3b:de38 with SMTP id 6a1803df08f44-6e445619c15mr321860286d6.16.1739283966498; Tue, 11 Feb 2025 06:26:06 -0800 (PST) Received: from postal.iol.unh.edu (postal.iol.unh.edu. [132.177.123.84]) by smtp-relay.gmail.com with ESMTPS id 6a1803df08f44-6e46146943esm2794186d6.67.2025.02.11.06.26.06 (version=TLS1_2 cipher=ECDHE-ECDSA-AES128-GCM-SHA256 bits=128/128); Tue, 11 Feb 2025 06:26:06 -0800 (PST) X-Relaying-Domain: iol.unh.edu Date: Tue, 11 Feb 2025 06:26:06 -0800 (PST) Message-ID: <67ab5dfe.050a0220.1e2c5c.ed61SMTPIN_ADDED_MISSING@mx.google.com> Received: from [172.21.0.6] (unknown [172.18.0.240]) by postal.iol.unh.edu (Postfix) with ESMTP id 27DF56052471; Tue, 11 Feb 2025 09:26:06 -0500 (EST) Subject: |SUCCESS| pw151296 [PATCH] mbuf: enable to be compiled with MSVC From: dpdklab@iol.unh.edu To: Test Report Cc: dpdk-test-reports@iol.unh.edu In-Reply-To: <1739224265-4158-1-git-send-email-andremue@linux.microsoft.com> References: <1739224265-4158-1-git-send-email-andremue@linux.microsoft.com> Content-Type: text/plain X-BeenThere: test-report@dpdk.org X-Mailman-Version: 2.1.29 Precedence: list List-Id: automatic DPDK test reports List-Unsubscribe: , List-Archive: List-Post: List-Help: List-Subscribe: , Errors-To: test-report-bounces@dpdk.org Test-Label: iol-abi-testing Test-Status: SUCCESS http://dpdk.org/patch/151296 _Testing PASS_ Submitter: Andre Muezerie Date: Monday, February 10 2025 21:51:05 DPDK git baseline: Repo:dpdk Branch: master CommitID:9d29cd6dc87d6c35c52194a5f7a34f2d84140353 151296 --> testing pass Upstream job id: Generic-DPDK-Compile-ABI#115804 Test environment and result as below: +-------------------+----------+ | Environment | abi_test | +===================+==========+ | CentOS Stream 9 | PASS | +-------------------+----------+ | CentOS Stream 10 | PASS | +-------------------+----------+ | Debian Bullseye | PASS | +-------------------+----------+ | Fedora 40 (Clang) | PASS | +-------------------+----------+ | Debian 12 | PASS | +-------------------+----------+ | Fedora 41 (Clang) | PASS | +-------------------+----------+ | Fedora 41 | PASS | +-------------------+----------+ | openSUSE Leap 15 | PASS | +-------------------+----------+ | RHEL8 | PASS | +-------------------+----------+ | RHEL9 | PASS | +-------------------+----------+ | Ubuntu 22.04 | PASS | +-------------------+----------+ | Ubuntu 24.04 | PASS | +-------------------+----------+ CentOS Stream 9 Kernel: Depends on container host Compiler: gcc 11.5.0 20240719 (Red Hat 11.5.0-2) CentOS Stream 10 Kernel: Depends on container host Compiler: gcc 14.2.1 20241104 (Red Hat 14.2.1-6) Debian Bullseye Kernel: Depends on container host Compiler: gcc (Debian 10.2.1-6) 10.2.1 20210110 Fedora 40 (Clang) Kernel: Depends on container host Compiler: clang 18.1.8 (Fedora 18.1.8-1.fc40) Debian 12 Kernel: Depends on container host Compiler: gcc (Debian 12.2.0-14) 12.2.0 Fedora 41 (Clang) Kernel: Depends on container host Compiler: clang 19.1.5 (Fedora 19.1.5-1.fc41) Fedora 41 Kernel: Depends on container host Compiler: gcc 14.2.1 20240912 (Red Hat 14.2.1-3) openSUSE Leap 15 Kernel: Depends on container host Compiler: gcc (SUSE Linux) 7.5.0 RHEL8 Kernel: Depends on container host Compiler: gcc 8.5.0 20210514 (Red Hat 8.5.0-22) RHEL9 Kernel: Depends on container host Compiler: gcc 11.5.0 20240719 (Red Hat 11.5.0-2) Ubuntu 22.04 Kernel: Depends on container host Compiler: gcc (Ubuntu 11.4.0-1ubuntu1~22.04) 11.4.0 Ubuntu 24.04 Kernel: Depends on container host Compiler: gcc (Ubuntu 13.3.0-6ubuntu2~24.04) 13.3.0 To view detailed results, visit: https://lab.dpdk.org/results/dashboard/patchsets/32556/ UNH-IOL DPDK Community Lab To manage your email subscriptions, visit: https://lab.dpdk.org/results/dashboard/preferences/subscriptions/