From mboxrd@z Thu Jan 1 00:00:00 1970 Return-Path: Received: from mails.dpdk.org (mails.dpdk.org [217.70.189.124]) by inbox.dpdk.org (Postfix) with ESMTP id 553FE461F9 for ; Tue, 11 Feb 2025 15:28:44 +0100 (CET) Received: from mails.dpdk.org (localhost [127.0.0.1]) by mails.dpdk.org (Postfix) with ESMTP id 516E5402D1; Tue, 11 Feb 2025 15:28:44 +0100 (CET) Received: from mail-pl1-f226.google.com (mail-pl1-f226.google.com [209.85.214.226]) by mails.dpdk.org (Postfix) with ESMTP id 41223402C9 for ; Tue, 11 Feb 2025 15:28:43 +0100 (CET) Received: by mail-pl1-f226.google.com with SMTP id d9443c01a7336-21f48ab13d5so93607815ad.0 for ; Tue, 11 Feb 2025 06:28:43 -0800 (PST) DKIM-Signature: v=1; a=rsa-sha256; c=relaxed/relaxed; d=iol.unh.edu; s=unh-iol; t=1739284122; x=1739888922; darn=dpdk.org; h=references:in-reply-to:cc:to:from:subject:message-id:date:from:to :cc:subject:date:message-id:reply-to; bh=blTSl30+Bm8fXxwcBvLSMoLibBg2HfdWy8ifG4ZijUk=; b=VVJ/TeLFBw8VvA67wSzx8gIkA5Mno0uoFbgZ07K0xUExByC/sZXkNHQWFStBkOuKju yKkzEdWwbFyivdjqcpXmmkvMDGsh4jPtaELlvZyfHXouGBNs0XUP2liUK7dquEFxHPxj UsKGTcMjqFI1kSh16utZYgISH7ztaZ2xFJ2HI= X-Google-DKIM-Signature: v=1; a=rsa-sha256; c=relaxed/relaxed; d=1e100.net; s=20230601; t=1739284122; x=1739888922; h=references:in-reply-to:cc:to:from:subject:message-id:date :x-gm-message-state:from:to:cc:subject:date:message-id:reply-to; bh=blTSl30+Bm8fXxwcBvLSMoLibBg2HfdWy8ifG4ZijUk=; b=K5w+DJIo5CGt8plXQHZCrsShv+6VYGWjh2+bQlvN8/AGOYsppTSJuPUeYqiVJhao1O PSxqywhxqNWSKttu3TpLJtc/WPbBvuHGpEf05QJ+pl2jUqklxaaUZIJcPt2222RlARAm Z/ldo2X/b19nMYSXogL2Ff6SATvNaIYfggHkzoB3ADYyMj79uJ3iD268jJFQ7n6M/cZr m+r3k1w/rMdZpHSWuvnxCuXuE1OH87GeVQbSm3+PJ0MK83LjbjwTrW5Vf/r/Qg1Z0KMc Zksrxkbmt0Gan/f9/1ld0JRICZt+5BKoLMN7n+Enswv9tIMr3aTbxYhlSJyFlC634GTa dnNA== X-Gm-Message-State: AOJu0Ywd8BeegDP4+J6JkoQDw168EPUHf7mXWJitRhDcXvbMHJU2pw0E ZqEjhKWHS6w49yk35SlpgEZx3RhJfHnmegbOYU2TVeWhcFPYmfw9ZlS9bh0bLvd9oJEDNn0P45E U/t4SscC1GP5gTYSgiWt+OOsoF4zCR+9T4Bq1kta2 X-Gm-Gg: ASbGnctK2qmFFRKkt4C/pVqSawvVtpQPwW9JiUu80oYvcfjQdmI/LjVTbxTtqFnDhoQ a0jH3Ud88N0YKChM2AcPaVWnEAHcumkkTal8Mcvtjo8r56TfWPmB2rlGbyJ34m7RfElS/vMCVh/ +lKt8QHj3Jmw0DmritpTfKAt+RRf17TaxA91HWmJqQhULTSyHhQx3FukLHikxopOX4No7ijNOAg j9z2YmgFlyOjUybXfG+nk8Fzgn698YR5E3WuiSAX3NFvnAlS75PgMvXoSOw+FOn4ehrUlb+P61w F7Po8WmqPRA38S0PNLq1FBRKIcsIhQ== X-Google-Smtp-Source: AGHT+IHZfRLXjAFaCcCD9CrS2RjY9vEkJS523d+p0JCkoIwM6LelWJpOTbr7ZKdx0frgzIdbm0OwM3cbWJxQ X-Received: by 2002:a17:902:ced2:b0:21f:61a9:be7d with SMTP id d9443c01a7336-21f61a9c0a7mr277795865ad.49.1739284122386; Tue, 11 Feb 2025 06:28:42 -0800 (PST) Received: from postal.iol.unh.edu (postal.iol.unh.edu. [132.177.123.84]) by smtp-relay.gmail.com with ESMTPS id d9443c01a7336-21f3688fc9csm6468065ad.117.2025.02.11.06.28.42 (version=TLS1_2 cipher=ECDHE-ECDSA-AES128-GCM-SHA256 bits=128/128); Tue, 11 Feb 2025 06:28:42 -0800 (PST) X-Relaying-Domain: iol.unh.edu Date: Tue, 11 Feb 2025 06:28:42 -0800 (PST) Message-ID: <67ab5e9a.170a0220.32ec9e.121fSMTPIN_ADDED_MISSING@mx.google.com> Received: from [172.21.0.5] (unknown [172.18.0.240]) by postal.iol.unh.edu (Postfix) with ESMTP id BEB8C6052471; Tue, 11 Feb 2025 09:28:41 -0500 (EST) Subject: |SUCCESS| pw151296 [PATCH] mbuf: enable to be compiled with MSVC From: dpdklab@iol.unh.edu To: Test Report Cc: dpdk-test-reports@iol.unh.edu In-Reply-To: <1739224265-4158-1-git-send-email-andremue@linux.microsoft.com> References: <1739224265-4158-1-git-send-email-andremue@linux.microsoft.com> Content-Type: text/plain X-BeenThere: test-report@dpdk.org X-Mailman-Version: 2.1.29 Precedence: list List-Id: automatic DPDK test reports List-Unsubscribe: , List-Archive: List-Post: List-Help: List-Subscribe: , Errors-To: test-report-bounces@dpdk.org Test-Label: iol-abi-testing Test-Status: SUCCESS http://dpdk.org/patch/151296 _Testing PASS_ Submitter: Andre Muezerie Date: Monday, February 10 2025 21:51:05 DPDK git baseline: Repo:dpdk Branch: master CommitID:9d29cd6dc87d6c35c52194a5f7a34f2d84140353 151296 --> testing pass Upstream job id: Generic-DPDK-Compile-ABI#115808 Test environment and result as below: +-------------------+----------+ | Environment | abi_test | +===================+==========+ | CentOS Stream 9 | PASS | +-------------------+----------+ | CentOS Stream 10 | PASS | +-------------------+----------+ | Debian Bullseye | PASS | +-------------------+----------+ | Fedora 40 (Clang) | PASS | +-------------------+----------+ | Debian 12 | PASS | +-------------------+----------+ | Fedora 41 (Clang) | PASS | +-------------------+----------+ | Fedora 41 | PASS | +-------------------+----------+ | openSUSE Leap 15 | PASS | +-------------------+----------+ | RHEL8 | PASS | +-------------------+----------+ | RHEL9 | PASS | +-------------------+----------+ | Ubuntu 22.04 | PASS | +-------------------+----------+ | Ubuntu 24.04 | PASS | +-------------------+----------+ CentOS Stream 9 Kernel: Depends on container host Compiler: gcc 11.5.0 20240719 (Red Hat 11.5.0-2) CentOS Stream 10 Kernel: Depends on container host Compiler: gcc 14.2.1 20241104 (Red Hat 14.2.1-6) Debian Bullseye Kernel: Depends on container host Compiler: gcc (Debian 10.2.1-6) 10.2.1 20210110 Fedora 40 (Clang) Kernel: Depends on container host Compiler: clang 18.1.8 (Fedora 18.1.8-1.fc40) Debian 12 Kernel: Depends on container host Compiler: gcc (Debian 12.2.0-14) 12.2.0 Fedora 41 (Clang) Kernel: Depends on container host Compiler: clang 19.1.5 (Fedora 19.1.5-1.fc41) Fedora 41 Kernel: Depends on container host Compiler: gcc 14.2.1 20240912 (Red Hat 14.2.1-3) openSUSE Leap 15 Kernel: Depends on container host Compiler: gcc (SUSE Linux) 7.5.0 RHEL8 Kernel: Depends on container host Compiler: gcc 8.5.0 20210514 (Red Hat 8.5.0-22) RHEL9 Kernel: Depends on container host Compiler: gcc 11.5.0 20240719 (Red Hat 11.5.0-2) Ubuntu 22.04 Kernel: Depends on container host Compiler: gcc (Ubuntu 11.4.0-1ubuntu1~22.04) 11.4.0 Ubuntu 24.04 Kernel: Depends on container host Compiler: gcc (Ubuntu 13.3.0-6ubuntu2~24.04) 13.3.0 To view detailed results, visit: https://lab.dpdk.org/results/dashboard/patchsets/32556/ UNH-IOL DPDK Community Lab To manage your email subscriptions, visit: https://lab.dpdk.org/results/dashboard/preferences/subscriptions/