From mboxrd@z Thu Jan 1 00:00:00 1970 Return-Path: Received: from mails.dpdk.org (mails.dpdk.org [217.70.189.124]) by inbox.dpdk.org (Postfix) with ESMTP id 6AEBA461F9 for ; Tue, 11 Feb 2025 15:28:48 +0100 (CET) Received: from mails.dpdk.org (localhost [127.0.0.1]) by mails.dpdk.org (Postfix) with ESMTP id 67D97402D1; Tue, 11 Feb 2025 15:28:48 +0100 (CET) Received: from mail-yw1-f226.google.com (mail-yw1-f226.google.com [209.85.128.226]) by mails.dpdk.org (Postfix) with ESMTP id E4EA2402C9 for ; Tue, 11 Feb 2025 15:28:46 +0100 (CET) Received: by mail-yw1-f226.google.com with SMTP id 00721157ae682-6f6ae4846c7so46378717b3.1 for ; Tue, 11 Feb 2025 06:28:46 -0800 (PST) DKIM-Signature: v=1; a=rsa-sha256; c=relaxed/relaxed; d=iol.unh.edu; s=unh-iol; t=1739284126; x=1739888926; darn=dpdk.org; h=references:in-reply-to:cc:to:from:subject:message-id:date:from:to :cc:subject:date:message-id:reply-to; bh=N2NWPnui9JhMOZ5MdRh/B+eWWrKNwUIraXY+Vu3ww4Q=; b=YnHlJCFyctFon32I/WDHTOHs1/6wvIeOkG6CnSQUDHojXnHx2DIP7CUaFv6OsVxTjq VuXoFEZwJ9NSxUlNU3AsmhRmUR2sFbpRx/UljYu33+33Klc6q5oKw3dN8sc5y7bdNFxE MgM/tgjLaQ55vMHWI+NZgHxFInLie92BBi8zI= X-Google-DKIM-Signature: v=1; a=rsa-sha256; c=relaxed/relaxed; d=1e100.net; s=20230601; t=1739284126; x=1739888926; h=references:in-reply-to:cc:to:from:subject:message-id:date :x-gm-message-state:from:to:cc:subject:date:message-id:reply-to; bh=N2NWPnui9JhMOZ5MdRh/B+eWWrKNwUIraXY+Vu3ww4Q=; b=h8yImIz+AoubOMnk/ynYQkCjBjO4xVuQPmJMT5cYj5HPkNj8e1iJL5kk2mahFBcpro uph5Gh+1cDBc4ynQ9X5/r6uMnfIhcfgDLogmBFoIXqR9w4y9zRXzetveRo0wCqzZbpDQ TvbMVrXhHrAeubMTsYTpF025U4Qnj8QPHuHJUCsHagtLiOzSxUX+eaMZzzAnvMqlxrzQ 72LMzrh07os55bsH3Z3521tGsplnzwjd/8ADxxx0IEoJFg5nT7Kqs0mJ1zF+4WuZtx2s Et+kEjuIb1KAjN6zKEz8usZIPs2veF1wPb0IRmXsM2FXtH7DqDAMAyF6lpggznLivEpi ZxNQ== X-Gm-Message-State: AOJu0Yyqpi0GXpXoT6MpQRPHAwHyKR5gnNpTQw6ABlIAvVaM/1uUCFCt FEVQxh+CbCkEK6SkviigWq8YX8QM9kKdP3wJnqZiuxp9+QFx0aL2M8xZlmcTEswraoh2T800j6G Gm0z8yIB2yBg6JmDtssgxfzCtBaloMe33DY1j47NBMoRxQGVLqtXqL2Uc X-Gm-Gg: ASbGnctzuNRKi3xo1ZHHlV8z0v7aiLbqThhHj1RyuXJuZnt/qYgltqrcFyjfIkcv9DX rEp5VCsec3NYL4FPJiIbAum+m/LcY06aCeGm8m8syOu/Eq03xh6k91nRsdF2oEOXHwSU0bXB04L iGb7DDSx90oqytFl/a4d6SOTt3tBEdbPErxxcEU1XIdl53cRlvpGiaXWiyMqJBegcu78lbPJvrt Y7ibCqK7F7BvWXZEHh/7lcyUP31aMReIeHBNr8XSRdRDI88iss8TFjVaVC/VD8b65zoImjwbiQC leVE9T2VNbyHpzQfHu8AF9FfQUuP3raA7kxlUMtViQ== X-Google-Smtp-Source: AGHT+IH9sTcANi+Lf6qvqoNg6uTB9WHhQHY3EkuxpW3gHyyMYqWIew165kOCBHONk0crqazP1g7x0rBXFvP1 X-Received: by 2002:a05:690c:4b12:b0:6ef:910d:7846 with SMTP id 00721157ae682-6f9b280f5e1mr172778407b3.1.1739284126277; Tue, 11 Feb 2025 06:28:46 -0800 (PST) Received: from postal.iol.unh.edu (postal.iol.unh.edu. [2606:4100:3880:1234::84]) by smtp-relay.gmail.com with ESMTPS id 00721157ae682-6f99fcf6c85sm2076587b3.9.2025.02.11.06.28.46 (version=TLS1_2 cipher=ECDHE-ECDSA-AES128-GCM-SHA256 bits=128/128); Tue, 11 Feb 2025 06:28:46 -0800 (PST) X-Relaying-Domain: iol.unh.edu Date: Tue, 11 Feb 2025 06:28:46 -0800 (PST) Message-ID: <67ab5e9e.810a0220.10d334.c81cSMTPIN_ADDED_MISSING@mx.google.com> Received: from [172.21.0.7] (unknown [172.18.0.240]) by postal.iol.unh.edu (Postfix) with ESMTP id E5C9D6052471; Tue, 11 Feb 2025 09:28:45 -0500 (EST) Subject: |SUCCESS| pw151296 [PATCH] mbuf: enable to be compiled with MSVC From: dpdklab@iol.unh.edu To: Test Report Cc: dpdk-test-reports@iol.unh.edu In-Reply-To: <1739224265-4158-1-git-send-email-andremue@linux.microsoft.com> References: <1739224265-4158-1-git-send-email-andremue@linux.microsoft.com> Content-Type: text/plain X-BeenThere: test-report@dpdk.org X-Mailman-Version: 2.1.29 Precedence: list List-Id: automatic DPDK test reports List-Unsubscribe: , List-Archive: List-Post: List-Help: List-Subscribe: , Errors-To: test-report-bounces@dpdk.org Test-Label: iol-abi-testing Test-Status: SUCCESS http://dpdk.org/patch/151296 _Testing PASS_ Submitter: Andre Muezerie Date: Monday, February 10 2025 21:51:05 DPDK git baseline: Repo:dpdk Branch: master CommitID:9d29cd6dc87d6c35c52194a5f7a34f2d84140353 151296 --> testing pass Upstream job id: Generic-DPDK-Compile-ABI#115811 Test environment and result as below: +-------------------+----------+ | Environment | abi_test | +===================+==========+ | CentOS Stream 9 | PASS | +-------------------+----------+ | CentOS Stream 10 | PASS | +-------------------+----------+ | Debian Bullseye | PASS | +-------------------+----------+ | Fedora 40 (Clang) | PASS | +-------------------+----------+ | Debian 12 | PASS | +-------------------+----------+ | Fedora 41 (Clang) | PASS | +-------------------+----------+ | Fedora 41 | PASS | +-------------------+----------+ | openSUSE Leap 15 | PASS | +-------------------+----------+ | RHEL8 | PASS | +-------------------+----------+ | RHEL9 | PASS | +-------------------+----------+ | Ubuntu 22.04 | PASS | +-------------------+----------+ | Ubuntu 24.04 | PASS | +-------------------+----------+ CentOS Stream 9 Kernel: Depends on container host Compiler: gcc 11.5.0 20240719 (Red Hat 11.5.0-2) CentOS Stream 10 Kernel: Depends on container host Compiler: gcc 14.2.1 20241104 (Red Hat 14.2.1-6) Debian Bullseye Kernel: Depends on container host Compiler: gcc (Debian 10.2.1-6) 10.2.1 20210110 Fedora 40 (Clang) Kernel: Depends on container host Compiler: clang 18.1.8 (Fedora 18.1.8-1.fc40) Debian 12 Kernel: Depends on container host Compiler: gcc (Debian 12.2.0-14) 12.2.0 Fedora 41 (Clang) Kernel: Depends on container host Compiler: clang 19.1.5 (Fedora 19.1.5-1.fc41) Fedora 41 Kernel: Depends on container host Compiler: gcc 14.2.1 20240912 (Red Hat 14.2.1-3) openSUSE Leap 15 Kernel: Depends on container host Compiler: gcc (SUSE Linux) 7.5.0 RHEL8 Kernel: Depends on container host Compiler: gcc 8.5.0 20210514 (Red Hat 8.5.0-22) RHEL9 Kernel: Depends on container host Compiler: gcc 11.5.0 20240719 (Red Hat 11.5.0-2) Ubuntu 22.04 Kernel: Depends on container host Compiler: gcc (Ubuntu 11.4.0-1ubuntu1~22.04) 11.4.0 Ubuntu 24.04 Kernel: Depends on container host Compiler: gcc (Ubuntu 13.3.0-6ubuntu2~24.04) 13.3.0 To view detailed results, visit: https://lab.dpdk.org/results/dashboard/patchsets/32556/ UNH-IOL DPDK Community Lab To manage your email subscriptions, visit: https://lab.dpdk.org/results/dashboard/preferences/subscriptions/