From mboxrd@z Thu Jan 1 00:00:00 1970 Return-Path: Received: from mails.dpdk.org (mails.dpdk.org [217.70.189.124]) by inbox.dpdk.org (Postfix) with ESMTP id 915D0461F9 for ; Tue, 11 Feb 2025 15:29:35 +0100 (CET) Received: from mails.dpdk.org (localhost [127.0.0.1]) by mails.dpdk.org (Postfix) with ESMTP id 8820F402D1; Tue, 11 Feb 2025 15:29:35 +0100 (CET) Received: from mail-yw1-f226.google.com (mail-yw1-f226.google.com [209.85.128.226]) by mails.dpdk.org (Postfix) with ESMTP id F226B402C9 for ; Tue, 11 Feb 2025 15:29:33 +0100 (CET) Received: by mail-yw1-f226.google.com with SMTP id 00721157ae682-6f678a27787so50187807b3.1 for ; Tue, 11 Feb 2025 06:29:33 -0800 (PST) DKIM-Signature: v=1; a=rsa-sha256; c=relaxed/relaxed; d=iol.unh.edu; s=unh-iol; t=1739284173; x=1739888973; darn=dpdk.org; h=references:in-reply-to:cc:to:from:subject:message-id:date:from:to :cc:subject:date:message-id:reply-to; bh=zPmcwTcdCUzV3M7iq0Gx/Rb3Nc3QB9/MTjVjef3nTNc=; b=EdnjsVebiZHFjeguhlIJ8oAlrNahPQNjLaRfCd1cz49uy99EiJ/fOAL7URmaRoQeKa 6oFMs+YKx77aHw7PQe9NO6GlABlcwan5790X03+RYZnqTmQlbHCowWOrv+rK2zo7x0pl PilronB4ea6x2FiCOAEfysnQ/R+nudaYqPYfE= X-Google-DKIM-Signature: v=1; a=rsa-sha256; c=relaxed/relaxed; d=1e100.net; s=20230601; t=1739284173; x=1739888973; h=references:in-reply-to:cc:to:from:subject:message-id:date :x-gm-message-state:from:to:cc:subject:date:message-id:reply-to; bh=zPmcwTcdCUzV3M7iq0Gx/Rb3Nc3QB9/MTjVjef3nTNc=; b=XJmyxYP5dptWSk2HGe2Ju0Hcx0X2LX1uiS3+NGCbxBzMvMNN+i8Au2qfQsS7Yv0bmZ pRGbjXbH2IpZwa+5lISoKA0aGybhhE1BwT5z5q8DNueNG8TEZMYuxgo6BPozEwyzJPnU 1CHc5CLOZxZMMjl5DF7HM2lqqmg47DTR0gZJXH33X5/+H6HtPZvi+sSu9SX1q+Mvxcv2 tFJkuGqmv0bV/93jwPfwIACmJ2fdhRBgIVe4nb0aY5fs6JDpLLLpQgT8DaF590/S4TIG 1t7aAIcVeKEjMwoiTI3J4sXdQ1R7y6vwHAO86tweDnjzQzNo2ISjLs0zRh4LJyLGectV WxkA== X-Gm-Message-State: AOJu0Yye0CNCZgTXcg1CTz/WLJXm5eRnDUTqfp8//szv8Xw6aIe251hj dY5FqVlAVASYh3/SEo9hvd62RuGouWS0fQmDtFa7Bjc+WtAyhhTwPEV4gV/NNbe3rXMb4WXQOqr gS6U8WdBx61rqFMJpMjkGGFxTa0kuhYYOrQAofX9n X-Gm-Gg: ASbGncu3K5Q9bMvTSXqjHtVBYHRM2UGQTNat/CZSwJ7Wn9QGaBxGjoCLDEyOJy01w5r UUEZpIljbF5yz9c29G4JEnVp7ql00WUjMRBKWnzWYtBouRfCSYjw3qh+nftH54FPQGj7VO/LkE/ oDvLkvwrD9pmOvULsawrsZ+a6WoZgmgSoKM0eZQuaPwv1of6Qa4zkXyDk3OKkHzD/x1CsFIYj9v qFS4KNuMfWyqAf5gpafr1PRHTJu9+YB77e0sLkLAmfoc5UiSBCc6quhHm+62hXTTMXulCMaGpK3 0bYrnRcCGhBS51AKqlcQN5p+yf4PWg== X-Google-Smtp-Source: AGHT+IHSBDStOkg+FYJh7KUG+4QsKn6OP8ljNvAJCeQcxur5WySBMizqtkURu0DesWzFtLKHivquj+MSEThV X-Received: by 2002:a05:690c:6810:b0:6ef:5c57:931 with SMTP id 00721157ae682-6f9b2875e4emr173592027b3.10.1739284173415; Tue, 11 Feb 2025 06:29:33 -0800 (PST) Received: from postal.iol.unh.edu (postal.iol.unh.edu. [132.177.123.84]) by smtp-relay.gmail.com with ESMTPS id 00721157ae682-6f99fd30a53sm1256347b3.23.2025.02.11.06.29.33 (version=TLS1_2 cipher=ECDHE-ECDSA-AES128-GCM-SHA256 bits=128/128); Tue, 11 Feb 2025 06:29:33 -0800 (PST) X-Relaying-Domain: iol.unh.edu Date: Tue, 11 Feb 2025 06:29:33 -0800 (PST) Message-ID: <67ab5ecd.050a0220.370c1c.6d3dSMTPIN_ADDED_MISSING@mx.google.com> Received: from [172.21.0.5] (unknown [172.18.0.240]) by postal.iol.unh.edu (Postfix) with ESMTP id 110046052471; Tue, 11 Feb 2025 09:29:33 -0500 (EST) Subject: |SUCCESS| pw151296 [PATCH] mbuf: enable to be compiled with MSVC From: dpdklab@iol.unh.edu To: Test Report Cc: dpdk-test-reports@iol.unh.edu In-Reply-To: <1739224265-4158-1-git-send-email-andremue@linux.microsoft.com> References: <1739224265-4158-1-git-send-email-andremue@linux.microsoft.com> Content-Type: text/plain X-BeenThere: test-report@dpdk.org X-Mailman-Version: 2.1.29 Precedence: list List-Id: automatic DPDK test reports List-Unsubscribe: , List-Archive: List-Post: List-Help: List-Subscribe: , Errors-To: test-report-bounces@dpdk.org Test-Label: iol-unit-amd64-testing Test-Status: SUCCESS http://dpdk.org/patch/151296 _Testing PASS_ Submitter: Andre Muezerie Date: Monday, February 10 2025 21:51:05 DPDK git baseline: Repo:dpdk Branch: master CommitID:9d29cd6dc87d6c35c52194a5f7a34f2d84140353 151296 --> testing pass Upstream job id: Generic-Unit-Test-DPDK#314073 Test environment and result as below: +-------------------+----------------+ | Environment | dpdk_unit_test | +===================+================+ | CentOS Stream 9 | PASS | +-------------------+----------------+ | CentOS Stream 10 | PASS | +-------------------+----------------+ | Fedora 40 (Clang) | PASS | +-------------------+----------------+ | Fedora 40 | PASS | +-------------------+----------------+ | Debian 12 | PASS | +-------------------+----------------+ | Debian Bullseye | PASS | +-------------------+----------------+ | Fedora 41 | PASS | +-------------------+----------------+ | RHEL9 | PASS | +-------------------+----------------+ | RHEL8 | PASS | +-------------------+----------------+ | Fedora 41 (Clang) | PASS | +-------------------+----------------+ | Ubuntu 20.04 | PASS | +-------------------+----------------+ | Ubuntu 24.04 | PASS | +-------------------+----------------+ | Ubuntu 22.04 | PASS | +-------------------+----------------+ CentOS Stream 9 Kernel: Depends on container host Compiler: gcc 11.5.0 20240719 (Red Hat 11.5.0-2) CentOS Stream 10 Kernel: Depends on container host Compiler: gcc 14.2.1 20241104 (Red Hat 14.2.1-6) Fedora 40 (Clang) Kernel: Depends on container host Compiler: clang 18.1.8 (Fedora 18.1.8-1.fc40) Fedora 40 Kernel: Depends on container host Compiler: gcc 14.2.1 20240912 (Red Hat 14.2.1-3) Debian 12 Kernel: Depends on container host Compiler: gcc (Debian 12.2.0-14) 12.2.0 Debian Bullseye Kernel: Depends on container host Compiler: gcc (Debian 10.2.1-6) 10.2.1 20210110 Fedora 41 Kernel: Depends on container host Compiler: gcc 14.2.1 20240912 (Red Hat 14.2.1-3) RHEL9 Kernel: Depends on container host Compiler: gcc 11.5.0 20240719 (Red Hat 11.5.0-2) RHEL8 Kernel: Depends on container host Compiler: gcc 8.5.0 20210514 (Red Hat 8.5.0-22) Fedora 41 (Clang) Kernel: Depends on container host Compiler: clang 19.1.5 (Fedora 19.1.5-1.fc41) Ubuntu 20.04 Kernel: Depends on container host Compiler: gcc (Ubuntu 9.4.0-1ubuntu1~20.04.2) 9.4.0 Ubuntu 24.04 Kernel: Depends on container host Compiler: gcc (Ubuntu 13.3.0-6ubuntu2~24.04) 13.3.0 Ubuntu 22.04 Kernel: Depends on container host Compiler: gcc (Ubuntu 11.4.0-1ubuntu1~22.04) 11.4.0 To view detailed results, visit: https://lab.dpdk.org/results/dashboard/patchsets/32556/ UNH-IOL DPDK Community Lab To manage your email subscriptions, visit: https://lab.dpdk.org/results/dashboard/preferences/subscriptions/