From mboxrd@z Thu Jan  1 00:00:00 1970
Return-Path: <test-report-bounces@dpdk.org>
Received: from mails.dpdk.org (mails.dpdk.org [217.70.189.124])
	by inbox.dpdk.org (Postfix) with ESMTP id A7F65461F9
	for <public@inbox.dpdk.org>; Tue, 11 Feb 2025 15:30:05 +0100 (CET)
Received: from mails.dpdk.org (localhost [127.0.0.1])
	by mails.dpdk.org (Postfix) with ESMTP id A46F3402D1;
	Tue, 11 Feb 2025 15:30:05 +0100 (CET)
Received: from mail-qv1-f97.google.com (mail-qv1-f97.google.com
 [209.85.219.97]) by mails.dpdk.org (Postfix) with ESMTP id 2FF6A402C9
 for <test-report@dpdk.org>; Tue, 11 Feb 2025 15:30:04 +0100 (CET)
Received: by mail-qv1-f97.google.com with SMTP id
 6a1803df08f44-6e45af17a2eso55875576d6.0
 for <test-report@dpdk.org>; Tue, 11 Feb 2025 06:30:04 -0800 (PST)
DKIM-Signature: v=1; a=rsa-sha256; c=relaxed/relaxed;
 d=iol.unh.edu; s=unh-iol; t=1739284203; x=1739889003; darn=dpdk.org;
 h=references:in-reply-to:cc:to:from:subject:message-id:date:from:to
 :cc:subject:date:message-id:reply-to;
 bh=M6Vti7dyT2be4iCAobeV6HbvcCpNmXxmQuitaa+IC14=;
 b=Sx/bxKfFUhBgLNyrRdGYi0X83pmxLf5Fy/MZLBU/KkjAAK9Z9KTRW3KeA/J8sbB3xv
 ayd7K3U8UfOai/kYfMBBB2EA1jrQZCvNTBAEC8GB68YN58VvTCqO4ID7IvwcxhIGFrOn
 pE/a+S8awK6m7OD3Ny38sRuFo7TWAGING4Y5Y=
X-Google-DKIM-Signature: v=1; a=rsa-sha256; c=relaxed/relaxed;
 d=1e100.net; s=20230601; t=1739284203; x=1739889003;
 h=references:in-reply-to:cc:to:from:subject:message-id:date
 :x-gm-message-state:from:to:cc:subject:date:message-id:reply-to;
 bh=M6Vti7dyT2be4iCAobeV6HbvcCpNmXxmQuitaa+IC14=;
 b=CaUmfY3sOYO6HJNPvFWpN7i5ReLvUsZF1txE/dku8PhHdRfCHNzosu6AhC+4XUwR9p
 YWCb3YdZYu4lugvb8z0hGfprXEPA9m3VE+wUvHvdK1Vzty10UHYJfLdeDvwm9INZRAQk
 mWOaVPUj42q45Uwn8J9B6XQnKBhSxByp+/hd1/8UZTnDjWxUqjnrG2KI+lAJtX75Ziu/
 eo9IzW0YN5GIrOvZfwlevS74+VJlID0B0/a7McMmgkhd1QQZr6VPTk98Eg3M6axb+CcB
 qZo0DiYuAjxEuQ7D1lbxdohtz+l3sioAcnpWc4LgqUBwU3PleUxx2uU1O8iAn4l7BukZ
 x/jw==
X-Gm-Message-State: AOJu0YwielxwB06FQ2YR8AFkB2+R3+IrEwe6xpolHB0m+9BBViJqK5wh
 p1VgHv961EPq/urj4gXqBEGOQ90ej+v/VOz3lTfDMOMv4UW3x+/pAyfVIDH82MjWEfbvVH6axDj
 JWhCoccZy5/wU4ldZfU9JMn0Duxp5A6SUQWijdL2VtouTmP8mpbOKNuKU
X-Gm-Gg: ASbGncuW2ILmI11iQzmVBJrfdsIwbDURy+aCviFc0AuGU1sukXe7NXIqz22mk0mvgsu
 6r0wBPGBRy/jhWcF2jVDFDGyNazMFSoCh//TcGAogJuHHRkdceTWPByC52irE+Xb2BEoC9iHxzO
 Kr+tQ0v8D/zFlcxjIbOH/TMoVdM33BJKlYm6HxWCc5h90a3VisFeR9EYx019PorrOtnbyJ3Z6Nj
 brpifARVwomxe2xlrhN306ABPsF0GX65SKzHbyrGLpAhlZAc5WLXYzb/rYmgGXQjs2UztR8LlhL
 Xw5YvFF96OmctjNp37MI4OZ7Yf7PEG0lgygGuFJtzA==
X-Google-Smtp-Source: AGHT+IHyJMGcZnE0lJyNDmmCE3KVu5F4v7w/xxzHwK3u3snNPZjcv2S6xxbEO3cKK9cCgoNCSAItyIqP2nYM
X-Received: by 2002:ad4:5dea:0:b0:6d8:8d87:e5b4 with SMTP id
 6a1803df08f44-6e44563ca22mr268091256d6.19.1739284202080; 
 Tue, 11 Feb 2025 06:30:02 -0800 (PST)
Received: from postal.iol.unh.edu (postal.iol.unh.edu.
 [2606:4100:3880:1234::84]) by smtp-relay.gmail.com with ESMTPS id
 6a1803df08f44-6e45ccf58a0sm3559256d6.62.2025.02.11.06.30.02
 (version=TLS1_2 cipher=ECDHE-ECDSA-AES128-GCM-SHA256 bits=128/128);
 Tue, 11 Feb 2025 06:30:02 -0800 (PST)
X-Relaying-Domain: iol.unh.edu
Date: Tue, 11 Feb 2025 06:30:02 -0800 (PST)
Message-ID: <67ab5eea.d40a0220.143cfd.2f32SMTPIN_ADDED_MISSING@mx.google.com>
Received: from [172.21.0.5] (unknown [172.18.0.240])
 by postal.iol.unh.edu (Postfix) with ESMTP id C1F6C6052471;
 Tue, 11 Feb 2025 09:30:01 -0500 (EST)
Subject: |SUCCESS| pw151325 [PATCH] [v7] net: add thread-safe crc api
From: dpdklab@iol.unh.edu
To: Test Report <test-report@dpdk.org>
Cc: dpdk-test-reports@iol.unh.edu
In-Reply-To: <20250211090202.1018656-1-arkadiuszx.kusztal@intel.com>
References: <20250211090202.1018656-1-arkadiuszx.kusztal@intel.com>
Content-Type: text/plain
X-BeenThere: test-report@dpdk.org
X-Mailman-Version: 2.1.29
Precedence: list
List-Id: automatic DPDK test reports <test-report.dpdk.org>
List-Unsubscribe: <https://mails.dpdk.org/options/test-report>,
 <mailto:test-report-request@dpdk.org?subject=unsubscribe>
List-Archive: <http://mails.dpdk.org/archives/test-report/>
List-Post: <mailto:test-report@dpdk.org>
List-Help: <mailto:test-report-request@dpdk.org?subject=help>
List-Subscribe: <https://mails.dpdk.org/listinfo/test-report>,
 <mailto:test-report-request@dpdk.org?subject=subscribe>
Errors-To: test-report-bounces@dpdk.org

Test-Label: iol-compile-arm64-testing
Test-Status: SUCCESS
http://dpdk.org/patch/151325

_Testing PASS_

Submitter: Arkadiusz Kusztal <arkadiuszx.kusztal@intel.com>
Date: Tuesday, February 11 2025 09:02:02 
DPDK git baseline: Repo:dpdk
  Branch: master
  CommitID:7125636162d67b1c40ba6802a3ff4466d125d243

151325 --> testing pass

Upstream job id: Generic-DPDK-Compile-Meson#360581

Test environment and result as below:

+----------------------------------------+--------------------+
|              Environment               | dpdk_meson_compile |
+========================================+====================+
| RHEL9 (ARM)                            | PASS               |
+----------------------------------------+--------------------+
| Ubuntu 20.04 ARM GCC Cross Compile     | PASS               |
+----------------------------------------+--------------------+
| Ubuntu 20.04 ARM SVE                   | PASS               |
+----------------------------------------+--------------------+
| Debian 12 with MUSDK                   | PASS               |
+----------------------------------------+--------------------+
| Fedora 40 (ARM)                        | PASS               |
+----------------------------------------+--------------------+
| Fedora 40 (ARM Clang)                  | PASS               |
+----------------------------------------+--------------------+
| Fedora 41 (ARM)                        | PASS               |
+----------------------------------------+--------------------+
| Fedora 41 (ARM Clang)                  | PASS               |
+----------------------------------------+--------------------+
| Ubuntu 20.04 (ARM)                     | PASS               |
+----------------------------------------+--------------------+
| Ubuntu 22.04 (ARM)                     | PASS               |
+----------------------------------------+--------------------+
| Ubuntu 24.04 (ARM)                     | PASS               |
+----------------------------------------+--------------------+
| CentOS Stream 9 (ARM)                  | PASS               |
+----------------------------------------+--------------------+
| CentOS Stream 10 (ARM)                 | PASS               |
+----------------------------------------+--------------------+
| Debian 12 (arm)                        | PASS               |
+----------------------------------------+--------------------+
| Ubuntu 20.04 ARM Clang Cross Compile   | PASS               |
+----------------------------------------+--------------------+
| Ubuntu 20.04 aarch32 GCC Cross Compile | PASS               |
+----------------------------------------+--------------------+
| Debian 11 (Buster) (ARM)               | PASS               |
+----------------------------------------+--------------------+


RHEL9 (ARM)
	Kernel: Depends on container host
	Compiler: gcc 11.5.0 20240719 (Red Hat 11.5.0-2)

Ubuntu 20.04 ARM GCC Cross Compile
	Kernel: Depends on container host
	Compiler: aarch64-linux-gnu-gcc (Ubuntu 9.4.0-1ubuntu1~20.04.2) 9.4.0

Ubuntu 20.04 ARM SVE
	Kernel: Depends on container host
	Compiler: gcc (Ubuntu 10.5.0-1ubuntu1~20.04) 10.5.0

Debian 12 with MUSDK
	Kernel: Depends on container host
	Compiler: gcc (Debian 12.2.0-14) 12.2.0

Fedora 40 (ARM)
	Kernel: Depends on container host
	Compiler: gcc 14.2.1 20240912 (Red Hat 14.2.1-3)

Fedora 40 (ARM Clang)
	Kernel: Depends on container host
	Compiler: clang 18.1.8 (Fedora 18.1.8-1.fc40)

Fedora 41 (ARM)
	Kernel: Depends on container host
	Compiler: gcc 14.2.1 20240912 (Red Hat 14.2.1-3)

Fedora 41 (ARM Clang)
	Kernel: Depends on container host
	Compiler: clang 19.1.5 (Fedora 19.1.5-1.fc41)

Ubuntu 20.04 (ARM)
	Kernel: Depends on container host
	Compiler: gcc (Ubuntu 9.4.0-1ubuntu1~20.04.2) 9.4.0

Ubuntu 22.04 (ARM)
	Kernel: Depends on container host
	Compiler: gcc (Ubuntu 11.4.0-1ubuntu1~22.04) 11.4.0

Ubuntu 24.04 (ARM)
	Kernel: Depends on container host
	Compiler: gcc (Ubuntu 13.3.0-6ubuntu2~24.04) 13.3.0

CentOS Stream 9 (ARM)
	Kernel: Depends on container host
	Compiler: gcc 11.5.0 20240719 (Red Hat 11.5.0-2)

CentOS Stream 10 (ARM)
	Kernel: Depends on container host
	Compiler: gcc 14.2.1 20241104 (Red Hat 14.2.1-6)

Debian 12 (arm)
	Kernel: Depends on container host
	Compiler: gcc (Debian 12.2.0-14) 12.2.0

Ubuntu 20.04 ARM Clang Cross Compile
	Kernel: Depends on container host
	Compiler: clang 10.0.0-4ubuntu1

Ubuntu 20.04 aarch32 GCC Cross Compile
	Kernel: Depends on container host
	Compiler: gcc 9.4.0

Debian 11 (Buster) (ARM)
	Kernel: Depends on container host
	Compiler: gcc (Debian 10.2.1-6) 10.2.1 20210110

To view detailed results, visit:
https://lab.dpdk.org/results/dashboard/patchsets/32558/

UNH-IOL DPDK Community Lab

To manage your email subscriptions, visit: 
https://lab.dpdk.org/results/dashboard/preferences/subscriptions/