From mboxrd@z Thu Jan 1 00:00:00 1970 Return-Path: Received: from mails.dpdk.org (mails.dpdk.org [217.70.189.124]) by inbox.dpdk.org (Postfix) with ESMTP id 22DC9461F9 for ; Tue, 11 Feb 2025 15:33:29 +0100 (CET) Received: from mails.dpdk.org (localhost [127.0.0.1]) by mails.dpdk.org (Postfix) with ESMTP id F0ADB402D1; Tue, 11 Feb 2025 15:33:28 +0100 (CET) Received: from mail-qv1-f97.google.com (mail-qv1-f97.google.com [209.85.219.97]) by mails.dpdk.org (Postfix) with ESMTP id A5A4E402C9 for ; Tue, 11 Feb 2025 15:33:27 +0100 (CET) Received: by mail-qv1-f97.google.com with SMTP id 6a1803df08f44-6dd15d03eacso48585226d6.0 for ; Tue, 11 Feb 2025 06:33:27 -0800 (PST) DKIM-Signature: v=1; a=rsa-sha256; c=relaxed/relaxed; d=iol.unh.edu; s=unh-iol; t=1739284407; x=1739889207; darn=dpdk.org; h=cc:to:from:subject:message-id:date:from:to:cc:subject:date :message-id:reply-to; bh=eCXb78NfC6Ppolc7iqjg1+55TBT4UPdQ6Zl2hr5bILU=; b=dmtbSFKK322PFBEXrnGCPTSNM7+HIr4pyNblZQqbJMbdfh85FG/yNh2+TPEYt7dPEU hQ4vZfoF6kBKsqr/1LzJAXR2sijyR009Y/yomF7dvLy1gpC1ssyrB8+XZyuEWqUAhw7o 13JQMfEi52PC+pccuh67TcVCxfFHhM5wWCQbw= X-Google-DKIM-Signature: v=1; a=rsa-sha256; c=relaxed/relaxed; d=1e100.net; s=20230601; t=1739284407; x=1739889207; h=cc:to:from:subject:message-id:date:x-gm-message-state:from:to:cc :subject:date:message-id:reply-to; bh=eCXb78NfC6Ppolc7iqjg1+55TBT4UPdQ6Zl2hr5bILU=; b=wxqtHUksCATsFACENf5CD/Fy46NK09ANLW9igAgqlyAqF2X57xmhoGoPnfYL7c1Dfs T1YSWSlde2TR3gpAQ5TVzmypKoMxq+o88pWaNmShCeTXk5Ef7WLm128yYSXWYhNFB8Hm flBb7VtIR0U1OfA8xmsU/1/FpfSYxAuKgboGR4+RzthsP9xW87EPrdNm2nyiYfadeLe6 DZ/rj+kmZVMInhwgc0INwSOSQxCEyEu0VwcGQtwMvR7ZoSvDVQtEnspHXprM0jIPXMev YTLgoybOAey3otEqzz+6nvc23U5XlFyFg6X8kFwehmQ0s7zeZ5mpKFyohfuaLA0vggoT Q52g== X-Gm-Message-State: AOJu0YyPzOkK79AHXJqYTTlID0XlzjkyBxphr1vkBd0qe8pNVnQZhlLY uNnnKhOwMDEv8L5B8Rjhfbm+sVDOkxq2Mdr5zOR62IMbVojebWmWVC31gB0AOT37SPRf3fP5BuH Whrap2OcpzEnNPzs7CVZKP9pzWFBNxIzj X-Gm-Gg: ASbGncuFmztBHOoFogFxyh9YRPr+jTlCVlUrwjNREqmsKRdyvlhUozKuZbuAyFqjPoZ gGVScv/xTFCH9aN784CmiQ9Seg7HFKv3s/6aqk9FpGAzMHe2iuEtjKZ552SvNIhikY9h4WNd8S2 mwX+zmi4DSW3G+It9tk4YD2/xzMNpLDNiuan6hHyyLdjNvVmroHikgskY3V2JWhL2cUZIV1wGT5 a+OJnTQ3p8r6IeRQxVwYpebRE5nEM6gHIQoBkWvsTO5wTXPuHQzhxnX+m7C+Quh8MVjE3DFfjgS GNEz+j6fE7vks+yQsfWzjg5iMQZ/gQ== X-Google-Smtp-Source: AGHT+IEMgsdN83OJwRwgzo6pJtsrxxYvqIPi5X3zFDsVJAyZFC5jGasjZKRikTWKFn9jVRohShQ/REXLu9eR X-Received: by 2002:a05:6214:20aa:b0:6d4:1613:be3e with SMTP id 6a1803df08f44-6e4680809dbmr53308436d6.22.1739284406960; Tue, 11 Feb 2025 06:33:26 -0800 (PST) Received: from postal.iol.unh.edu (postal.iol.unh.edu. [132.177.123.84]) by smtp-relay.gmail.com with ESMTPS id 6a1803df08f44-6e4517571b9sm4528436d6.55.2025.02.11.06.33.26 (version=TLS1_2 cipher=ECDHE-ECDSA-AES128-GCM-SHA256 bits=128/128); Tue, 11 Feb 2025 06:33:26 -0800 (PST) X-Relaying-Domain: iol.unh.edu Date: Tue, 11 Feb 2025 06:33:26 -0800 (PST) Message-ID: <67ab5fb6.050a0220.268fee.842fSMTPIN_ADDED_MISSING@mx.google.com> Received: from [172.21.0.5] (unknown [172.18.0.240]) by postal.iol.unh.edu (Postfix) with ESMTP id 569516052471; Tue, 11 Feb 2025 09:33:26 -0500 (EST) Subject: |SUCCESS| [GIT MASTER] c66daa12e76d7b4912cfb7109a761856a7a873ab From: dpdklab@iol.unh.edu To: Test Report Cc: dpdk-test-reports@iol.unh.edu, Xueming Li , Christian Ehrhardt , Kevin Traynor , Luca Boccassi Content-Type: text/plain X-BeenThere: test-report@dpdk.org X-Mailman-Version: 2.1.29 Precedence: list List-Id: automatic DPDK test reports List-Unsubscribe: , List-Archive: List-Post: List-Help: List-Subscribe: , Errors-To: test-report-bounces@dpdk.org _Testing PASS_ Branch: tags/v23.11 c66daa12e76d7b4912cfb7109a761856a7a873ab --> testing pass Upstream job id: Generic-DPDK-Compile-Meson#360535 Test environment and result as below: +------------------------------------+--------------------+ | Environment | dpdk_meson_compile | +====================================+====================+ | RHEL9 (ARM) | PASS | +------------------------------------+--------------------+ | Ubuntu 20.04 ARM GCC Cross Compile | PASS | +------------------------------------+--------------------+ | Debian 12 with MUSDK | PASS | +------------------------------------+--------------------+ | Ubuntu 20.04 ARM SVE | PASS | +------------------------------------+--------------------+ | Fedora 40 (ARM) | PASS | +------------------------------------+--------------------+ | Fedora 40 (ARM Clang) | PASS | +------------------------------------+--------------------+ | Fedora 41 (ARM Clang) | PASS | +------------------------------------+--------------------+ | CentOS Stream 9 (ARM) | PASS | +------------------------------------+--------------------+ | Ubuntu 20.04 (ARM) | PASS | +------------------------------------+--------------------+ | Fedora 41 (ARM) | PASS | +------------------------------------+--------------------+ | Ubuntu 22.04 (ARM) | PASS | +------------------------------------+--------------------+ | Ubuntu 24.04 (ARM) | PASS | +------------------------------------+--------------------+ | CentOS Stream 10 (ARM) | PASS | +------------------------------------+--------------------+ | Debian 11 (Buster) (ARM) | PASS | +------------------------------------+--------------------+ | Debian 12 (arm) | PASS | +------------------------------------+--------------------+ RHEL9 (ARM) Kernel: Depends on container host Compiler: gcc 11.5.0 20240719 (Red Hat 11.5.0-2) Ubuntu 20.04 ARM GCC Cross Compile Kernel: Depends on container host Compiler: aarch64-linux-gnu-gcc (Ubuntu 9.4.0-1ubuntu1~20.04.2) 9.4.0 Debian 12 with MUSDK Kernel: Depends on container host Compiler: gcc (Debian 12.2.0-14) 12.2.0 Ubuntu 20.04 ARM SVE Kernel: Depends on container host Compiler: gcc (Ubuntu 10.5.0-1ubuntu1~20.04) 10.5.0 Fedora 40 (ARM) Kernel: Depends on container host Compiler: gcc 14.2.1 20240912 (Red Hat 14.2.1-3) Fedora 40 (ARM Clang) Kernel: Depends on container host Compiler: clang 18.1.8 (Fedora 18.1.8-1.fc40) Fedora 41 (ARM Clang) Kernel: Depends on container host Compiler: clang 19.1.5 (Fedora 19.1.5-1.fc41) CentOS Stream 9 (ARM) Kernel: Depends on container host Compiler: gcc 11.5.0 20240719 (Red Hat 11.5.0-2) Ubuntu 20.04 (ARM) Kernel: Depends on container host Compiler: gcc (Ubuntu 9.4.0-1ubuntu1~20.04.2) 9.4.0 Fedora 41 (ARM) Kernel: Depends on container host Compiler: gcc 14.2.1 20240912 (Red Hat 14.2.1-3) Ubuntu 22.04 (ARM) Kernel: Depends on container host Compiler: gcc (Ubuntu 11.4.0-1ubuntu1~22.04) 11.4.0 Ubuntu 24.04 (ARM) Kernel: Depends on container host Compiler: gcc (Ubuntu 13.3.0-6ubuntu2~24.04) 13.3.0 CentOS Stream 10 (ARM) Kernel: Depends on container host Compiler: gcc 14.2.1 20241104 (Red Hat 14.2.1-6) Debian 11 (Buster) (ARM) Kernel: Depends on container host Compiler: gcc (Debian 10.2.1-6) 10.2.1 20210110 Debian 12 (arm) Kernel: Depends on container host Compiler: gcc (Debian 12.2.0-14) 12.2.0 To view detailed results, visit: https://lab.dpdk.org/results/dashboard/tarballs/32538/ UNH-IOL DPDK Community Lab To manage your email subscriptions, visit: https://lab.dpdk.org/results/dashboard/preferences/subscriptions/