From mboxrd@z Thu Jan 1 00:00:00 1970 Return-Path: Received: from mails.dpdk.org (mails.dpdk.org [217.70.189.124]) by inbox.dpdk.org (Postfix) with ESMTP id 60A02461F9 for ; Tue, 11 Feb 2025 15:36:03 +0100 (CET) Received: from mails.dpdk.org (localhost [127.0.0.1]) by mails.dpdk.org (Postfix) with ESMTP id 3F95D402C9; Tue, 11 Feb 2025 15:36:03 +0100 (CET) Received: from mail-ua1-f100.google.com (mail-ua1-f100.google.com [209.85.222.100]) by mails.dpdk.org (Postfix) with ESMTP id 42E2E402C2 for ; Tue, 11 Feb 2025 15:36:01 +0100 (CET) Received: by mail-ua1-f100.google.com with SMTP id a1e0cc1a2514c-866e924f735so1625253241.2 for ; Tue, 11 Feb 2025 06:36:01 -0800 (PST) DKIM-Signature: v=1; a=rsa-sha256; c=relaxed/relaxed; d=iol.unh.edu; s=unh-iol; t=1739284560; x=1739889360; darn=dpdk.org; h=cc:to:from:subject:message-id:date:from:to:cc:subject:date :message-id:reply-to; bh=Y27n51PEOByZu4+iSHo1oxm82tCJibbr+i7C2gOzrTM=; b=X7lEwJ9ejvo7DuMulm44QbgMNLbf/Zo9AhjsJ0mZLK2tnT0pDAsorQ3RfVFnnaviX0 IFOQVt6uhWStpjnD1Y8pvgGhsCsJSbpcziVhrq2s6kL8LR7yYngwJFWWg+7zZgkgtm7n ba1J4ySUNlRP6BVk+vVAwpB+vCL324YqRnURQ= X-Google-DKIM-Signature: v=1; a=rsa-sha256; c=relaxed/relaxed; d=1e100.net; s=20230601; t=1739284560; x=1739889360; h=cc:to:from:subject:message-id:date:x-gm-message-state:from:to:cc :subject:date:message-id:reply-to; bh=Y27n51PEOByZu4+iSHo1oxm82tCJibbr+i7C2gOzrTM=; b=Ka4I6Rx1dOFKRq+UnpCD0dqCt4QHZlMPL/gXA5OeEmrpQtoBJsOHMlNsrIzVwcV2qg hv2Pbe+v54yKKWuwopupGpbj8QEbxgttXmWJxVzwv2v3jwToBQKlHanFQMS0n/PeVgXG 7+EAatS3+7zl6/p/EsbvZPKo4KZXgIHsmoB/4DqoSKtHXLCmL0/2/uPi8nWEwFA51F4x sIL9dUKF8WSIBajacNPk4WYaBAMKbqAIxkVi8LEop3gBTV9fZE3x69kNOaqMNgC/XkJN 3GOPgjSB2nzDrZGqHedBsOtmyBLclqwv+B+kXLMRE7VGhcFXtRXBrI5qsDP0Ef7xjENH lSDg== X-Gm-Message-State: AOJu0YyO5lug62QDVFzZmXEhjq+112TKG7f6sVhcmT2qV2bamG9zqGcc bKo1Oc2Yn1h89iaakwubNaq2sCe5hcCSvJQXwSLiPD4LxdLtglDJslNCmOmupStf9sV8rhV87io 8cVAXRqXYgNINm428XnRp2ffhbS+CCAI2Q2XHjU1a X-Gm-Gg: ASbGncvzg2N8pL6B0BBm6EGEctuFue64IvL2BVHG7X9yvg/i3oxT09/p/hdsUEW5KWh MTHQJTJb/Mn47wMKypr3gWXsbDdwAO3KKeDsqPu+1SlQcpW5EY+WuUQSAi/CRSFm2JsokX2I+aJ I/7DPgQir/2aRN0SpPfb5SDLDP1zwnIZfIr1jZ0uPDjNWKZRCfVqmGlsS1iR/g4u4A+OOOLznQe SN6TptZQ+RTSFnsrfUdky3CddhsfALV3enFQ25qHP04IXycKfyYGgXoHEH71TdJfaiBi0JBdgid gHtCqnBnDLkQHTbCyvWIXm9o0qraOw== X-Google-Smtp-Source: AGHT+IEuE3uDRIQS5Wn/SjJ3844wSQVX4UKYTb4lnYXKQfXhtGhEK3STlsUXbuv/XkaQLKcoFej07pT2i1zg X-Received: by 2002:a05:6102:14a0:b0:4bb:dfd8:4177 with SMTP id ada2fe7eead31-4bbdfd84656mr2924107137.7.1739284560553; Tue, 11 Feb 2025 06:36:00 -0800 (PST) Received: from postal.iol.unh.edu (postal.iol.unh.edu. [132.177.123.84]) by smtp-relay.gmail.com with ESMTPS id ada2fe7eead31-4ba76eb0782sm285326137.2.2025.02.11.06.36.00 (version=TLS1_2 cipher=ECDHE-ECDSA-AES128-GCM-SHA256 bits=128/128); Tue, 11 Feb 2025 06:36:00 -0800 (PST) X-Relaying-Domain: iol.unh.edu Date: Tue, 11 Feb 2025 06:36:00 -0800 (PST) Message-ID: <67ab6050.670a0220.19dfe1.ce48SMTPIN_ADDED_MISSING@mx.google.com> Received: from [172.21.0.5] (unknown [172.18.0.240]) by postal.iol.unh.edu (Postfix) with ESMTP id C5D4E6052471; Tue, 11 Feb 2025 09:35:59 -0500 (EST) Subject: |SUCCESS| [GIT MASTER] d4d1e6c55a2f17785ee6be361599e1c5ab28f0fb From: dpdklab@iol.unh.edu To: Test Report Cc: dpdk-test-reports@iol.unh.edu, Stephen Hemminger Content-Type: text/plain X-BeenThere: test-report@dpdk.org X-Mailman-Version: 2.1.29 Precedence: list List-Id: automatic DPDK test reports List-Unsubscribe: , List-Archive: List-Post: List-Help: List-Subscribe: , Errors-To: test-report-bounces@dpdk.org _Testing PASS_ Branch: dpdk-next-net d4d1e6c55a2f17785ee6be361599e1c5ab28f0fb --> testing pass Upstream job id: Generic-DPDK-Compile-Meson#360554 Test environment and result as below: +----------------------------------------+--------------------+ | Environment | dpdk_meson_compile | +========================================+====================+ | RHEL9 (ARM) | PASS | +----------------------------------------+--------------------+ | Ubuntu 20.04 ARM GCC Cross Compile | PASS | +----------------------------------------+--------------------+ | Ubuntu 20.04 ARM SVE | PASS | +----------------------------------------+--------------------+ | Debian 12 with MUSDK | PASS | +----------------------------------------+--------------------+ | Fedora 40 (ARM) | PASS | +----------------------------------------+--------------------+ | Fedora 40 (ARM Clang) | PASS | +----------------------------------------+--------------------+ | Fedora 41 (ARM) | PASS | +----------------------------------------+--------------------+ | Fedora 41 (ARM Clang) | PASS | +----------------------------------------+--------------------+ | Ubuntu 20.04 (ARM) | PASS | +----------------------------------------+--------------------+ | Ubuntu 22.04 (ARM) | PASS | +----------------------------------------+--------------------+ | Ubuntu 24.04 (ARM) | PASS | +----------------------------------------+--------------------+ | CentOS Stream 9 (ARM) | PASS | +----------------------------------------+--------------------+ | CentOS Stream 10 (ARM) | PASS | +----------------------------------------+--------------------+ | Debian 11 (Buster) (ARM) | PASS | +----------------------------------------+--------------------+ | Debian 12 (arm) | PASS | +----------------------------------------+--------------------+ | Ubuntu 20.04 ARM Clang Cross Compile | PASS | +----------------------------------------+--------------------+ | Ubuntu 20.04 aarch32 GCC Cross Compile | PASS | +----------------------------------------+--------------------+ RHEL9 (ARM) Kernel: Depends on container host Compiler: gcc 11.5.0 20240719 (Red Hat 11.5.0-2) Ubuntu 20.04 ARM GCC Cross Compile Kernel: Depends on container host Compiler: aarch64-linux-gnu-gcc (Ubuntu 9.4.0-1ubuntu1~20.04.2) 9.4.0 Ubuntu 20.04 ARM SVE Kernel: Depends on container host Compiler: gcc (Ubuntu 10.5.0-1ubuntu1~20.04) 10.5.0 Debian 12 with MUSDK Kernel: Depends on container host Compiler: gcc (Debian 12.2.0-14) 12.2.0 Fedora 40 (ARM) Kernel: Depends on container host Compiler: gcc 14.2.1 20240912 (Red Hat 14.2.1-3) Fedora 40 (ARM Clang) Kernel: Depends on container host Compiler: clang 18.1.8 (Fedora 18.1.8-1.fc40) Fedora 41 (ARM) Kernel: Depends on container host Compiler: gcc 14.2.1 20240912 (Red Hat 14.2.1-3) Fedora 41 (ARM Clang) Kernel: Depends on container host Compiler: clang 19.1.5 (Fedora 19.1.5-1.fc41) Ubuntu 20.04 (ARM) Kernel: Depends on container host Compiler: gcc (Ubuntu 9.4.0-1ubuntu1~20.04.2) 9.4.0 Ubuntu 22.04 (ARM) Kernel: Depends on container host Compiler: gcc (Ubuntu 11.4.0-1ubuntu1~22.04) 11.4.0 Ubuntu 24.04 (ARM) Kernel: Depends on container host Compiler: gcc (Ubuntu 13.3.0-6ubuntu2~24.04) 13.3.0 CentOS Stream 9 (ARM) Kernel: Depends on container host Compiler: gcc 11.5.0 20240719 (Red Hat 11.5.0-2) CentOS Stream 10 (ARM) Kernel: Depends on container host Compiler: gcc 14.2.1 20241104 (Red Hat 14.2.1-6) Debian 11 (Buster) (ARM) Kernel: Depends on container host Compiler: gcc (Debian 10.2.1-6) 10.2.1 20210110 Debian 12 (arm) Kernel: Depends on container host Compiler: gcc (Debian 12.2.0-14) 12.2.0 Ubuntu 20.04 ARM Clang Cross Compile Kernel: Depends on container host Compiler: clang 10.0.0-4ubuntu1 Ubuntu 20.04 aarch32 GCC Cross Compile Kernel: Depends on container host Compiler: gcc 9.4.0 To view detailed results, visit: https://lab.dpdk.org/results/dashboard/tarballs/32539/ UNH-IOL DPDK Community Lab To manage your email subscriptions, visit: https://lab.dpdk.org/results/dashboard/preferences/subscriptions/