From mboxrd@z Thu Jan 1 00:00:00 1970 Return-Path: Received: from mails.dpdk.org (mails.dpdk.org [217.70.189.124]) by inbox.dpdk.org (Postfix) with ESMTP id 1AEEC461F9 for ; Tue, 11 Feb 2025 15:53:02 +0100 (CET) Received: from mails.dpdk.org (localhost [127.0.0.1]) by mails.dpdk.org (Postfix) with ESMTP id 15CD8402C9; Tue, 11 Feb 2025 15:53:02 +0100 (CET) Received: from mail-yw1-f228.google.com (mail-yw1-f228.google.com [209.85.128.228]) by mails.dpdk.org (Postfix) with ESMTP id 25203402C2 for ; Tue, 11 Feb 2025 15:53:01 +0100 (CET) Received: by mail-yw1-f228.google.com with SMTP id 00721157ae682-6ef60e500d7so44842357b3.0 for ; Tue, 11 Feb 2025 06:53:01 -0800 (PST) DKIM-Signature: v=1; a=rsa-sha256; c=relaxed/relaxed; d=iol.unh.edu; s=unh-iol; t=1739285580; x=1739890380; darn=dpdk.org; h=references:in-reply-to:cc:to:from:subject:message-id:date:from:to :cc:subject:date:message-id:reply-to; bh=pFSn+xGlvd7P1sErYxpKllYaY7pFDHxgDgb3rm+bhPQ=; b=HEEZoSPvDchsq7GzQMDt35U6Dnto1hkAfAjUJATbwqzeM0+As0cjyCc/KfspKdexgR ApQOvx3xmIxHwF+Ony+FE1DgyGeSgA9O/nS72PQ0n6AUYxWsuwrXvMxvBQew4Ymk8Lvl QZqa4e6lBo9AWypQcRf4zeNZTdLofATEufjlI= X-Google-DKIM-Signature: v=1; a=rsa-sha256; c=relaxed/relaxed; d=1e100.net; s=20230601; t=1739285580; x=1739890380; h=references:in-reply-to:cc:to:from:subject:message-id:date :x-gm-message-state:from:to:cc:subject:date:message-id:reply-to; bh=pFSn+xGlvd7P1sErYxpKllYaY7pFDHxgDgb3rm+bhPQ=; b=ScxgqHJYZZJ5JJekZz0arvU+bGz15oapk9aqv2OMJqbYVfDJPZM+z3FVIR+6FHf0AV U+C1hMvadXvFq5b1cwpBzIxzE19PArLH7EUxr/0mHIKRfY2X1hqtHUgPeOSTE2Kr8DTv Q8GQH2lYiPoIjJrdXsPspqXTbg6V+3hfmqoUzEBsiYgROFo7jyOdepAQDczmz3EBoYBf Mkp6fiTa0LS6/O8J47EOA7toCBirO7H7Hc2NjW9D/5A9lF/7rApLRYaom+T3/v1beo8k L30PPnxi9ZypMIM+YwiSvOChX3YBRQUsA3LWCti2k1lmLEfeTwQIzD7YUysp1F5aUAU7 9EQw== X-Gm-Message-State: AOJu0YwZnjsNIB9XcpL6JJ1P+kFpHwkmhkVJUs0/KgbmHAb5HMyURe7+ k1aS1NXOYzUnck45qG9RkVRNTmqV/RYolyS2CxE4Ytjp/yBOxFiFIxvgl6tzCNojKpvJ1XqG7sL rsvMr+qlD1TeuhxhaRqDeRIlsit7hFJotl6nBzOgv85/XMgs9LIicsSmh X-Gm-Gg: ASbGnctatdFh6xgih7IdlLNIkUMdYy1OnV0+7B9/P4SfoDMc1df4sRSW3yx/7q5GfQA HfxoE431geY+/PqOzDExW3lqnnWp56G/3ltqhJdCBMxWHHJo7WrMNO8eYyz7ccf4N5UaksY43dq Z0gB+KpjZaB/a7m5XLLCveWgxqHRM1tjbExVSsVPFuvex+Z+vEkZ2yC0wEAGgpKxxa+xZ5w/5Yl CgEW+SEYhUB2y5q1MFIT+XqgTEkbcLW4aHk0FJAYiFop5FLWowb1xocyl1wVK/QIMI6exwoA7LI BVygFT5SJRYoy04L3vGjUygZhD3zR8YX8VOOqiS0cQ== X-Google-Smtp-Source: AGHT+IEzqGHGiI3MELJm5jz06dQcfvKT8CMMtjr5tsqNaQvwOqLI63bXEYKIenvPT2sQnKnjXNDBfgJvy3Bc X-Received: by 2002:a05:690c:62c8:b0:6ef:94db:b208 with SMTP id 00721157ae682-6f9b2981affmr160979217b3.24.1739285580480; Tue, 11 Feb 2025 06:53:00 -0800 (PST) Received: from postal.iol.unh.edu (postal.iol.unh.edu. [2606:4100:3880:1234::84]) by smtp-relay.gmail.com with ESMTPS id 00721157ae682-6f99fe72dfbsm1168587b3.42.2025.02.11.06.53.00 (version=TLS1_2 cipher=ECDHE-ECDSA-AES128-GCM-SHA256 bits=128/128); Tue, 11 Feb 2025 06:53:00 -0800 (PST) X-Relaying-Domain: iol.unh.edu Date: Tue, 11 Feb 2025 06:53:00 -0800 (PST) Message-ID: <67ab644c.050a0220.102f8c.6138SMTPIN_ADDED_MISSING@mx.google.com> Received: from [172.21.0.5] (unknown [172.18.0.240]) by postal.iol.unh.edu (Postfix) with ESMTP id 1D8106052471; Tue, 11 Feb 2025 09:53:00 -0500 (EST) Subject: |SUCCESS| pw151296 [PATCH] mbuf: enable to be compiled with MSVC From: dpdklab@iol.unh.edu To: Test Report Cc: dpdk-test-reports@iol.unh.edu In-Reply-To: <1739224265-4158-1-git-send-email-andremue@linux.microsoft.com> References: <1739224265-4158-1-git-send-email-andremue@linux.microsoft.com> Content-Type: text/plain X-BeenThere: test-report@dpdk.org X-Mailman-Version: 2.1.29 Precedence: list List-Id: automatic DPDK test reports List-Unsubscribe: , List-Archive: List-Post: List-Help: List-Subscribe: , Errors-To: test-report-bounces@dpdk.org Test-Label: iol-unit-amd64-testing Test-Status: SUCCESS http://dpdk.org/patch/151296 _Testing PASS_ Submitter: Andre Muezerie Date: Monday, February 10 2025 21:51:05 DPDK git baseline: Repo:dpdk Branch: master CommitID:9d29cd6dc87d6c35c52194a5f7a34f2d84140353 151296 --> testing pass Upstream job id: Generic-VM-Unit-Test-DPDK#27197 Test environment and result as below: +---------------------+----------------+ | Environment | dpdk_unit_test | +=====================+================+ | CentOS Stream 9 | PASS | +---------------------+----------------+ | CentOS Stream 10 | PASS | +---------------------+----------------+ | Fedora 40 (Clang) | PASS | +---------------------+----------------+ | Fedora 40 | PASS | +---------------------+----------------+ | Debian 12 | PASS | +---------------------+----------------+ | Debian Bullseye | PASS | +---------------------+----------------+ | Fedora 41 | PASS | +---------------------+----------------+ | RHEL9 | PASS | +---------------------+----------------+ | RHEL8 | PASS | +---------------------+----------------+ | Fedora 41 (Clang) | PASS | +---------------------+----------------+ | Ubuntu 20.04 | PASS | +---------------------+----------------+ | Ubuntu 24.04 | PASS | +---------------------+----------------+ | Ubuntu 22.04 | PASS | +---------------------+----------------+ | Windows Server 2022 | PASS | +---------------------+----------------+ CentOS Stream 9 Kernel: Depends on container host Compiler: gcc 11.5.0 20240719 (Red Hat 11.5.0-2) CentOS Stream 10 Kernel: Depends on container host Compiler: gcc 14.2.1 20241104 (Red Hat 14.2.1-6) Fedora 40 (Clang) Kernel: Depends on container host Compiler: clang 18.1.8 (Fedora 18.1.8-1.fc40) Fedora 40 Kernel: Depends on container host Compiler: gcc 14.2.1 20240912 (Red Hat 14.2.1-3) Debian 12 Kernel: Depends on container host Compiler: gcc (Debian 12.2.0-14) 12.2.0 Debian Bullseye Kernel: Depends on container host Compiler: gcc (Debian 10.2.1-6) 10.2.1 20210110 Fedora 41 Kernel: Depends on container host Compiler: gcc 14.2.1 20240912 (Red Hat 14.2.1-3) RHEL9 Kernel: Depends on container host Compiler: gcc 11.5.0 20240719 (Red Hat 11.5.0-2) RHEL8 Kernel: Depends on container host Compiler: gcc 8.5.0 20210514 (Red Hat 8.5.0-22) Fedora 41 (Clang) Kernel: Depends on container host Compiler: clang 19.1.5 (Fedora 19.1.5-1.fc41) Ubuntu 20.04 Kernel: Depends on container host Compiler: gcc (Ubuntu 9.4.0-1ubuntu1~20.04.2) 9.4.0 Ubuntu 24.04 Kernel: Depends on container host Compiler: gcc (Ubuntu 13.3.0-6ubuntu2~24.04) 13.3.0 Ubuntu 22.04 Kernel: Depends on container host Compiler: gcc (Ubuntu 11.4.0-1ubuntu1~22.04) 11.4.0 Windows Server 2022 Kernel: 10.0.20348.2031 Compiler: clang 15.0.7, gcc 14.1.0 (MinGW), and MSVC VS 19.39.33521 To view detailed results, visit: https://lab.dpdk.org/results/dashboard/patchsets/32556/ UNH-IOL DPDK Community Lab To manage your email subscriptions, visit: https://lab.dpdk.org/results/dashboard/preferences/subscriptions/