From mboxrd@z Thu Jan 1 00:00:00 1970 Return-Path: Received: from mails.dpdk.org (mails.dpdk.org [217.70.189.124]) by inbox.dpdk.org (Postfix) with ESMTP id 38019461F9 for ; Tue, 11 Feb 2025 16:05:49 +0100 (CET) Received: from mails.dpdk.org (localhost [127.0.0.1]) by mails.dpdk.org (Postfix) with ESMTP id 33E4F402C9; Tue, 11 Feb 2025 16:05:49 +0100 (CET) Received: from mail-pl1-f227.google.com (mail-pl1-f227.google.com [209.85.214.227]) by mails.dpdk.org (Postfix) with ESMTP id AB976402B9 for ; Tue, 11 Feb 2025 16:05:47 +0100 (CET) Received: by mail-pl1-f227.google.com with SMTP id d9443c01a7336-21f61b01630so60772565ad.1 for ; Tue, 11 Feb 2025 07:05:47 -0800 (PST) DKIM-Signature: v=1; a=rsa-sha256; c=relaxed/relaxed; d=iol.unh.edu; s=unh-iol; t=1739286346; x=1739891146; darn=dpdk.org; h=references:in-reply-to:cc:to:from:subject:message-id:date:from:to :cc:subject:date:message-id:reply-to; bh=OGizgtCqjgpBpV2qUNy98VjQdvxPCnjLybrx+/n0SjY=; b=WvlDHbFtZJ43B4mwCZIwHUXqwszrKC2V2iIrabrTu8Uu4r3qxEbDHsAkgbpBR8MLOs +gkuAk2dk/gAJzwvfXmuyr23hv0ZqmPaxCUWPUP7KOHf75OCyLiqT7KLKPJpfBPP28FE 7Fc7P4xMUcRG+yeCxrMyoU3dZy5o0yc/HQJho= X-Google-DKIM-Signature: v=1; a=rsa-sha256; c=relaxed/relaxed; d=1e100.net; s=20230601; t=1739286346; x=1739891146; h=references:in-reply-to:cc:to:from:subject:message-id:date :x-gm-message-state:from:to:cc:subject:date:message-id:reply-to; bh=OGizgtCqjgpBpV2qUNy98VjQdvxPCnjLybrx+/n0SjY=; b=P5mnR/BEOsXFIP8o/DjHBKFPehEHFZO2Q42rlVujBDBBXDpGTlyjdNqan4ZHOnPNWj C3MurdUH++mxVak45+R9Mb+2zrCAoFvr2zZ1Z5JcFMi02n/UNrEU4W8oYFKudUSyyyQ0 FdYSg4+MGK99wlQYd9uo0p0J4hJdpQ+SxCw6dkyROljsidChezjIUVuDhSN1B5EzCMrU VCzLQmu0/4qJpb/LNw+pNoPnG4kVCCpozQqtbuzuyZp0kpsBnn8ZijqMT6IHzaidfRvO DEP2wOutqmvPHmA1ESCbToyJ1KFQrq1wmD4mgS9pcrMlB2X90UX20mrNymBBupH0VYo0 +VAQ== X-Gm-Message-State: AOJu0YySe0nVh4MaCfqsqAuDqJsvbMiHopahBA2RrWZRjkgPGROCgBtQ R2Px4u4PuxEqOwkEjfjA0+M7f7K+eOOFQBDvAtx1/Nxbo62iXuOCrFh/UNFuDdShUZ8J6iz7fMd nko3JBW/2K1u6yBsNmROZF8VLS2/D75lhsIY7JBV5m8yHrQmQfOwNdgn+ X-Gm-Gg: ASbGnct55uuWllTsKCLagiWhayal4RNaF5DrY/l49iRZePN7vfR2djJRtMNgW9dEurG GNu6VmPYY1CVV1IuW8e73VKT7E5NAL8OIlv8w9Wc7TumA7kDQp/NZnxSVoploVuXj1neoAKIa0A IcIjoyZPfK5idChLYaJ0xntTdukfFtUCUOIM5xw2Ae8cqiwfEqmN/5WG7d6dGoAzOFvKnqrozTH oZLVxc/rB9Cq7HqdiOr83YsaHSKE60QqNZtnWHBlgxTKN9UDuIxNf9EUmkoW6lFT31QiWhhw0HR OhkOZU6rVmhyJ7vvd2ZaaHPMR6z/swv8sv3bDKfrCA== X-Google-Smtp-Source: AGHT+IHG+4evWFLjJYpF9gEruuX6XX7c33p2CVtup4D3oMXgKkf39CsFhGWlDFCT2U58xWV/ibVALywrkSeV X-Received: by 2002:a05:6a20:7348:b0:1ed:d780:feaf with SMTP id adf61e73a8af0-1ee4b59dac1mr6391276637.6.1739286345785; Tue, 11 Feb 2025 07:05:45 -0800 (PST) Received: from postal.iol.unh.edu (postal.iol.unh.edu. [2606:4100:3880:1234::84]) by smtp-relay.gmail.com with ESMTPS id d2e1a72fcca58-7307a1b4fbfsm366807b3a.15.2025.02.11.07.05.45 (version=TLS1_2 cipher=ECDHE-ECDSA-AES128-GCM-SHA256 bits=128/128); Tue, 11 Feb 2025 07:05:45 -0800 (PST) X-Relaying-Domain: iol.unh.edu Date: Tue, 11 Feb 2025 07:05:45 -0800 (PST) Message-ID: <67ab6749.050a0220.50561.2fcbSMTPIN_ADDED_MISSING@mx.google.com> Received: from [172.21.0.6] (unknown [172.18.0.240]) by postal.iol.unh.edu (Postfix) with ESMTP id 40CBD6052471; Tue, 11 Feb 2025 10:05:45 -0500 (EST) Subject: |WARNING| pw151280 [PATCH] [v3] build: replace support for icc with From: dpdklab@iol.unh.edu To: Test Report Cc: dpdk-test-reports@iol.unh.edu In-Reply-To: <20250210171845.1669874-1-bruce.richardson@intel.com> References: <20250210171845.1669874-1-bruce.richardson@intel.com> Content-Type: text/plain X-BeenThere: test-report@dpdk.org X-Mailman-Version: 2.1.29 Precedence: list List-Id: automatic DPDK test reports List-Unsubscribe: , List-Archive: List-Post: List-Help: List-Subscribe: , Errors-To: test-report-bounces@dpdk.org Test-Label: iol-sample-apps-testing Test-Status: WARNING http://dpdk.org/patch/151280 _Testing issues_ Submitter: Bruce Richardson Date: Monday, February 10 2025 17:18:42 DPDK git baseline: Repo:dpdk Branch: master CommitID:7587660f199266ce45aabb8c2259dd09452cb01d 151280 --> testing issues Upstream job id: ACVP-FIPS-testing#8869 Test environment and result as below: +--------------------+----------------------+----------------------+ | Environment | compressdev_zlib_pmd | dpdk_fips_validation | +====================+======================+======================+ | Ubuntu 22.04 (ARM) | PASS | SKIPPED | +--------------------+----------------------+----------------------+ | Ubuntu 22.04 | PASS | SKIPPED | +--------------------+----------------------+----------------------+ | Ubuntu 20.04 | SKIPPED | WARN | +--------------------+----------------------+----------------------+ ==== 20 line log output for Ubuntu 20.04 (dpdk_fips_validation): ==== INFO:root:Using response file... INFO:root:Uploading response file... INFO:root:Fetching verdict... INFO:root:Downloading verdict for vector set 2897059 INFO:root:Vector set verdict not ready, waiting 30 seconds... INFO:root:Vector set verdict not ready, waiting 30 seconds... INFO:root:Done INFO:root:Using response file... INFO:root:Uploading response file... INFO:root:Fetching verdict... INFO:root:Downloading verdict for vector set 2897108 INFO:root:Vector set verdict not ready, waiting 30 seconds... INFO:root:Done INFO:root:Using response file... INFO:root:Uploading response file... INFO:root:Fetching verdict... INFO:root:Downloading verdict for vector set 2897110 INFO:root:Vector set verdict not ready, waiting 30 seconds... INFO:root:Vector set verdict not ready, waiting 30 seconds... INFO:root:Done ==== End log output ==== Ubuntu 22.04 (ARM) Kernel: 5.15.0-97-generic Compiler: gcc gcc (Ubuntu 11.4.0-1ubuntu1~22.04) 11.4.0 Ubuntu 22.04 Kernel: 5.15.0-100-generic Compiler: gcc gcc (Ubuntu 11.4.0-1ubuntu1~22.04) 11.4.0 Ubuntu 20.04 Kernel: Depends on container host Compiler: gcc (Ubuntu 9.4.0-1ubuntu1~20.04.2) 9.4.0 To view detailed results, visit: https://lab.dpdk.org/results/dashboard/patchsets/32549/ UNH-IOL DPDK Community Lab To manage your email subscriptions, visit: https://lab.dpdk.org/results/dashboard/preferences/subscriptions/