From mboxrd@z Thu Jan 1 00:00:00 1970 Return-Path: Received: from mails.dpdk.org (mails.dpdk.org [217.70.189.124]) by inbox.dpdk.org (Postfix) with ESMTP id 1CA5C461F9 for ; Tue, 11 Feb 2025 16:17:26 +0100 (CET) Received: from mails.dpdk.org (localhost [127.0.0.1]) by mails.dpdk.org (Postfix) with ESMTP id EAF11402C9; Tue, 11 Feb 2025 16:17:25 +0100 (CET) Received: from mail-pl1-f228.google.com (mail-pl1-f228.google.com [209.85.214.228]) by mails.dpdk.org (Postfix) with ESMTP id 55E85402C6 for ; Tue, 11 Feb 2025 16:17:24 +0100 (CET) Received: by mail-pl1-f228.google.com with SMTP id d9443c01a7336-21f78b1fb7dso44994785ad.3 for ; Tue, 11 Feb 2025 07:17:24 -0800 (PST) DKIM-Signature: v=1; a=rsa-sha256; c=relaxed/relaxed; d=iol.unh.edu; s=unh-iol; t=1739287043; x=1739891843; darn=dpdk.org; h=references:in-reply-to:cc:to:from:subject:message-id:date:from:to :cc:subject:date:message-id:reply-to; bh=emmS9Wa2ca9YnlQsH23YS1EOAL8KKU+Tovx0aePFlU0=; b=Noy0xF2fSrDZfdpMJG/hpnh3H8337BM6b+5ZRvvh7W3fCuo4wxuZKjW1sGcW7YyYhN JUvXFX5MwYJnFrROt8RwE2w1mGyXsLLSlahx+fo0MzcwsowRop8YMxj0u6ED+Kd9pxp2 mbVl/Yv/bC1YWQZTzuCTpCl8HntkhkdxmCvFE= X-Google-DKIM-Signature: v=1; a=rsa-sha256; c=relaxed/relaxed; d=1e100.net; s=20230601; t=1739287043; x=1739891843; h=references:in-reply-to:cc:to:from:subject:message-id:date :x-gm-message-state:from:to:cc:subject:date:message-id:reply-to; bh=emmS9Wa2ca9YnlQsH23YS1EOAL8KKU+Tovx0aePFlU0=; b=FEE3RapltlIe+oQFzHv72s/+Ovdc+2WvKJyRvt6sa02MmFU/hGSHmL+l1eoSbjVqyB 1lZWj5d0MKKMcSzCKkYicym3e7EPUuNiM/Qjen65QmOxZmZcJhYusNp0mWJ9vZbdktdL dYbUWiK//pvha3SWpJc6GM2AKOpj9naPyaCHGSYz+FsuuiCndIQSblf8Lg35Qliv4FSb V9ieyeLUy/UKme6AxreOZHLZnHdf4DVJM6Qqx4hOkyF6PP4kDNJaWLFZRUgp+IW/TSqk 7vPXnvahV186Ev0z7KW326EnADk/eF4Vc3gx9PRdyrU7eOEgx7I0km8r0RwAPk3rzWdM u2GQ== X-Gm-Message-State: AOJu0Yy4P80ZGQ/eTafBeCFHB/U9m5qevYLtyMGCTMuhIsnGAPHC+LG/ ySR+iLwkgTYxmpkPKTZz/rDYyenalLsSyJYUhnOz44UO7cZCgMqf3X3P4Y+oFNvWoX/7rBHPsPb Y54oatIp7Uq4EgzAe8WyDYASrnKiK+CH3Rys7rEQ/ X-Gm-Gg: ASbGncvpO++HkXnUGhotEXneP8zAnLVO18OY9z959c9BtHE47IWTthCQJ3gFQPpc9Tz 5aVd/4aVnywNuAUO6Jpfm5vZWsq4k7IAPNhFhisntabSCeJpXtUxPvioWJsO0QlSbxlLf/89RCu EXZfenUeb6L7XEOua5lT6uQtWxCBEYJtU6c9/cFxU+FtY7stwere8qLa3jqeSwIrsrSsVOscI+1 wSUP6Zcc4SSdshCmLNAe3uVgSLkHOnhYy1klxEgC1NUUAFQ84+YeJhwvni6WKSeQUvAjsg0J1zx jDzwQf1bYEVco8jCnHXSexqZh0UumA== X-Google-Smtp-Source: AGHT+IEQ5c1JNV5ZJf1ih5ua3TeSGsUyTu5Y+u0p4Ecqx+rf+ztU0hdvwIxLMw/FGJFTV6ejsndEEWPI84EA X-Received: by 2002:a17:902:da8d:b0:21f:6cd4:8c32 with SMTP id d9443c01a7336-21f6cd48cfbmr263089265ad.22.1739287043313; Tue, 11 Feb 2025 07:17:23 -0800 (PST) Received: from postal.iol.unh.edu (postal.iol.unh.edu. [132.177.123.84]) by smtp-relay.gmail.com with ESMTPS id d9443c01a7336-21f36562335sm6580075ad.52.2025.02.11.07.17.23 (version=TLS1_2 cipher=ECDHE-ECDSA-AES128-GCM-SHA256 bits=128/128); Tue, 11 Feb 2025 07:17:23 -0800 (PST) X-Relaying-Domain: iol.unh.edu Date: Tue, 11 Feb 2025 07:17:23 -0800 (PST) Message-ID: <67ab6a03.170a0220.3acd8a.1f12SMTPIN_ADDED_MISSING@mx.google.com> Received: from [172.21.0.6] (unknown [172.18.0.240]) by postal.iol.unh.edu (Postfix) with ESMTP id A63D56052471; Tue, 11 Feb 2025 10:17:22 -0500 (EST) Subject: |SUCCESS| pw151296 [PATCH] mbuf: enable to be compiled with MSVC From: dpdklab@iol.unh.edu To: Test Report Cc: dpdk-test-reports@iol.unh.edu In-Reply-To: <1739224265-4158-1-git-send-email-andremue@linux.microsoft.com> References: <1739224265-4158-1-git-send-email-andremue@linux.microsoft.com> Content-Type: text/plain X-BeenThere: test-report@dpdk.org X-Mailman-Version: 2.1.29 Precedence: list List-Id: automatic DPDK test reports List-Unsubscribe: , List-Archive: List-Post: List-Help: List-Subscribe: , Errors-To: test-report-bounces@dpdk.org Test-Label: iol-abi-testing Test-Status: SUCCESS http://dpdk.org/patch/151296 _Testing PASS_ Submitter: Andre Muezerie Date: Monday, February 10 2025 21:51:05 DPDK git baseline: Repo:dpdk Branch: master CommitID:9d29cd6dc87d6c35c52194a5f7a34f2d84140353 151296 --> testing pass Upstream job id: Generic-DPDK-Compile-ABI#115825 Test environment and result as below: +-------------------+----------+ | Environment | abi_test | +===================+==========+ | CentOS Stream 9 | PASS | +-------------------+----------+ | CentOS Stream 10 | PASS | +-------------------+----------+ | Fedora 40 (Clang) | PASS | +-------------------+----------+ | Fedora 41 (Clang) | PASS | +-------------------+----------+ | Debian Bullseye | PASS | +-------------------+----------+ | Fedora 40 | PASS | +-------------------+----------+ | Debian 12 | PASS | +-------------------+----------+ | Fedora 41 | PASS | +-------------------+----------+ | openSUSE Leap 15 | PASS | +-------------------+----------+ | RHEL8 | PASS | +-------------------+----------+ | RHEL9 | PASS | +-------------------+----------+ | Ubuntu 22.04 | PASS | +-------------------+----------+ | Ubuntu 24.04 | PASS | +-------------------+----------+ CentOS Stream 9 Kernel: Depends on container host Compiler: gcc 11.5.0 20240719 (Red Hat 11.5.0-2) CentOS Stream 10 Kernel: Depends on container host Compiler: gcc 14.2.1 20241104 (Red Hat 14.2.1-6) Fedora 40 (Clang) Kernel: Depends on container host Compiler: clang 18.1.8 (Fedora 18.1.8-1.fc40) Fedora 41 (Clang) Kernel: Depends on container host Compiler: clang 19.1.5 (Fedora 19.1.5-1.fc41) Debian Bullseye Kernel: Depends on container host Compiler: gcc (Debian 10.2.1-6) 10.2.1 20210110 Fedora 40 Kernel: Depends on container host Compiler: gcc 14.2.1 20240912 (Red Hat 14.2.1-3) Debian 12 Kernel: Depends on container host Compiler: gcc (Debian 12.2.0-14) 12.2.0 Fedora 41 Kernel: Depends on container host Compiler: gcc 14.2.1 20240912 (Red Hat 14.2.1-3) openSUSE Leap 15 Kernel: Depends on container host Compiler: gcc (SUSE Linux) 7.5.0 RHEL8 Kernel: Depends on container host Compiler: gcc 8.5.0 20210514 (Red Hat 8.5.0-22) RHEL9 Kernel: Depends on container host Compiler: gcc 11.5.0 20240719 (Red Hat 11.5.0-2) Ubuntu 22.04 Kernel: Depends on container host Compiler: gcc (Ubuntu 11.4.0-1ubuntu1~22.04) 11.4.0 Ubuntu 24.04 Kernel: Depends on container host Compiler: gcc (Ubuntu 13.3.0-6ubuntu2~24.04) 13.3.0 To view detailed results, visit: https://lab.dpdk.org/results/dashboard/patchsets/32556/ UNH-IOL DPDK Community Lab To manage your email subscriptions, visit: https://lab.dpdk.org/results/dashboard/preferences/subscriptions/