From mboxrd@z Thu Jan 1 00:00:00 1970 Return-Path: Received: from mails.dpdk.org (mails.dpdk.org [217.70.189.124]) by inbox.dpdk.org (Postfix) with ESMTP id 105E9461F9 for ; Tue, 11 Feb 2025 16:47:33 +0100 (CET) Received: from mails.dpdk.org (localhost [127.0.0.1]) by mails.dpdk.org (Postfix) with ESMTP id 053EA4064E; Tue, 11 Feb 2025 16:47:33 +0100 (CET) Received: from mail-il1-f226.google.com (mail-il1-f226.google.com [209.85.166.226]) by mails.dpdk.org (Postfix) with ESMTP id CB8E04064E for ; Tue, 11 Feb 2025 16:47:31 +0100 (CET) Received: by mail-il1-f226.google.com with SMTP id e9e14a558f8ab-3cfc8772469so20388955ab.3 for ; Tue, 11 Feb 2025 07:47:31 -0800 (PST) DKIM-Signature: v=1; a=rsa-sha256; c=relaxed/relaxed; d=iol.unh.edu; s=unh-iol; t=1739288851; x=1739893651; darn=dpdk.org; h=references:in-reply-to:cc:to:from:subject:message-id:date:from:to :cc:subject:date:message-id:reply-to; bh=91Pj+PYRNlhGVop6NlnCIKnF2kzndfiYCm4dmVHRepo=; b=Ru6gkcvHDGe3KiuiUodkwuMZCqz2hzDsugzuqh1BkAW2EEECiYXMXT9QbHPbbFzf03 0rVU8PcGF3HM/J9wflp6jtDGnC1CP459akK+FMKKlgSykpE1uNpRxZF+MRsjtKm97EX8 V9ib3GjSrvy5XW4jXuMNQNXprIGU6HseqgP0k= X-Google-DKIM-Signature: v=1; a=rsa-sha256; c=relaxed/relaxed; d=1e100.net; s=20230601; t=1739288851; x=1739893651; h=references:in-reply-to:cc:to:from:subject:message-id:date :x-gm-message-state:from:to:cc:subject:date:message-id:reply-to; bh=91Pj+PYRNlhGVop6NlnCIKnF2kzndfiYCm4dmVHRepo=; b=ozZXt7q5PuiyNk5/csdx1RdjCOiriKgqkluj5f0kZ7t/ipwxJKlkZ1GtEKrpzfj94o q0I74C0lbYt14hqE5c+49dNYu25QbgvVAD5G+IQ9/vjiwH/M37h/s/j4ihLN3ibUPPfn q8jOI+Zrdsp2yOJrhaKH4NFOy/vg4akXpFZXw+cP/TB313QMPHVEm0hJ27NWt9DSyo9M 6i27p8OEhc0amA4TlbLzb9u0EFVySqVYIeuTHUhIkXlKetw3fjs4jsDkzc7vQGMmOPPv mdBbNl34ULvscVTeCuymOc+pyhOgtdYhIvvOuqW4WE2bKxOJR0SVCPeIKVLiRqkWSDgY T3zQ== X-Gm-Message-State: AOJu0Ywut+QXBX0DR5C18ChMpKFN2ELQ+qLfDASzpi8pdCTB6CxIt1ba pNo0ZfWgDspburtDvPvu4+wlLKNhtV+GmU/6R7txCCPYT14Nzy31SMuppH9Kh8tHx13aDOhV+aR V4oDgFLwlgk9IxGzM9QD8RKJ6kRBt9gIHv2TJou8phB4caY7xsFByVA3z X-Gm-Gg: ASbGncvvjOXle4t58wzV2VtkY8l6QXdOB/AFlrvWxrg+rA3ArodPoPIAyOWejdQFWFY kUA7Tqad1jdhNC16p5iZuGjmQ8iVdQtyLqnrMt8mBwFtyTgi1fwgYygms/u5dt+5V4jMJhQv27F g50qpc0lduh4Qwwsnmz6LWGZ4wBbopwxr2iyU3ah0rGfaSLXYudHuHcA3DwouEOj9IZOE8MQ5HW RfdqP4BxSCRmx3MjtHulBlXDHAQSHjCleubS+g6GxCOC8GMxy8r4BSOuwpS0a+I84MKSl7PVCW0 D7QhpcxVLsDFZH3t+g6ozyKOaMxOcPugP+xHS0wtZQ== X-Google-Smtp-Source: AGHT+IGo6+oQrYnSQqwny67eWf2xZBtjlVsJfzdmlOS3dj9R4jglLAXMDGHEq3p+oxqdGpN+cu8WGI2Ksk2F X-Received: by 2002:a05:6e02:1707:b0:3cf:bc71:94f5 with SMTP id e9e14a558f8ab-3d13df941a1mr147591045ab.22.1739288851106; Tue, 11 Feb 2025 07:47:31 -0800 (PST) Received: from postal.iol.unh.edu (postal.iol.unh.edu. [2606:4100:3880:1234::84]) by smtp-relay.gmail.com with ESMTPS id e9e14a558f8ab-3d05e918545sm7482665ab.29.2025.02.11.07.47.31 (version=TLS1_2 cipher=ECDHE-ECDSA-AES128-GCM-SHA256 bits=128/128); Tue, 11 Feb 2025 07:47:31 -0800 (PST) X-Relaying-Domain: iol.unh.edu Date: Tue, 11 Feb 2025 07:47:31 -0800 (PST) Message-ID: <67ab7113.050a0220.2061e.61fbSMTPIN_ADDED_MISSING@mx.google.com> Received: from [172.21.0.7] (unknown [172.18.0.240]) by postal.iol.unh.edu (Postfix) with ESMTP id 964A96052471; Tue, 11 Feb 2025 10:47:30 -0500 (EST) Subject: |SUCCESS| pw151296 [PATCH] mbuf: enable to be compiled with MSVC From: dpdklab@iol.unh.edu To: Test Report Cc: dpdk-test-reports@iol.unh.edu In-Reply-To: <1739224265-4158-1-git-send-email-andremue@linux.microsoft.com> References: <1739224265-4158-1-git-send-email-andremue@linux.microsoft.com> Content-Type: text/plain X-BeenThere: test-report@dpdk.org X-Mailman-Version: 2.1.29 Precedence: list List-Id: automatic DPDK test reports List-Unsubscribe: , List-Archive: List-Post: List-Help: List-Subscribe: , Errors-To: test-report-bounces@dpdk.org Test-Label: iol-unit-arm64-testing Test-Status: SUCCESS http://dpdk.org/patch/151296 _Testing PASS_ Submitter: Andre Muezerie Date: Monday, February 10 2025 21:51:05 DPDK git baseline: Repo:dpdk Branch: master CommitID:9d29cd6dc87d6c35c52194a5f7a34f2d84140353 151296 --> testing pass Upstream job id: Generic-Unit-Test-DPDK#314080 Test environment and result as below: +-----------------------------+----------------+--------------+------------------------------+---------------------------+ | Environment | dpdk_unit_test | lpm_autotest | cryptodev_sw_snow3g_autotest | cryptodev_sw_zuc_autotest | +=============================+================+==============+==============================+===========================+ | Fedora 40 (ARM) | PASS | SKIPPED | SKIPPED | SKIPPED | +-----------------------------+----------------+--------------+------------------------------+---------------------------+ | CentOS Stream 9 (ARM) | PASS | SKIPPED | SKIPPED | SKIPPED | +-----------------------------+----------------+--------------+------------------------------+---------------------------+ | Debian 12 (arm) | PASS | SKIPPED | PASS | PASS | +-----------------------------+----------------+--------------+------------------------------+---------------------------+ | CentOS Stream 10 (ARM) | PASS | SKIPPED | SKIPPED | SKIPPED | +-----------------------------+----------------+--------------+------------------------------+---------------------------+ | Fedora 40 (ARM Clang) | PASS | SKIPPED | SKIPPED | SKIPPED | +-----------------------------+----------------+--------------+------------------------------+---------------------------+ | Debian 11 (Buster) (ARM) | PASS | SKIPPED | SKIPPED | SKIPPED | +-----------------------------+----------------+--------------+------------------------------+---------------------------+ | Fedora 41 (ARM) | PASS | SKIPPED | SKIPPED | SKIPPED | +-----------------------------+----------------+--------------+------------------------------+---------------------------+ | Ubuntu 20.04 (ARM) | PASS | SKIPPED | SKIPPED | SKIPPED | +-----------------------------+----------------+--------------+------------------------------+---------------------------+ | Fedora 41 (ARM Clang) | PASS | SKIPPED | SKIPPED | SKIPPED | +-----------------------------+----------------+--------------+------------------------------+---------------------------+ | RHEL9 (ARM) | PASS | SKIPPED | SKIPPED | SKIPPED | +-----------------------------+----------------+--------------+------------------------------+---------------------------+ | Ubuntu 22.04 (ARM) | PASS | SKIPPED | SKIPPED | SKIPPED | +-----------------------------+----------------+--------------+------------------------------+---------------------------+ | Ubuntu 24.04 (ARM) | PASS | SKIPPED | SKIPPED | SKIPPED | +-----------------------------+----------------+--------------+------------------------------+---------------------------+ | 32-bit Ubuntu 22.04.4 (ARM) | PASS | SKIPPED | SKIPPED | SKIPPED | +-----------------------------+----------------+--------------+------------------------------+---------------------------+ | Ubuntu 20.04 ARM SVE | SKIPPED | PASS | SKIPPED | SKIPPED | +-----------------------------+----------------+--------------+------------------------------+---------------------------+ Fedora 40 (ARM) Kernel: Depends on container host Compiler: gcc 14.2.1 20240912 (Red Hat 14.2.1-3) CentOS Stream 9 (ARM) Kernel: Depends on container host Compiler: gcc 11.5.0 20240719 (Red Hat 11.5.0-2) Debian 12 (arm) Kernel: Depends on container host Compiler: gcc (Debian 12.2.0-14) 12.2.0 CentOS Stream 10 (ARM) Kernel: Depends on container host Compiler: gcc 14.2.1 20241104 (Red Hat 14.2.1-6) Fedora 40 (ARM Clang) Kernel: Depends on container host Compiler: clang 18.1.8 (Fedora 18.1.8-1.fc40) Debian 11 (Buster) (ARM) Kernel: Depends on container host Compiler: gcc (Debian 10.2.1-6) 10.2.1 20210110 Fedora 41 (ARM) Kernel: Depends on container host Compiler: gcc 14.2.1 20240912 (Red Hat 14.2.1-3) Ubuntu 20.04 (ARM) Kernel: Depends on container host Compiler: gcc (Ubuntu 9.4.0-1ubuntu1~20.04.2) 9.4.0 Fedora 41 (ARM Clang) Kernel: Depends on container host Compiler: clang 19.1.5 (Fedora 19.1.5-1.fc41) RHEL9 (ARM) Kernel: Depends on container host Compiler: gcc 11.5.0 20240719 (Red Hat 11.5.0-2) Ubuntu 22.04 (ARM) Kernel: Depends on container host Compiler: gcc (Ubuntu 11.4.0-1ubuntu1~22.04) 11.4.0 Ubuntu 24.04 (ARM) Kernel: Depends on container host Compiler: gcc (Ubuntu 13.3.0-6ubuntu2~24.04) 13.3.0 32-bit Ubuntu 22.04.4 (ARM) Kernel: 5.15.83+ aarch64 Compiler: gcc (Ubuntu 11.4.0-1ubuntu1~22.04) 11.4.0 Ubuntu 20.04 ARM SVE Kernel: Depends on container host Compiler: gcc (Ubuntu 10.5.0-1ubuntu1~20.04) 10.5.0 To view detailed results, visit: https://lab.dpdk.org/results/dashboard/patchsets/32556/ UNH-IOL DPDK Community Lab To manage your email subscriptions, visit: https://lab.dpdk.org/results/dashboard/preferences/subscriptions/