From mboxrd@z Thu Jan 1 00:00:00 1970 Return-Path: Received: from mails.dpdk.org (mails.dpdk.org [217.70.189.124]) by inbox.dpdk.org (Postfix) with ESMTP id 4B3ED461F9 for ; Tue, 11 Feb 2025 17:18:52 +0100 (CET) Received: from mails.dpdk.org (localhost [127.0.0.1]) by mails.dpdk.org (Postfix) with ESMTP id 407C7402DA; Tue, 11 Feb 2025 17:18:52 +0100 (CET) Received: from mail-oa1-f97.google.com (mail-oa1-f97.google.com [209.85.160.97]) by mails.dpdk.org (Postfix) with ESMTP id E50D1402C9 for ; Tue, 11 Feb 2025 17:18:50 +0100 (CET) Received: by mail-oa1-f97.google.com with SMTP id 586e51a60fabf-2b832eabf39so2685046fac.3 for ; Tue, 11 Feb 2025 08:18:50 -0800 (PST) DKIM-Signature: v=1; a=rsa-sha256; c=relaxed/relaxed; d=iol.unh.edu; s=unh-iol; t=1739290730; x=1739895530; darn=dpdk.org; h=references:in-reply-to:cc:to:from:subject:message-id:date:from:to :cc:subject:date:message-id:reply-to; bh=uC+fYSTMNP5uPJ4Fgy1boORDhxsYRBEvYu76u3V+b5w=; b=dwNmVwDHZxwzuLZ9YXou8ILNVM6Je8ur2hzm0P1JH+qC15xTC81oXFqb+0eUWL6/w+ Eyd5qldSVHWy06I46tlGIsjbf5e8M5Hj3l1pDJx0eK/Yi8Jrbw9/Zok+THhgKgMssp7D oHkxHQvSTIHCh4ZBiS0F/SCqpIUKKhOIhlH5k= X-Google-DKIM-Signature: v=1; a=rsa-sha256; c=relaxed/relaxed; d=1e100.net; s=20230601; t=1739290730; x=1739895530; h=references:in-reply-to:cc:to:from:subject:message-id:date :x-gm-message-state:from:to:cc:subject:date:message-id:reply-to; bh=uC+fYSTMNP5uPJ4Fgy1boORDhxsYRBEvYu76u3V+b5w=; b=RTNhnBqVTrG5Rfo8JJXQJuXhoE6XipnPoEsRJNotrtQ78ynD5HPLl7eTmea++TfkYy aJq3csz5gOuB1lBaTzjDq8de0kLK+7wU8GtjE3NEXKFSnGmBR4mFxKc9RZ8C/oMcwHhv cFajcfLFJpIkD5uwUsD60EKXvu9uNk3WETwpMUcGUwBCKusZNjOkL6HUwqMOqj3CSp5/ krLREo6VQ4P1p5sp3hEuhy/sg1Qxwqo4DSNUJ99WncCvejrmHui1IOxczWjDKo4/RnK4 EXTPsGDFoipj/2CNATmMCBIVD+zz19vbchb152w3L0mOcsYfxsxHa2EVdo4W5IlGz2OQ Vx/w== X-Gm-Message-State: AOJu0Yypv3ym99XG44vKCqI85PXKP330Hmjs1vMJjv7jPW2JYDmokh5U nmeqppN6YuINJKJNpaAYHrx0U+Utbx1Q08Ac/YzM7jN/nnf5nln8epqvy/NM6LfDN2IaS4kRq8O ipanCpgtuoGKsaOKuB+ymAoofXvk8AnmTk/vbY3cEgJmE+isP2UwlKpPC X-Gm-Gg: ASbGnctFwDlyhIqPgeuBQuqesCDJkfG4UVVRuarzfy6EmksO7OHa8zBQA8njDoxXuT6 jD00+MBVtH1/Zqf8pFJm1U/Z+19JwHsQLhQ1rv1GRzF36Ig40fdARf/C2EF5s21D/ee1Fcpm3Fp hbvT37/ffqtZSHBpZ4D2ntlHf9iuTX+N7Cbcc2meCp3TrLu3PIL6iV6RmrnBCVXZ1W2TR4fpC2U SpxmWeUqjOefDmTM6kThH+3qSc9SDYaNFp/ChbF55lugJB5Zn63mQ1L1NvKl1I8Eb/ds2espiDN WF5cQAp6pilwrGCfUFIiYa7p9QXIEufPx/R5bXPiiQ== X-Google-Smtp-Source: AGHT+IFW7fKDWLxGa5ifc95s78wBz9GyetTSBPfQUgwUh5Kxy3SZrdpHkYas0RoZM2L9EzPo2R25kBWJnaKD X-Received: by 2002:a05:6870:4691:b0:2b3:8b27:c352 with SMTP id 586e51a60fabf-2b8d4fa3492mr191940fac.33.1739290729984; Tue, 11 Feb 2025 08:18:49 -0800 (PST) Received: from postal.iol.unh.edu (postal.iol.unh.edu. [2606:4100:3880:1234::84]) by smtp-relay.gmail.com with ESMTPS id 586e51a60fabf-2b82601b516sm534570fac.21.2025.02.11.08.18.49 (version=TLS1_2 cipher=ECDHE-ECDSA-AES128-GCM-SHA256 bits=128/128); Tue, 11 Feb 2025 08:18:49 -0800 (PST) X-Relaying-Domain: iol.unh.edu Date: Tue, 11 Feb 2025 08:18:49 -0800 (PST) Message-ID: <67ab7869.050a0220.1bdc98.afcaSMTPIN_ADDED_MISSING@mx.google.com> Received: from [172.17.0.3] (unknown [172.18.0.217]) by postal.iol.unh.edu (Postfix) with ESMTP id 60A626052471; Tue, 11 Feb 2025 11:18:49 -0500 (EST) Subject: |SUCCESS| pw151291-151295 [PATCH] [v3,5/5] eal/x86: defer power intr From: dpdklab@iol.unh.edu To: Test Report Cc: dpdk-test-reports@iol.unh.edu In-Reply-To: <20250210213158.4165701-6-david.marchand@redhat.com> References: <20250210213158.4165701-6-david.marchand@redhat.com> Content-Type: text/plain X-BeenThere: test-report@dpdk.org X-Mailman-Version: 2.1.29 Precedence: list List-Id: automatic DPDK test reports List-Unsubscribe: , List-Archive: List-Post: List-Help: List-Subscribe: , Errors-To: test-report-bounces@dpdk.org Test-Label: iol-sample-apps-testing Test-Status: SUCCESS http://dpdk.org/patch/151295 _Testing PASS_ Submitter: David Marchand Date: Monday, February 10 2025 21:31:58 DPDK git baseline: Repo:dpdk Branch: master CommitID:99cc389af4e16011c821cabb867e6646357f429d 151291-151295 --> testing pass Upstream job id: ACVP-FIPS-testing#8870 Test environment and result as below: +--------------------+----------------------+----------------------+ | Environment | compressdev_zlib_pmd | dpdk_fips_validation | +====================+======================+======================+ | Ubuntu 22.04 (ARM) | PASS | SKIPPED | +--------------------+----------------------+----------------------+ | Ubuntu 22.04 | PASS | SKIPPED | +--------------------+----------------------+----------------------+ | Ubuntu 20.04 | SKIPPED | PASS | +--------------------+----------------------+----------------------+ Ubuntu 22.04 (ARM) Kernel: 5.15.0-97-generic Compiler: gcc gcc (Ubuntu 11.4.0-1ubuntu1~22.04) 11.4.0 Ubuntu 22.04 Kernel: 5.15.0-100-generic Compiler: gcc gcc (Ubuntu 11.4.0-1ubuntu1~22.04) 11.4.0 Ubuntu 20.04 Kernel: Depends on container host Compiler: gcc (Ubuntu 9.4.0-1ubuntu1~20.04.2) 9.4.0 To view detailed results, visit: https://lab.dpdk.org/results/dashboard/patchsets/32555/ UNH-IOL DPDK Community Lab To manage your email subscriptions, visit: https://lab.dpdk.org/results/dashboard/preferences/subscriptions/