From mboxrd@z Thu Jan 1 00:00:00 1970 Return-Path: Received: from mails.dpdk.org (mails.dpdk.org [217.70.189.124]) by inbox.dpdk.org (Postfix) with ESMTP id 27EE9461F9 for ; Tue, 11 Feb 2025 17:37:02 +0100 (CET) Received: from mails.dpdk.org (localhost [127.0.0.1]) by mails.dpdk.org (Postfix) with ESMTP id 0C68C402DA; Tue, 11 Feb 2025 17:37:02 +0100 (CET) Received: from mail-io1-f97.google.com (mail-io1-f97.google.com [209.85.166.97]) by mails.dpdk.org (Postfix) with ESMTP id 98C30402C9 for ; Tue, 11 Feb 2025 17:37:00 +0100 (CET) Received: by mail-io1-f97.google.com with SMTP id ca18e2360f4ac-8552a15462bso175976739f.0 for ; Tue, 11 Feb 2025 08:37:00 -0800 (PST) DKIM-Signature: v=1; a=rsa-sha256; c=relaxed/relaxed; d=iol.unh.edu; s=unh-iol; t=1739291820; x=1739896620; darn=dpdk.org; h=references:in-reply-to:cc:to:from:subject:message-id:date:from:to :cc:subject:date:message-id:reply-to; bh=FxAG313Jj4yUzjeaPSKCD1gXh7+nryILa/miQjf2GT0=; b=MtBP1PeojxTxlsxo7oBePHn7dS/ObRTPugmtcdRW+ZwSeV1AHQjjxE7OjwYfH9e7IX 2ZPm9z2uhvbxt4od8OXM8MWp5jgNUw+cH8rH5vjVNIWS4YHmd16vynE2lHY6V4z0QlTZ 9f9XgQHm2HR3kPQtpQmnRipx8Tl7Cnet9P1xw= X-Google-DKIM-Signature: v=1; a=rsa-sha256; c=relaxed/relaxed; d=1e100.net; s=20230601; t=1739291820; x=1739896620; h=references:in-reply-to:cc:to:from:subject:message-id:date :x-gm-message-state:from:to:cc:subject:date:message-id:reply-to; bh=FxAG313Jj4yUzjeaPSKCD1gXh7+nryILa/miQjf2GT0=; b=DI8GI2G0avXTKmi9AUxQluuxbDIXA8Bx78Grr60/sOdE9xT5ypkTa5iuUIJyiPsjws En2DszDeEEvHTDAe+jqsP/vpqfLgXPKUonml+MIzNw+5dT4uvJ5W1Rx0S74gySJZCPzl K6w4Q3qw6K3Y4CpsYWEQZp2bopi78zcxg5d6ZQBj9kbZ7FdsxCd1AILbDzLsuaGSHKDu RUEvGdbqD3xztWoYpTwnfIG5QqOUtEG/W2L9eNVzzg6gU81APf4Vyw8lVJJT3+EenRkv vj4EyjqDg1Iun0/gocsEV73BkyeEl0s/7Bwexn0VBvglxVRaYD9k9g6NJYr2HKe2BoS3 aBTg== X-Gm-Message-State: AOJu0YzDWxC++pXJDbupJvuA4M8Uz4C9AJzjhoSsgZpCDU6DHmAs2ehQ BfowlU+SFBdTghrmbH3C4I3ErCWt1JvKmtGmyULdtNBLd8fM4eoe1pGYxDwJwgnBRFrTK6caU33 fjlqzVt3AgDFFFlHuBXTifFdEgYPm23oxaQRHVOVsJMRhE33gmhR2lwKm X-Gm-Gg: ASbGnctG+abziz7SqzX7Uqg4PU7JqgIFdwKbFaYP5ELg2Fr2lXfYgq6UkHpDXO7vSDk iqEBmkAYRzp76W1dDD0teGWhLfrbkArmFwG6Q/CTd3BgkXF+tEvXVNCnrq2NVmnCKgzBF3n748r EUqMipKHKmM9n8Futl0fKNnoNbQ8LOD8Jf+P3wOJBrSEEmfKmen16HqgfmsDm74vgojL/o9L6fd LsrS7pcGn7eSHnWHul6fuBjhedYDFP45h2/l2XiF2AUfkXZ3pblZjmQXqesEeFwNtQhJM6+ijRN GTVWFRWS8iXIHwJiXJZaiuYDpSV6/sTOEY2dYsiaOQ== X-Google-Smtp-Source: AGHT+IHmMZiMMPNKPU1/v9xXjKh/DFfSgvxKNg0gQu7RBV2biyCZv4hV7Q6Mj79ijjGE/9cT7TTK0Pn9Df0L X-Received: by 2002:a05:6602:1493:b0:83a:b74c:800e with SMTP id ca18e2360f4ac-8554412799amr370639639f.12.1739291819935; Tue, 11 Feb 2025 08:36:59 -0800 (PST) Received: from postal.iol.unh.edu (postal.iol.unh.edu. [2606:4100:3880:1234::84]) by smtp-relay.gmail.com with ESMTPS id 8926c6da1cb9f-4ecf22adbe5sm305117173.73.2025.02.11.08.36.59 (version=TLS1_2 cipher=ECDHE-ECDSA-AES128-GCM-SHA256 bits=128/128); Tue, 11 Feb 2025 08:36:59 -0800 (PST) X-Relaying-Domain: iol.unh.edu Date: Tue, 11 Feb 2025 08:36:59 -0800 (PST) Message-ID: <67ab7cab.050a0220.2200f4.04dcSMTPIN_ADDED_MISSING@mx.google.com> Received: from [172.17.0.3] (unknown [172.18.0.217]) by postal.iol.unh.edu (Postfix) with ESMTP id 89DA56052471; Tue, 11 Feb 2025 11:36:59 -0500 (EST) Subject: |SUCCESS| pw151296 [PATCH] mbuf: enable to be compiled with MSVC From: dpdklab@iol.unh.edu To: Test Report Cc: dpdk-test-reports@iol.unh.edu In-Reply-To: <1739224265-4158-1-git-send-email-andremue@linux.microsoft.com> References: <1739224265-4158-1-git-send-email-andremue@linux.microsoft.com> Content-Type: text/plain X-BeenThere: test-report@dpdk.org X-Mailman-Version: 2.1.29 Precedence: list List-Id: automatic DPDK test reports List-Unsubscribe: , List-Archive: List-Post: List-Help: List-Subscribe: , Errors-To: test-report-bounces@dpdk.org Test-Label: iol-unit-arm64-testing Test-Status: SUCCESS http://dpdk.org/patch/151296 _Testing PASS_ Submitter: Andre Muezerie Date: Monday, February 10 2025 21:51:05 DPDK git baseline: Repo:dpdk Branch: master CommitID:9d29cd6dc87d6c35c52194a5f7a34f2d84140353 151296 --> testing pass Upstream job id: Generic-Unit-Test-DPDK#314107 Test environment and result as below: +-----------------------------+----------------+---------------------------+------------------------------+--------------+ | Environment | dpdk_unit_test | cryptodev_sw_zuc_autotest | cryptodev_sw_snow3g_autotest | lpm_autotest | +=============================+================+===========================+==============================+==============+ | 32-bit Ubuntu 22.04.4 (ARM) | PASS | SKIPPED | SKIPPED | SKIPPED | +-----------------------------+----------------+---------------------------+------------------------------+--------------+ | CentOS Stream 9 (ARM) | PASS | SKIPPED | SKIPPED | SKIPPED | +-----------------------------+----------------+---------------------------+------------------------------+--------------+ | Debian 11 (Buster) (ARM) | PASS | SKIPPED | SKIPPED | SKIPPED | +-----------------------------+----------------+---------------------------+------------------------------+--------------+ | Debian 12 (arm) | PASS | PASS | PASS | SKIPPED | +-----------------------------+----------------+---------------------------+------------------------------+--------------+ | CentOS Stream 10 (ARM) | PASS | SKIPPED | SKIPPED | SKIPPED | +-----------------------------+----------------+---------------------------+------------------------------+--------------+ | Fedora 41 (ARM) | PASS | SKIPPED | SKIPPED | SKIPPED | +-----------------------------+----------------+---------------------------+------------------------------+--------------+ | Fedora 40 (ARM Clang) | PASS | SKIPPED | SKIPPED | SKIPPED | +-----------------------------+----------------+---------------------------+------------------------------+--------------+ | Fedora 41 (ARM Clang) | PASS | SKIPPED | SKIPPED | SKIPPED | +-----------------------------+----------------+---------------------------+------------------------------+--------------+ | Fedora 40 (ARM) | PASS | SKIPPED | SKIPPED | SKIPPED | +-----------------------------+----------------+---------------------------+------------------------------+--------------+ | RHEL9 (ARM) | PASS | SKIPPED | SKIPPED | SKIPPED | +-----------------------------+----------------+---------------------------+------------------------------+--------------+ | Ubuntu 24.04 (ARM) | PASS | SKIPPED | SKIPPED | SKIPPED | +-----------------------------+----------------+---------------------------+------------------------------+--------------+ | Ubuntu 22.04 (ARM) | PASS | SKIPPED | SKIPPED | SKIPPED | +-----------------------------+----------------+---------------------------+------------------------------+--------------+ | Ubuntu 20.04 (ARM) | PASS | SKIPPED | SKIPPED | SKIPPED | +-----------------------------+----------------+---------------------------+------------------------------+--------------+ | Ubuntu 20.04 ARM SVE | SKIPPED | SKIPPED | SKIPPED | PASS | +-----------------------------+----------------+---------------------------+------------------------------+--------------+ 32-bit Ubuntu 22.04.4 (ARM) Kernel: 5.15.83+ aarch64 Compiler: gcc (Ubuntu 11.4.0-1ubuntu1~22.04) 11.4.0 CentOS Stream 9 (ARM) Kernel: Depends on container host Compiler: gcc 11.5.0 20240719 (Red Hat 11.5.0-2) Debian 11 (Buster) (ARM) Kernel: Depends on container host Compiler: gcc (Debian 10.2.1-6) 10.2.1 20210110 Debian 12 (arm) Kernel: Depends on container host Compiler: gcc (Debian 12.2.0-14) 12.2.0 CentOS Stream 10 (ARM) Kernel: Depends on container host Compiler: gcc 14.2.1 20241104 (Red Hat 14.2.1-6) Fedora 41 (ARM) Kernel: Depends on container host Compiler: gcc 14.2.1 20240912 (Red Hat 14.2.1-3) Fedora 40 (ARM Clang) Kernel: Depends on container host Compiler: clang 18.1.8 (Fedora 18.1.8-1.fc40) Fedora 41 (ARM Clang) Kernel: Depends on container host Compiler: clang 19.1.5 (Fedora 19.1.5-1.fc41) Fedora 40 (ARM) Kernel: Depends on container host Compiler: gcc 14.2.1 20240912 (Red Hat 14.2.1-3) RHEL9 (ARM) Kernel: Depends on container host Compiler: gcc 11.5.0 20240719 (Red Hat 11.5.0-2) Ubuntu 24.04 (ARM) Kernel: Depends on container host Compiler: gcc (Ubuntu 13.3.0-6ubuntu2~24.04) 13.3.0 Ubuntu 22.04 (ARM) Kernel: Depends on container host Compiler: gcc (Ubuntu 11.4.0-1ubuntu1~22.04) 11.4.0 Ubuntu 20.04 (ARM) Kernel: Depends on container host Compiler: gcc (Ubuntu 9.4.0-1ubuntu1~20.04.2) 9.4.0 Ubuntu 20.04 ARM SVE Kernel: Depends on container host Compiler: gcc (Ubuntu 10.5.0-1ubuntu1~20.04) 10.5.0 To view detailed results, visit: https://lab.dpdk.org/results/dashboard/patchsets/32556/ UNH-IOL DPDK Community Lab To manage your email subscriptions, visit: https://lab.dpdk.org/results/dashboard/preferences/subscriptions/