From mboxrd@z Thu Jan 1 00:00:00 1970 Return-Path: Received: from mails.dpdk.org (mails.dpdk.org [217.70.189.124]) by inbox.dpdk.org (Postfix) with ESMTP id 9840B461F9 for ; Tue, 11 Feb 2025 17:41:35 +0100 (CET) Received: from mails.dpdk.org (localhost [127.0.0.1]) by mails.dpdk.org (Postfix) with ESMTP id 7262D402C9; Tue, 11 Feb 2025 17:41:35 +0100 (CET) Received: from mail-io1-f97.google.com (mail-io1-f97.google.com [209.85.166.97]) by mails.dpdk.org (Postfix) with ESMTP id 7954E402A1 for ; Tue, 11 Feb 2025 17:41:34 +0100 (CET) Received: by mail-io1-f97.google.com with SMTP id ca18e2360f4ac-85527b814abso65557939f.1 for ; Tue, 11 Feb 2025 08:41:34 -0800 (PST) DKIM-Signature: v=1; a=rsa-sha256; c=relaxed/relaxed; d=iol.unh.edu; s=unh-iol; t=1739292093; x=1739896893; darn=dpdk.org; h=references:in-reply-to:cc:to:from:subject:message-id:date:from:to :cc:subject:date:message-id:reply-to; bh=mDDVnA5jCSHyICvPEMghtuMT6Yvqqa1QB8gYwo3xPto=; b=IBImdM0ZZPrCW7lGBQCEYu4YG7lP4nEFmzqP1wpdGij0AH9Axqo58P8saC71OlnMpY cjglp665rjNrCB2nrhXFPaq1vYUtFzd60oaSF6HkKA+lXD9wzYAqoX6km3v2Vywj8SLI f813TQaMocNHH8kpNCiuKgPza9rVClkq0P3h8= X-Google-DKIM-Signature: v=1; a=rsa-sha256; c=relaxed/relaxed; d=1e100.net; s=20230601; t=1739292094; x=1739896894; h=references:in-reply-to:cc:to:from:subject:message-id:date :x-gm-message-state:from:to:cc:subject:date:message-id:reply-to; bh=mDDVnA5jCSHyICvPEMghtuMT6Yvqqa1QB8gYwo3xPto=; b=W9Z79nz8/KM1bxAEJW66bHk1hhFHj2aaYloNZNlbBSirfE+y4dWO/K6Fnxf433f1+c HknFbcmgqjhroEaLkYQzeKxK8KT9pV2pC01ke+r93/YmRGjhPbsEh99CDOOwEQt8mb35 Bdj0gmrqIzF5yW48BWmWlN0LMdHmx6txP9tNYCDf+ipqF884a7jYNmGEJNneAvqqfu/T EKOEEETR43X1AO++fN1xFtv0Hlnyfaaz/evChDLnfaK5M/Vf5h2QkvBj0Rw8xF+u+M8O cmtRyTszfSkiYCYgELVXRpbEcVnUO1f8TKNpbc+K6ytHxsbKo/vJOdleCyGZ+P+rhPQr G3pw== X-Gm-Message-State: AOJu0Yy3Zk8C6QeRuS4GJ0uyCiHTvkhQ5unywfhbCZlO1g3UYiuiBY+0 Sr0TnHAY/QT1YuTNywzRtnOzkSXdEemvH0HMfbmi9AIM3Bu9Px2KBt63zaoZaQR3frdAfH43Yfy qLWAn1IOx6CoUyYu7gE2hcZj8L4i4a+UMLiqARO85n0AaHX7SlONiX2nd X-Gm-Gg: ASbGncs3QnsaxRnYYGBNqfujE9qGEFM0Oe/wuLTh1XAu8hQxTQxUk6yMd9DbU/1ZbLx Wdl1pE/ccGOryyStLFlg1igtRjYpPyMYkoVluuqd4TtElgE+weW0oh7/wzSQTU8nPlClzJFSig2 zL1HbB3gGumgo2moy1GauHxbf/njnx9rCw3T+RrOshspy81suMrL+6ACQdMG0VBuLxpvDEGa0AZ D6A9jVLlV2yAt7posmwJbMrjXalz6CAeOBKWRvAdoZNvFupuZO30Nxja4oXbwIKDLL84PMyDVrR Gx+yGakDwJylBBHVIbeCdRZpswf6Y+CgAGFtmNvwnA== X-Google-Smtp-Source: AGHT+IGVhPV2jdg40MSThQPvx20Ls4XVtgW//P2zhlQuoX1Rod0OwVrXAkHQmaKLVsairJqTYoM2Ht29Mur8 X-Received: by 2002:a92:c56e:0:b0:3d0:443d:a5c3 with SMTP id e9e14a558f8ab-3d17bdfa4d9mr791465ab.3.1739292093692; Tue, 11 Feb 2025 08:41:33 -0800 (PST) Received: from postal.iol.unh.edu (postal.iol.unh.edu. [2606:4100:3880:1234::84]) by smtp-relay.gmail.com with ESMTPS id e9e14a558f8ab-3d17a062449sm227995ab.42.2025.02.11.08.41.33 (version=TLS1_2 cipher=ECDHE-ECDSA-AES128-GCM-SHA256 bits=128/128); Tue, 11 Feb 2025 08:41:33 -0800 (PST) X-Relaying-Domain: iol.unh.edu Date: Tue, 11 Feb 2025 08:41:33 -0800 (PST) Message-ID: <67ab7dbd.050a0220.18a597.13b3SMTPIN_ADDED_MISSING@mx.google.com> Received: from [172.17.0.3] (unknown [172.18.0.217]) by postal.iol.unh.edu (Postfix) with ESMTP id 282AB6052471; Tue, 11 Feb 2025 11:41:33 -0500 (EST) Subject: |SUCCESS| pw151296 [PATCH] mbuf: enable to be compiled with MSVC From: dpdklab@iol.unh.edu To: Test Report Cc: dpdk-test-reports@iol.unh.edu In-Reply-To: <1739224265-4158-1-git-send-email-andremue@linux.microsoft.com> References: <1739224265-4158-1-git-send-email-andremue@linux.microsoft.com> Content-Type: text/plain X-BeenThere: test-report@dpdk.org X-Mailman-Version: 2.1.29 Precedence: list List-Id: automatic DPDK test reports List-Unsubscribe: , List-Archive: List-Post: List-Help: List-Subscribe: , Errors-To: test-report-bounces@dpdk.org Test-Label: iol-compile-arm64-testing Test-Status: SUCCESS http://dpdk.org/patch/151296 _Testing PASS_ Submitter: Andre Muezerie Date: Monday, February 10 2025 21:51:05 DPDK git baseline: Repo:dpdk Branch: master CommitID:9d29cd6dc87d6c35c52194a5f7a34f2d84140353 151296 --> testing pass Upstream job id: Generic-DPDK-Compile-Meson#360641 Test environment and result as below: +----------------------------------------+--------------------+ | Environment | dpdk_meson_compile | +========================================+====================+ | RHEL9 (ARM) | PASS | +----------------------------------------+--------------------+ | Ubuntu 20.04 ARM GCC Cross Compile | PASS | +----------------------------------------+--------------------+ | Ubuntu 20.04 ARM SVE | PASS | +----------------------------------------+--------------------+ | Fedora 40 (ARM Clang) | PASS | +----------------------------------------+--------------------+ | Fedora 40 (ARM) | PASS | +----------------------------------------+--------------------+ | Debian 12 with MUSDK | PASS | +----------------------------------------+--------------------+ | Ubuntu 24.04 (ARM) | PASS | +----------------------------------------+--------------------+ | Fedora 41 (ARM Clang) | PASS | +----------------------------------------+--------------------+ | Ubuntu 22.04 (ARM) | PASS | +----------------------------------------+--------------------+ | Ubuntu 20.04 (ARM) | PASS | +----------------------------------------+--------------------+ | Fedora 41 (ARM) | PASS | +----------------------------------------+--------------------+ | CentOS Stream 9 (ARM) | PASS | +----------------------------------------+--------------------+ | CentOS Stream 10 (ARM) | PASS | +----------------------------------------+--------------------+ | Debian 12 (arm) | PASS | +----------------------------------------+--------------------+ | Debian 11 (Buster) (ARM) | PASS | +----------------------------------------+--------------------+ | Ubuntu 20.04 ARM Clang Cross Compile | PASS | +----------------------------------------+--------------------+ | Ubuntu 20.04 aarch32 GCC Cross Compile | PASS | +----------------------------------------+--------------------+ RHEL9 (ARM) Kernel: Depends on container host Compiler: gcc 11.5.0 20240719 (Red Hat 11.5.0-2) Ubuntu 20.04 ARM GCC Cross Compile Kernel: Depends on container host Compiler: aarch64-linux-gnu-gcc (Ubuntu 9.4.0-1ubuntu1~20.04.2) 9.4.0 Ubuntu 20.04 ARM SVE Kernel: Depends on container host Compiler: gcc (Ubuntu 10.5.0-1ubuntu1~20.04) 10.5.0 Fedora 40 (ARM Clang) Kernel: Depends on container host Compiler: clang 18.1.8 (Fedora 18.1.8-1.fc40) Fedora 40 (ARM) Kernel: Depends on container host Compiler: gcc 14.2.1 20240912 (Red Hat 14.2.1-3) Debian 12 with MUSDK Kernel: Depends on container host Compiler: gcc (Debian 12.2.0-14) 12.2.0 Ubuntu 24.04 (ARM) Kernel: Depends on container host Compiler: gcc (Ubuntu 13.3.0-6ubuntu2~24.04) 13.3.0 Fedora 41 (ARM Clang) Kernel: Depends on container host Compiler: clang 19.1.5 (Fedora 19.1.5-1.fc41) Ubuntu 22.04 (ARM) Kernel: Depends on container host Compiler: gcc (Ubuntu 11.4.0-1ubuntu1~22.04) 11.4.0 Ubuntu 20.04 (ARM) Kernel: Depends on container host Compiler: gcc (Ubuntu 9.4.0-1ubuntu1~20.04.2) 9.4.0 Fedora 41 (ARM) Kernel: Depends on container host Compiler: gcc 14.2.1 20240912 (Red Hat 14.2.1-3) CentOS Stream 9 (ARM) Kernel: Depends on container host Compiler: gcc 11.5.0 20240719 (Red Hat 11.5.0-2) CentOS Stream 10 (ARM) Kernel: Depends on container host Compiler: gcc 14.2.1 20241104 (Red Hat 14.2.1-6) Debian 12 (arm) Kernel: Depends on container host Compiler: gcc (Debian 12.2.0-14) 12.2.0 Debian 11 (Buster) (ARM) Kernel: Depends on container host Compiler: gcc (Debian 10.2.1-6) 10.2.1 20210110 Ubuntu 20.04 ARM Clang Cross Compile Kernel: Depends on container host Compiler: clang 10.0.0-4ubuntu1 Ubuntu 20.04 aarch32 GCC Cross Compile Kernel: Depends on container host Compiler: gcc 9.4.0 To view detailed results, visit: https://lab.dpdk.org/results/dashboard/patchsets/32556/ UNH-IOL DPDK Community Lab To manage your email subscriptions, visit: https://lab.dpdk.org/results/dashboard/preferences/subscriptions/