From mboxrd@z Thu Jan 1 00:00:00 1970 Return-Path: Received: from mails.dpdk.org (mails.dpdk.org [217.70.189.124]) by inbox.dpdk.org (Postfix) with ESMTP id CB201461F9 for ; Tue, 11 Feb 2025 17:53:56 +0100 (CET) Received: from mails.dpdk.org (localhost [127.0.0.1]) by mails.dpdk.org (Postfix) with ESMTP id C7F84402C9; Tue, 11 Feb 2025 17:53:56 +0100 (CET) Received: from mail-pl1-f226.google.com (mail-pl1-f226.google.com [209.85.214.226]) by mails.dpdk.org (Postfix) with ESMTP id 6CE70402A1 for ; Tue, 11 Feb 2025 17:53:55 +0100 (CET) Received: by mail-pl1-f226.google.com with SMTP id d9443c01a7336-21f48ab13d5so97372675ad.0 for ; Tue, 11 Feb 2025 08:53:55 -0800 (PST) DKIM-Signature: v=1; a=rsa-sha256; c=relaxed/relaxed; d=iol.unh.edu; s=unh-iol; t=1739292834; x=1739897634; darn=dpdk.org; h=references:in-reply-to:cc:to:from:subject:message-id:date:from:to :cc:subject:date:message-id:reply-to; bh=fxSPtfZabMRLlJxUP3caUPbb+cBH7DjpCTJChJn/8Aw=; b=VdCDAz/u9fI5+RA951uZ9hp0knzpuCbPEHvPBUFOylK4RFKqels874oZimcVC0RHnW XaNboF5xPVDPLeFZ3s02kjj2oruWEzn5EeMrx5T1PpW4uS9ibCD029SQc73hFYW2pjEx AvFCe9+FpnV5M+BAOafOzug1up8U9pvQD4pTU= X-Google-DKIM-Signature: v=1; a=rsa-sha256; c=relaxed/relaxed; d=1e100.net; s=20230601; t=1739292834; x=1739897634; h=references:in-reply-to:cc:to:from:subject:message-id:date :x-gm-message-state:from:to:cc:subject:date:message-id:reply-to; bh=fxSPtfZabMRLlJxUP3caUPbb+cBH7DjpCTJChJn/8Aw=; b=nDW53bNR4HRvf5J0UfUy0Xj8+U5ScDMGo8pXX35S/ikMGjR7NGOGIERDd1Wec379Qn JEfOnEv+KWvQn6sn74bHmrf0cAu7aI+FPc46NRuhapcnneveYcC1d8XA5Zyn2RNpVKUq UYQS+kdxj2uQlZ9g2ehDjglWdOZgMh//J6wrkHMGOXRDELwluVcz834wbN3O98Wsva4H 1/eWvjZ9ZMR06TVmq5OFM7Ximzxu+DfPtthJ6XZW/NPPKQYI4z+zij6+Gw17tgSdjfAO esnm6jI3yrPgKpYChcpmDpd5Vq4/7T1WJWhraFqQwHu8NWiv3uoM8cN8gz5zPtH0Cny+ zkxA== X-Gm-Message-State: AOJu0YyHstB3CdmnpeqE6PnGqm6ETpq34+VY+wvZSsb4YKJ+rsqL+ALo ckw7PfJUDKQq4wcUQbHusjNktvktSqjgT2g9uRvY0qKQrbwiUC+xzQNu9q4BojTBNoa35pcl0sa RJAVc4TUVHV/lcCDMzir+P67qma7ehnJxbFwvHnOA X-Gm-Gg: ASbGnct2vgu91+/jT4yVlDBwiMiPMQnkcAdJNGJVA6lI7ODIAS5yCzbzRtAU5zq5UXi 2AL0DTVbzfg3hjnUSM2/416/vIm+aP4xcA7eTb5aT0OVy77AcX5fm+8550J+EEhVbSn01O53x2Y PY5PuM1GjVdGa/3x0zQNyul9hGksxhdFFZEHayYTvJTJld0lroxEviZJyodqB+j2LVQW20HcB6p k9mbG/kfDo3lGCzcejlix54+kXuiLnTub5nQzszOtg+LoDZk9zToHB3eWq2yYRYJza9F+iwzU4F ckOzhqMCmL4ELM1xi8W+TwsBxEdGKQ== X-Google-Smtp-Source: AGHT+IHTePzpWCessaYs68H6S9YHhXaIYdciDb5ianv8v84sb7LwC/vWEFOXuJcZlMil+hpEvG7y7PxT+N4m X-Received: by 2002:a05:6a21:202:b0:1ee:321b:313b with SMTP id adf61e73a8af0-1ee321b32f8mr13800543637.41.1739292834527; Tue, 11 Feb 2025 08:53:54 -0800 (PST) Received: from postal.iol.unh.edu (postal.iol.unh.edu. [132.177.123.84]) by smtp-relay.gmail.com with ESMTPS id d2e1a72fcca58-73091b2a994sm271748b3a.4.2025.02.11.08.53.54 (version=TLS1_2 cipher=ECDHE-ECDSA-AES128-GCM-SHA256 bits=128/128); Tue, 11 Feb 2025 08:53:54 -0800 (PST) X-Relaying-Domain: iol.unh.edu Date: Tue, 11 Feb 2025 08:53:54 -0800 (PST) Message-ID: <67ab80a2.050a0220.1f014c.e96dSMTPIN_ADDED_MISSING@mx.google.com> Received: from [172.17.0.3] (unknown [172.18.0.217]) by postal.iol.unh.edu (Postfix) with ESMTP id 9EF366052471; Tue, 11 Feb 2025 11:53:53 -0500 (EST) Subject: |SUCCESS| pw151290 [PATCH] [v6] net: add thread-safe crc api From: dpdklab@iol.unh.edu To: Test Report Cc: dpdk-test-reports@iol.unh.edu In-Reply-To: <20250210212710.708809-1-arkadiuszx.kusztal@intel.com> References: <20250210212710.708809-1-arkadiuszx.kusztal@intel.com> Content-Type: text/plain X-BeenThere: test-report@dpdk.org X-Mailman-Version: 2.1.29 Precedence: list List-Id: automatic DPDK test reports List-Unsubscribe: , List-Archive: List-Post: List-Help: List-Subscribe: , Errors-To: test-report-bounces@dpdk.org Test-Label: iol-sample-apps-testing Test-Status: SUCCESS http://dpdk.org/patch/151290 _Testing PASS_ Submitter: Arkadiusz Kusztal Date: Monday, February 10 2025 21:27:10 DPDK git baseline: Repo:dpdk Branch: master CommitID:7125636162d67b1c40ba6802a3ff4466d125d243 151290 --> testing pass Upstream job id: ACVP-FIPS-testing#8871 Test environment and result as below: +--------------------+----------------------+----------------------+ | Environment | compressdev_zlib_pmd | dpdk_fips_validation | +====================+======================+======================+ | Ubuntu 22.04 (ARM) | PASS | SKIPPED | +--------------------+----------------------+----------------------+ | Ubuntu 22.04 | PASS | SKIPPED | +--------------------+----------------------+----------------------+ | Ubuntu 20.04 | SKIPPED | PASS | +--------------------+----------------------+----------------------+ Ubuntu 22.04 (ARM) Kernel: 5.15.0-97-generic Compiler: gcc gcc (Ubuntu 11.4.0-1ubuntu1~22.04) 11.4.0 Ubuntu 22.04 Kernel: 5.15.0-100-generic Compiler: gcc gcc (Ubuntu 11.4.0-1ubuntu1~22.04) 11.4.0 Ubuntu 20.04 Kernel: Depends on container host Compiler: gcc (Ubuntu 9.4.0-1ubuntu1~20.04.2) 9.4.0 To view detailed results, visit: https://lab.dpdk.org/results/dashboard/patchsets/32554/ UNH-IOL DPDK Community Lab To manage your email subscriptions, visit: https://lab.dpdk.org/results/dashboard/preferences/subscriptions/