From mboxrd@z Thu Jan 1 00:00:00 1970 Return-Path: Received: from mails.dpdk.org (mails.dpdk.org [217.70.189.124]) by inbox.dpdk.org (Postfix) with ESMTP id 1E980461F9 for ; Tue, 11 Feb 2025 18:22:33 +0100 (CET) Received: from mails.dpdk.org (localhost [127.0.0.1]) by mails.dpdk.org (Postfix) with ESMTP id 1ABE14067A; Tue, 11 Feb 2025 18:22:33 +0100 (CET) Received: from mail-oo1-f98.google.com (mail-oo1-f98.google.com [209.85.161.98]) by mails.dpdk.org (Postfix) with ESMTP id 7522C40662 for ; Tue, 11 Feb 2025 18:22:31 +0100 (CET) Received: by mail-oo1-f98.google.com with SMTP id 006d021491bc7-5fc8b5764aeso1152653eaf.3 for ; Tue, 11 Feb 2025 09:22:31 -0800 (PST) DKIM-Signature: v=1; a=rsa-sha256; c=relaxed/relaxed; d=iol.unh.edu; s=unh-iol; t=1739294550; x=1739899350; darn=dpdk.org; h=references:in-reply-to:cc:to:from:subject:message-id:date:from:to :cc:subject:date:message-id:reply-to; bh=pN+tjejeT9CZ39upI31k1ZunYHn+tNUqCrrNX/Jzpy8=; b=MAZ79O5Ymb3YFG+8ZenWE5DnKNpIJwegsE/V70J/oNB4RdoXEuT2tZUF2A1dhjwokY H9MQB7CxZmuctpo3BuQsXfUOoy5oVKFfuazPT4uw6LLAyS7+ZjcL6WBjeP1HqDDlEeXG oZMRBfy3uE3lpG7FPtaGCLpGsR+I3AtbYgWNQ= X-Google-DKIM-Signature: v=1; a=rsa-sha256; c=relaxed/relaxed; d=1e100.net; s=20230601; t=1739294550; x=1739899350; h=references:in-reply-to:cc:to:from:subject:message-id:date :x-gm-message-state:from:to:cc:subject:date:message-id:reply-to; bh=pN+tjejeT9CZ39upI31k1ZunYHn+tNUqCrrNX/Jzpy8=; b=eyDu9Ap/8Hxp5bX4rPp3GzkFupRJ/RXUtPaCT0N/9DBdyvPXlWCv1VPixQj4e7jOWA OIXngPrymfV/M1jp6JXBUH2uDl+RmMyfROKIwNFEfjKJjRjgdPe5rxEY8VTUd32njoEJ tI6LGnu3ak4xBrRfon1c+C2m0hKUyA9K/ICrflY5CvyZLZq10nk6EuPi/+D3sM1CRRac VFKIDZoYIn/8MxqNgFFws10j3CxNohGjqeFSuARO5DFsyvVZJDdrnDl8myk3ccHXzlWO VjTZ8ldTo98vCwxDUd3vSBZri5CwnPmYdqKxLvTwcBNE3NPDAjcZswwO9tZOjIpg5XA1 QFDA== X-Gm-Message-State: AOJu0YxnMH/7+XtJWtlr1brSHbRnHOOXlVgRZFYA8QXE++It7cVM+PqW VKfso/lx74n8ltRwJy2HptVzFKUC50qX+DQQqE/PUOJuXJL6K94tcM7Ajg0nANw4nJelaJkQui8 uN10HPKuF/q0CUr8dh0/CIpqzRAXySIXLivibQ7Nn X-Gm-Gg: ASbGncv2Ys9ZUXgK9qMaL28Q/3rhOMJN0Xl6vSdJhNbG/JAWlJSjxeiYf/v+S69JfXj 14i1AsNDBj64wGMxszABRBfNcxsOYkwW7hkDz4hg8VivdQJ0LuA5gpbkQHvPcPMmU5/SGtjml7X +bHHjIabvKnbx2/qjC7kQGGjV3Ux9pq81H4CyaRJWoNzsxLkr4Z9NxFy8a8P7dLrEy+vt6W3CC6 9FzoY1vK5A7v5SNb/zNtO5IUAj0pZg3Qp0Y9mcrxb2OX3vHfSfqH1Tv/CPCBAmo2yrB48yiClSv jaxfsjY6gol20/9oiTJGq114zZWmuw== X-Google-Smtp-Source: AGHT+IEALkasNtzyNi39Cpgp6OD3pOBao6Wo3MKWojgM8Z/qdY3GAcZL4tPeTPTMESHw3BECFpWkLYt9Z5Hd X-Received: by 2002:a05:6820:1e0f:b0:5fc:8b41:3f8d with SMTP id 006d021491bc7-5fca154728cmr157413eaf.2.1739294550451; Tue, 11 Feb 2025 09:22:30 -0800 (PST) Received: from postal.iol.unh.edu (postal.iol.unh.edu. [132.177.123.84]) by smtp-relay.gmail.com with ESMTPS id 006d021491bc7-5fc9dec8e9dsm12738eaf.2.2025.02.11.09.22.30 (version=TLS1_2 cipher=ECDHE-ECDSA-AES128-GCM-SHA256 bits=128/128); Tue, 11 Feb 2025 09:22:30 -0800 (PST) X-Relaying-Domain: iol.unh.edu Date: Tue, 11 Feb 2025 09:22:30 -0800 (PST) Message-ID: <67ab8756.4a0a0220.e3729.0abbSMTPIN_ADDED_MISSING@mx.google.com> Received: from [172.17.0.5] (unknown [172.18.0.217]) by postal.iol.unh.edu (Postfix) with ESMTP id DD1926052471; Tue, 11 Feb 2025 12:22:29 -0500 (EST) Subject: |SUCCESS| pw151296 [PATCH] mbuf: enable to be compiled with MSVC From: dpdklab@iol.unh.edu To: Test Report Cc: dpdk-test-reports@iol.unh.edu In-Reply-To: <1739224265-4158-1-git-send-email-andremue@linux.microsoft.com> References: <1739224265-4158-1-git-send-email-andremue@linux.microsoft.com> Content-Type: text/plain X-BeenThere: test-report@dpdk.org X-Mailman-Version: 2.1.29 Precedence: list List-Id: automatic DPDK test reports List-Unsubscribe: , List-Archive: List-Post: List-Help: List-Subscribe: , Errors-To: test-report-bounces@dpdk.org Test-Label: iol-compile-arm64-testing Test-Status: SUCCESS http://dpdk.org/patch/151296 _Testing PASS_ Submitter: Andre Muezerie Date: Monday, February 10 2025 21:51:05 DPDK git baseline: Repo:dpdk Branch: master CommitID:9d29cd6dc87d6c35c52194a5f7a34f2d84140353 151296 --> testing pass Upstream job id: Generic-DPDK-Compile-Meson#360622 Test environment and result as below: +----------------------------------------+--------------------+ | Environment | dpdk_meson_compile | +========================================+====================+ | RHEL9 (ARM) | PASS | +----------------------------------------+--------------------+ | Ubuntu 20.04 ARM SVE | PASS | +----------------------------------------+--------------------+ | Debian 12 with MUSDK | PASS | +----------------------------------------+--------------------+ | Fedora 40 (ARM) | PASS | +----------------------------------------+--------------------+ | Fedora 40 (ARM Clang) | PASS | +----------------------------------------+--------------------+ | Fedora 41 (ARM) | PASS | +----------------------------------------+--------------------+ | Fedora 41 (ARM Clang) | PASS | +----------------------------------------+--------------------+ | Ubuntu 24.04 (ARM) | PASS | +----------------------------------------+--------------------+ | Ubuntu 22.04 (ARM) | PASS | +----------------------------------------+--------------------+ | Ubuntu 20.04 (ARM) | PASS | +----------------------------------------+--------------------+ | Debian 11 (Buster) (ARM) | PASS | +----------------------------------------+--------------------+ | CentOS Stream 9 (ARM) | PASS | +----------------------------------------+--------------------+ | CentOS Stream 10 (ARM) | PASS | +----------------------------------------+--------------------+ | Debian 12 (arm) | PASS | +----------------------------------------+--------------------+ | Ubuntu 20.04 ARM Clang Cross Compile | PASS | +----------------------------------------+--------------------+ | Ubuntu 20.04 aarch32 GCC Cross Compile | PASS | +----------------------------------------+--------------------+ | Ubuntu 20.04 ARM GCC Cross Compile | PASS | +----------------------------------------+--------------------+ RHEL9 (ARM) Kernel: Depends on container host Compiler: gcc 11.5.0 20240719 (Red Hat 11.5.0-2) Ubuntu 20.04 ARM SVE Kernel: Depends on container host Compiler: gcc (Ubuntu 10.5.0-1ubuntu1~20.04) 10.5.0 Debian 12 with MUSDK Kernel: Depends on container host Compiler: gcc (Debian 12.2.0-14) 12.2.0 Fedora 40 (ARM) Kernel: Depends on container host Compiler: gcc 14.2.1 20240912 (Red Hat 14.2.1-3) Fedora 40 (ARM Clang) Kernel: Depends on container host Compiler: clang 18.1.8 (Fedora 18.1.8-1.fc40) Fedora 41 (ARM) Kernel: Depends on container host Compiler: gcc 14.2.1 20240912 (Red Hat 14.2.1-3) Fedora 41 (ARM Clang) Kernel: Depends on container host Compiler: clang 19.1.5 (Fedora 19.1.5-1.fc41) Ubuntu 24.04 (ARM) Kernel: Depends on container host Compiler: gcc (Ubuntu 13.3.0-6ubuntu2~24.04) 13.3.0 Ubuntu 22.04 (ARM) Kernel: Depends on container host Compiler: gcc (Ubuntu 11.4.0-1ubuntu1~22.04) 11.4.0 Ubuntu 20.04 (ARM) Kernel: Depends on container host Compiler: gcc (Ubuntu 9.4.0-1ubuntu1~20.04.2) 9.4.0 Debian 11 (Buster) (ARM) Kernel: Depends on container host Compiler: gcc (Debian 10.2.1-6) 10.2.1 20210110 CentOS Stream 9 (ARM) Kernel: Depends on container host Compiler: gcc 11.5.0 20240719 (Red Hat 11.5.0-2) CentOS Stream 10 (ARM) Kernel: Depends on container host Compiler: gcc 14.2.1 20241104 (Red Hat 14.2.1-6) Debian 12 (arm) Kernel: Depends on container host Compiler: gcc (Debian 12.2.0-14) 12.2.0 Ubuntu 20.04 ARM Clang Cross Compile Kernel: Depends on container host Compiler: clang 10.0.0-4ubuntu1 Ubuntu 20.04 aarch32 GCC Cross Compile Kernel: Depends on container host Compiler: gcc 9.4.0 Ubuntu 20.04 ARM GCC Cross Compile Kernel: Depends on container host Compiler: aarch64-linux-gnu-gcc (Ubuntu 9.4.0-1ubuntu1~20.04.2) 9.4.0 To view detailed results, visit: https://lab.dpdk.org/results/dashboard/patchsets/32556/ UNH-IOL DPDK Community Lab To manage your email subscriptions, visit: https://lab.dpdk.org/results/dashboard/preferences/subscriptions/