From mboxrd@z Thu Jan 1 00:00:00 1970 Return-Path: Received: from mails.dpdk.org (mails.dpdk.org [217.70.189.124]) by inbox.dpdk.org (Postfix) with ESMTP id D5E10461F9 for ; Tue, 11 Feb 2025 18:28:39 +0100 (CET) Received: from mails.dpdk.org (localhost [127.0.0.1]) by mails.dpdk.org (Postfix) with ESMTP id ADF634067A; Tue, 11 Feb 2025 18:28:39 +0100 (CET) Received: from mail-pl1-f225.google.com (mail-pl1-f225.google.com [209.85.214.225]) by mails.dpdk.org (Postfix) with ESMTP id 8545240662 for ; Tue, 11 Feb 2025 18:28:38 +0100 (CET) Received: by mail-pl1-f225.google.com with SMTP id d9443c01a7336-21f2339dcfdso92784945ad.1 for ; Tue, 11 Feb 2025 09:28:38 -0800 (PST) DKIM-Signature: v=1; a=rsa-sha256; c=relaxed/relaxed; d=iol.unh.edu; s=unh-iol; t=1739294917; x=1739899717; darn=dpdk.org; h=references:in-reply-to:cc:to:from:subject:message-id:date:from:to :cc:subject:date:message-id:reply-to; bh=pi1FKUt+Xj99DMONqCbHrPKRYs+T30DCJIxFgND7XCo=; b=cy/6J65ip+h+ZyRB+N49dTbXaDCriLIuWutOoSU9hgxZUq8bECgRzMGW33X3n9PMpy xw0s9hoPHR1KjnjLTbwrmUsbNejcgyJL/JlLFb5ORvGMgi9VNWD6Hw4qL+nZ1wBT4BSR yIPn2nCF7YxYCh5wLeGjSknS8gVWV7Gh1mZjM= X-Google-DKIM-Signature: v=1; a=rsa-sha256; c=relaxed/relaxed; d=1e100.net; s=20230601; t=1739294917; x=1739899717; h=references:in-reply-to:cc:to:from:subject:message-id:date :x-gm-message-state:from:to:cc:subject:date:message-id:reply-to; bh=pi1FKUt+Xj99DMONqCbHrPKRYs+T30DCJIxFgND7XCo=; b=rYdb9wZNPEKbMGy7eUy56Dxpi/DBBfmMzzPZiBfoqvK/wqUMkcSKwarJA0yOrqGKlB ILl726M6aTyts/Eumzi61KXgqmeGr0aRAYMLRCN17jl7VnitiQgxsft8t83xpFEwRRUC 2rXlSIcuZjvSDmArNtPFMeIJLvaHZug9QqNW7e22O3f94a4xOdqkQc0yiBKVYbIuZcrc 42jeB8U2jJh11iu8VNYUTIuojtd2xczYUyQ+F37/mD27XlE5jqA5aRoxRZX/mi5rrSHc W/cq/0KFiOqLbzK1EcvDGyHWWzy51g2b5OsYtPDZGRLFqY2q+cO0LKXhIJNXurn5LYAF yWQw== X-Gm-Message-State: AOJu0Yy0RQjPDfqeJq34+5jZzuCgLsdmuFQ8Hr2yMs6jcNCZKbvxW2e0 LZOvDugumzHApjdv4U91WB9qELoeJ+4jt1SCdpZUEvfM6JKDefY/LCQaXhzv+3DIPEwzfTxdbVA FVB0nlJY/wnPM2H7xcIjGdgyhuJNRDJW1vG+PCfk+NFy42jjOhfSr5lDh X-Gm-Gg: ASbGncumAjNQCiJHmCtJtl2JhCrVjPRLNLIn1phGGt4coEbwD7UN1gtxmctCuN63N98 K9q825Ak84zzLuHxib1RevPfFoBA9zZy3GCvmconIob3X41FtMQ75f72s4boogS/h9nr65pMAtf MXB+Lx0TxgOz8H4EIKDRAXmDwSLmPrpto1OPiifC+UuMs1nOM5XSDyQCTpNW88D6iSK6BBLRvmx xwRkXFXK2bb1kvbx7DYt4ijx+/OJCwhFEKRu1AXIyUJTn0DrX4l956YUq7yhakOPh7DYpAOAgGC n1LG1yL7sZ4WFN0Nw5BvLy84Lj1WKkVg9Sxck5R6AA== X-Google-Smtp-Source: AGHT+IHp59OC40Wf6sW9opph5FO4g5xYR4EA8vwRKouEHukur/aSLHxMSVg94J58bktsZkEUPuNldZK1VW/f X-Received: by 2002:a17:902:e802:b0:215:a56f:1e50 with SMTP id d9443c01a7336-21fb6c10cf6mr63882685ad.8.1739294917526; Tue, 11 Feb 2025 09:28:37 -0800 (PST) Received: from postal.iol.unh.edu (postal.iol.unh.edu. [2606:4100:3880:1234::84]) by smtp-relay.gmail.com with ESMTPS id d9443c01a7336-21f3653cad0sm6557115ad.41.2025.02.11.09.28.37 (version=TLS1_2 cipher=ECDHE-ECDSA-AES128-GCM-SHA256 bits=128/128); Tue, 11 Feb 2025 09:28:37 -0800 (PST) X-Relaying-Domain: iol.unh.edu Date: Tue, 11 Feb 2025 09:28:37 -0800 (PST) Message-ID: <67ab88c5.170a0220.bd06f.1d22SMTPIN_ADDED_MISSING@mx.google.com> Received: from [172.17.0.6] (unknown [172.18.0.217]) by postal.iol.unh.edu (Postfix) with ESMTP id A4CB06052471; Tue, 11 Feb 2025 12:28:36 -0500 (EST) Subject: |SUCCESS| pw151289 [PATCH] drivers/net: signed/unsigned mismatch From: dpdklab@iol.unh.edu To: Test Report Cc: dpdk-test-reports@iol.unh.edu In-Reply-To: <1739222725-30747-1-git-send-email-andremue@linux.microsoft.com> References: <1739222725-30747-1-git-send-email-andremue@linux.microsoft.com> Content-Type: text/plain X-BeenThere: test-report@dpdk.org X-Mailman-Version: 2.1.29 Precedence: list List-Id: automatic DPDK test reports List-Unsubscribe: , List-Archive: List-Post: List-Help: List-Subscribe: , Errors-To: test-report-bounces@dpdk.org Test-Label: iol-sample-apps-testing Test-Status: SUCCESS http://dpdk.org/patch/151289 _Testing PASS_ Submitter: Andre Muezerie Date: Monday, February 10 2025 21:25:25 DPDK git baseline: Repo:dpdk Branch: master CommitID:d4d1e6c55a2f17785ee6be361599e1c5ab28f0fb 151289 --> testing pass Upstream job id: ACVP-FIPS-testing#8872 Test environment and result as below: +--------------------+----------------------+----------------------+ | Environment | compressdev_zlib_pmd | dpdk_fips_validation | +====================+======================+======================+ | Ubuntu 22.04 (ARM) | PASS | SKIPPED | +--------------------+----------------------+----------------------+ | Ubuntu 22.04 | PASS | SKIPPED | +--------------------+----------------------+----------------------+ | Ubuntu 20.04 | SKIPPED | PASS | +--------------------+----------------------+----------------------+ Ubuntu 22.04 (ARM) Kernel: 5.15.0-97-generic Compiler: gcc gcc (Ubuntu 11.4.0-1ubuntu1~22.04) 11.4.0 Ubuntu 22.04 Kernel: 5.15.0-100-generic Compiler: gcc gcc (Ubuntu 11.4.0-1ubuntu1~22.04) 11.4.0 Ubuntu 20.04 Kernel: Depends on container host Compiler: gcc (Ubuntu 9.4.0-1ubuntu1~20.04.2) 9.4.0 To view detailed results, visit: https://lab.dpdk.org/results/dashboard/patchsets/32553/ UNH-IOL DPDK Community Lab To manage your email subscriptions, visit: https://lab.dpdk.org/results/dashboard/preferences/subscriptions/