From mboxrd@z Thu Jan 1 00:00:00 1970 Return-Path: Received: from mails.dpdk.org (mails.dpdk.org [217.70.189.124]) by inbox.dpdk.org (Postfix) with ESMTP id CD5D4461F9 for ; Tue, 11 Feb 2025 18:35:35 +0100 (CET) Received: from mails.dpdk.org (localhost [127.0.0.1]) by mails.dpdk.org (Postfix) with ESMTP id B25D84067A; Tue, 11 Feb 2025 18:35:35 +0100 (CET) Received: from mail-il1-f225.google.com (mail-il1-f225.google.com [209.85.166.225]) by mails.dpdk.org (Postfix) with ESMTP id B1D1E40662 for ; Tue, 11 Feb 2025 18:35:33 +0100 (CET) Received: by mail-il1-f225.google.com with SMTP id e9e14a558f8ab-3cf82bd380bso47746875ab.0 for ; Tue, 11 Feb 2025 09:35:33 -0800 (PST) DKIM-Signature: v=1; a=rsa-sha256; c=relaxed/relaxed; d=iol.unh.edu; s=unh-iol; t=1739295333; x=1739900133; darn=dpdk.org; h=cc:to:from:subject:message-id:date:from:to:cc:subject:date :message-id:reply-to; bh=BKxjgaxlM8xLZrsQHfuRIdVRGZ/UIsBmW5kniYuFn6s=; b=dcu+NMMbpj2TRkNdYT6J/BtmIPTSYYOXBXDfFFPChf2SZKfjBw48cWiwUY/Exm8Y9x IgIP5VemOWqf6rU4qdDAlNottuwSus6Cb/v8X63mM4MQ7bTeaNUXpbLvDoG0Ot/0vszc prRUYaC8Mvw8nEw6mOGG9r0IpIIYrOKdbqznE= X-Google-DKIM-Signature: v=1; a=rsa-sha256; c=relaxed/relaxed; d=1e100.net; s=20230601; t=1739295333; x=1739900133; h=cc:to:from:subject:message-id:date:x-gm-message-state:from:to:cc :subject:date:message-id:reply-to; bh=BKxjgaxlM8xLZrsQHfuRIdVRGZ/UIsBmW5kniYuFn6s=; b=CgOSTTJJplZHqk2fYzQrssxicJCaTEQopNG0ZRRmIuBxx60OF3r7UFV9Xf68fASdeb ulDRIWCjSyUkM6EakwHMgn+9Osc9YJI3CxAzSTYWOhLxuhmsenNwJHHmUOnaATnfIu15 OQ/2ckE1ex+++hHQaFCirX3221tFCDH14vh/xK5UNiB6U5X+myRcpuiwNEWB8MImbJ5R nJ3T/W4pPFiVrjNkUmol1/+L3928VrWoZDmKstpE6+O4FJAF2D/TUsDiwFtzCPHsQKLM 1DuV0a+SylzePUZO37PzHxmq/wIlwMbCYE1+LUlXwfoXBf3R9hxZDPzH5rqaTC3g0MZJ ZsNg== X-Gm-Message-State: AOJu0YxeCh9vmiZkDXAE0ftWgdwEA7OwLfMgiRSd5MHCFwYYqNA0gpYo TWEwhEDDfRP7JoS5StxLAmLoqQDi+BCDZwqKVAK2l0KYVk+/S7at9eJI7MDQ/v+Re8Paaq5be0v H3vzW6IxBVN65xl598jWob73LAfeCmJ6UnNsTBI7D4y2pKKKdpcH7ImjT X-Gm-Gg: ASbGncvqhqvEtUo9t6viZYxR6TwWB2E04Qx6je4IQ/qeG3v5y9PSSubduQWcNS32jMX yS+M66TBAxQSks5GygWbv+jKDFdqTAUbxKcwzjbhRZMJFDCGlBt8h+lO/V7R99wWsSHxZsFEQko PVxwgfqsra39f8FqD5DTH9MBeSEuxgOvbIBiuY1s6gDTVkqqBlz15ucvftpG/PtPtz/ZR4c4AHy vODJZNKENsUFmk48jvoGBPUO0AsS2FR4MFg/Mik7vDMjINq24sBGvTesRLn9+z7LE470+s9aEOT kR9xQ9vAYhG6VDA3Pbu/AmQCiWCqonvNsV6g30oDbA== X-Google-Smtp-Source: AGHT+IGxIy+U+8VQwyY1g4jg8hrRsnNFDmTdripUgj6Yxu17rGqEmu9yhz/xLZZJSJyEatCGtfqu0PU5tCP+ X-Received: by 2002:a92:cda7:0:b0:3d0:1fc4:edf2 with SMTP id e9e14a558f8ab-3d17be2744dmr3026335ab.7.1739295332988; Tue, 11 Feb 2025 09:35:32 -0800 (PST) Received: from postal.iol.unh.edu (postal.iol.unh.edu. [2606:4100:3880:1234::84]) by smtp-relay.gmail.com with ESMTPS id e9e14a558f8ab-3d15c874d21sm3382635ab.7.2025.02.11.09.35.32 (version=TLS1_2 cipher=ECDHE-ECDSA-AES128-GCM-SHA256 bits=128/128); Tue, 11 Feb 2025 09:35:32 -0800 (PST) X-Relaying-Domain: iol.unh.edu Date: Tue, 11 Feb 2025 09:35:32 -0800 (PST) Message-ID: <67ab8a64.050a0220.2c2569.20b7SMTPIN_ADDED_MISSING@mx.google.com> Received: from [172.21.0.5] (unknown [172.18.0.240]) by postal.iol.unh.edu (Postfix) with ESMTP id 740B16052483; Tue, 11 Feb 2025 12:35:32 -0500 (EST) Subject: |SUCCESS| [GIT MASTER] 4dc0eac848506d9365fc93fdd6f32f3fc81c00d1 From: dpdklab@iol.unh.edu To: Test Report Cc: dpdk-test-reports@iol.unh.edu, Bruce Richardson Content-Type: text/plain X-BeenThere: test-report@dpdk.org X-Mailman-Version: 2.1.29 Precedence: list List-Id: automatic DPDK test reports List-Unsubscribe: , List-Archive: List-Post: List-Help: List-Subscribe: , Errors-To: test-report-bounces@dpdk.org _Testing PASS_ Branch: dpdk-next-net-intel 4dc0eac848506d9365fc93fdd6f32f3fc81c00d1 --> testing pass Upstream job id: Generic-DPDK-Compile-Meson#360678 Test environment and result as below: +----------------------------------------+--------------------+ | Environment | dpdk_meson_compile | +========================================+====================+ | RHEL9 (ARM) | PASS | +----------------------------------------+--------------------+ | Ubuntu 20.04 ARM GCC Cross Compile | PASS | +----------------------------------------+--------------------+ | Ubuntu 20.04 ARM SVE | PASS | +----------------------------------------+--------------------+ | Debian 12 with MUSDK | PASS | +----------------------------------------+--------------------+ | Fedora 40 (ARM Clang) | PASS | +----------------------------------------+--------------------+ | Fedora 40 (ARM) | PASS | +----------------------------------------+--------------------+ | Fedora 41 (ARM) | PASS | +----------------------------------------+--------------------+ | Fedora 41 (ARM Clang) | PASS | +----------------------------------------+--------------------+ | Ubuntu 20.04 (ARM) | PASS | +----------------------------------------+--------------------+ | Ubuntu 22.04 (ARM) | PASS | +----------------------------------------+--------------------+ | Ubuntu 24.04 (ARM) | PASS | +----------------------------------------+--------------------+ | CentOS Stream 9 (ARM) | PASS | +----------------------------------------+--------------------+ | Debian 11 (Buster) (ARM) | PASS | +----------------------------------------+--------------------+ | Ubuntu 20.04 aarch32 GCC Cross Compile | PASS | +----------------------------------------+--------------------+ | CentOS Stream 10 (ARM) | PASS | +----------------------------------------+--------------------+ | Debian 12 (arm) | PASS | +----------------------------------------+--------------------+ | Ubuntu 20.04 ARM Clang Cross Compile | PASS | +----------------------------------------+--------------------+ RHEL9 (ARM) Kernel: Depends on container host Compiler: gcc 11.5.0 20240719 (Red Hat 11.5.0-2) Ubuntu 20.04 ARM GCC Cross Compile Kernel: Depends on container host Compiler: aarch64-linux-gnu-gcc (Ubuntu 9.4.0-1ubuntu1~20.04.2) 9.4.0 Ubuntu 20.04 ARM SVE Kernel: Depends on container host Compiler: gcc (Ubuntu 10.5.0-1ubuntu1~20.04) 10.5.0 Debian 12 with MUSDK Kernel: Depends on container host Compiler: gcc (Debian 12.2.0-14) 12.2.0 Fedora 40 (ARM Clang) Kernel: Depends on container host Compiler: clang 18.1.8 (Fedora 18.1.8-1.fc40) Fedora 40 (ARM) Kernel: Depends on container host Compiler: gcc 14.2.1 20240912 (Red Hat 14.2.1-3) Fedora 41 (ARM) Kernel: Depends on container host Compiler: gcc 14.2.1 20240912 (Red Hat 14.2.1-3) Fedora 41 (ARM Clang) Kernel: Depends on container host Compiler: clang 19.1.5 (Fedora 19.1.5-1.fc41) Ubuntu 20.04 (ARM) Kernel: Depends on container host Compiler: gcc (Ubuntu 9.4.0-1ubuntu1~20.04.2) 9.4.0 Ubuntu 22.04 (ARM) Kernel: Depends on container host Compiler: gcc (Ubuntu 11.4.0-1ubuntu1~22.04) 11.4.0 Ubuntu 24.04 (ARM) Kernel: Depends on container host Compiler: gcc (Ubuntu 13.3.0-6ubuntu2~24.04) 13.3.0 CentOS Stream 9 (ARM) Kernel: Depends on container host Compiler: gcc 11.5.0 20240719 (Red Hat 11.5.0-2) Debian 11 (Buster) (ARM) Kernel: Depends on container host Compiler: gcc (Debian 10.2.1-6) 10.2.1 20210110 Ubuntu 20.04 aarch32 GCC Cross Compile Kernel: Depends on container host Compiler: gcc 9.4.0 CentOS Stream 10 (ARM) Kernel: Depends on container host Compiler: gcc 14.2.1 20241104 (Red Hat 14.2.1-6) Debian 12 (arm) Kernel: Depends on container host Compiler: gcc (Debian 12.2.0-14) 12.2.0 Ubuntu 20.04 ARM Clang Cross Compile Kernel: Depends on container host Compiler: clang 10.0.0-4ubuntu1 To view detailed results, visit: https://lab.dpdk.org/results/dashboard/tarballs/32543/ UNH-IOL DPDK Community Lab To manage your email subscriptions, visit: https://lab.dpdk.org/results/dashboard/preferences/subscriptions/