From mboxrd@z Thu Jan 1 00:00:00 1970 Return-Path: Received: from mails.dpdk.org (mails.dpdk.org [217.70.189.124]) by inbox.dpdk.org (Postfix) with ESMTP id BB15F461F9 for ; Tue, 11 Feb 2025 19:20:31 +0100 (CET) Received: from mails.dpdk.org (localhost [127.0.0.1]) by mails.dpdk.org (Postfix) with ESMTP id A53DA409FA; Tue, 11 Feb 2025 19:20:31 +0100 (CET) Received: from mail-pl1-f227.google.com (mail-pl1-f227.google.com [209.85.214.227]) by mails.dpdk.org (Postfix) with ESMTP id 923D44067A for ; Tue, 11 Feb 2025 19:20:30 +0100 (CET) Received: by mail-pl1-f227.google.com with SMTP id d9443c01a7336-21f7f1e1194so77944255ad.2 for ; Tue, 11 Feb 2025 10:20:30 -0800 (PST) DKIM-Signature: v=1; a=rsa-sha256; c=relaxed/relaxed; d=iol.unh.edu; s=unh-iol; t=1739298030; x=1739902830; darn=dpdk.org; h=references:in-reply-to:cc:to:from:subject:message-id:date:from:to :cc:subject:date:message-id:reply-to; bh=Q54G2blt8XRLdpHZEksiJHm2pa7n2qKYvwfQhQZTLYw=; b=EmpCD+eXJIgbIae2YZTPZt7cLx1n2eBSWJN5Tl/8Hhd6EYxFRTJ4x65fI9UBnZxjxR tYdiCtzMkgHo9av8cPgPZqNYXZjWMSPFAj7IAYSAU5H6T6QcVJoCAwFl6ZlCzkhAJWHQ Dd7pd/+WpdkaJBIFsBpyxNh8oLkV2ym9N3rR8= X-Google-DKIM-Signature: v=1; a=rsa-sha256; c=relaxed/relaxed; d=1e100.net; s=20230601; t=1739298030; x=1739902830; h=references:in-reply-to:cc:to:from:subject:message-id:date :x-gm-message-state:from:to:cc:subject:date:message-id:reply-to; bh=Q54G2blt8XRLdpHZEksiJHm2pa7n2qKYvwfQhQZTLYw=; b=tVv/Uk3M2lLhOcx+T59pdFlYDf59lr5ONX41uU43JSbxmb2JLI7wZYPfLw1BHFncJk wq5dk0VGMf8bHRt6DbFkR5j8DMpgcEIq39khtyZWwnPtZdXKiqX/Pm2k4nCmC/8ZOWhJ OhS4606bs/z4Eop9dzKeriggCxVd6zCMEKdlDQ0yknaOAc2GQrE5IOxFb5qKEUNzQk2S D765qGSL2VVfx9Lcl+J66W5JypWwLo4C9velF7zm1FcwRaikwFahHbaLV3sGCPsCWQP5 Qd8UMzxICB/jzsXjh/hnRoZlL4exT8hJG/xNijrBEmqKocL2Se+6HrPwCfPefduv15uT rGMQ== X-Gm-Message-State: AOJu0Yzc8Rui7uRVQ4R9GsIFkoR0JWDTUGYu9wRygSnkd1GCzA/3VokC BFfmWUUiT8Sf89Y3meMngjlyYvxAlDK9AWd413UT2NTrkcEjzXFtj4lVrOVCGR1wmlb1WvKLrvf Rl3BCAhimJLOlI0t5BI+dBM7LSYLkuI4O73Qx2aYz X-Gm-Gg: ASbGncsmycRUIjOoz2zozO4NMSIG7XvV90r6pktTDHuJj33GfAsNBcdstWZEIcMSPlB Mxl5wDKI2YBpH31CO/DLtEVwWeao6FPrphRUX55i0GGf8bgQ7Tfd+2AMozQW6tn+19uU3ZFTSme RivEMvKBiBG1aR+anIHhP2YteeJJ7WA4gM8Y7YkBKFHjwDXiKfw/GfEOQBo6Vj+vuIMMrC+hyNN MrqjF3CCztQ1OhrPWm4ZUziO2s+ZCj/pYq8CDBa0YzlDJ+G7eLskqfUf3+HZUv2bXD4m2vWCKwJ 5zdxhixtzLSPbu9YyLOKq8/3vTbOgQ== X-Google-Smtp-Source: AGHT+IGxmNs/itHKCDPsQOLA3DhTJeVgcBzuBHj2ajZ97JB7WFzL0AJFtMdwSsr0Agg7JsihYNwI2arQeTLD X-Received: by 2002:a05:6a21:78a8:b0:1e0:f05b:e727 with SMTP id adf61e73a8af0-1ee5c732f8dmr515003637.2.1739298029719; Tue, 11 Feb 2025 10:20:29 -0800 (PST) Received: from postal.iol.unh.edu (postal.iol.unh.edu. [132.177.123.84]) by smtp-relay.gmail.com with ESMTPS id 41be03b00d2f7-ad8552a3987sm45502a12.6.2025.02.11.10.20.29 (version=TLS1_2 cipher=ECDHE-ECDSA-AES128-GCM-SHA256 bits=128/128); Tue, 11 Feb 2025 10:20:29 -0800 (PST) X-Relaying-Domain: iol.unh.edu Date: Tue, 11 Feb 2025 10:20:29 -0800 (PST) Message-ID: <67ab94ed.050a0220.3c2c72.2351SMTPIN_ADDED_MISSING@mx.google.com> Received: from [172.17.0.3] (unknown [172.18.0.217]) by postal.iol.unh.edu (Postfix) with ESMTP id 158526052471; Tue, 11 Feb 2025 13:20:29 -0500 (EST) Subject: |SUCCESS| pw151354 [PATCH] [RFC] app/test-pmd: add option to run sta From: dpdklab@iol.unh.edu To: Test Report Cc: dpdk-test-reports@iol.unh.edu In-Reply-To: <20250211164402.99941-1-bruce.richardson@intel.com> References: <20250211164402.99941-1-bruce.richardson@intel.com> Content-Type: text/plain X-BeenThere: test-report@dpdk.org X-Mailman-Version: 2.1.29 Precedence: list List-Id: automatic DPDK test reports List-Unsubscribe: , List-Archive: List-Post: List-Help: List-Subscribe: , Errors-To: test-report-bounces@dpdk.org Test-Label: iol-abi-testing Test-Status: SUCCESS http://dpdk.org/patch/151354 _Testing PASS_ Submitter: Bruce Richardson Date: Tuesday, February 11 2025 16:44:02 DPDK git baseline: Repo:dpdk Branch: master CommitID:88e17c88943145bb956b5bf6059a8043dbd33a99 151354 --> testing pass Upstream job id: Generic-DPDK-Compile-ABI#115836 Test environment and result as below: +-------------------+----------+ | Environment | abi_test | +===================+==========+ | CentOS Stream 9 | PASS | +-------------------+----------+ | CentOS Stream 10 | PASS | +-------------------+----------+ | Debian Bullseye | PASS | +-------------------+----------+ | Debian 12 | PASS | +-------------------+----------+ | Fedora 40 (Clang) | PASS | +-------------------+----------+ | Fedora 41 (Clang) | PASS | +-------------------+----------+ | Fedora 40 | PASS | +-------------------+----------+ | Fedora 41 | PASS | +-------------------+----------+ | RHEL9 | PASS | +-------------------+----------+ | RHEL8 | PASS | +-------------------+----------+ | Ubuntu 22.04 | PASS | +-------------------+----------+ | Ubuntu 24.04 | PASS | +-------------------+----------+ | openSUSE Leap 15 | PASS | +-------------------+----------+ CentOS Stream 9 Kernel: Depends on container host Compiler: gcc 11.5.0 20240719 (Red Hat 11.5.0-2) CentOS Stream 10 Kernel: Depends on container host Compiler: gcc 14.2.1 20241104 (Red Hat 14.2.1-6) Debian Bullseye Kernel: Depends on container host Compiler: gcc (Debian 10.2.1-6) 10.2.1 20210110 Debian 12 Kernel: Depends on container host Compiler: gcc (Debian 12.2.0-14) 12.2.0 Fedora 40 (Clang) Kernel: Depends on container host Compiler: clang 18.1.8 (Fedora 18.1.8-1.fc40) Fedora 41 (Clang) Kernel: Depends on container host Compiler: clang 19.1.5 (Fedora 19.1.5-1.fc41) Fedora 40 Kernel: Depends on container host Compiler: gcc 14.2.1 20240912 (Red Hat 14.2.1-3) Fedora 41 Kernel: Depends on container host Compiler: gcc 14.2.1 20240912 (Red Hat 14.2.1-3) RHEL9 Kernel: Depends on container host Compiler: gcc 11.5.0 20240719 (Red Hat 11.5.0-2) RHEL8 Kernel: Depends on container host Compiler: gcc 8.5.0 20210514 (Red Hat 8.5.0-22) Ubuntu 22.04 Kernel: Depends on container host Compiler: gcc (Ubuntu 11.4.0-1ubuntu1~22.04) 11.4.0 Ubuntu 24.04 Kernel: Depends on container host Compiler: gcc (Ubuntu 13.3.0-6ubuntu2~24.04) 13.3.0 openSUSE Leap 15 Kernel: Depends on container host Compiler: gcc (SUSE Linux) 7.5.0 To view detailed results, visit: https://lab.dpdk.org/results/dashboard/patchsets/32560/ UNH-IOL DPDK Community Lab To manage your email subscriptions, visit: https://lab.dpdk.org/results/dashboard/preferences/subscriptions/