From mboxrd@z Thu Jan 1 00:00:00 1970 Return-Path: Received: from mails.dpdk.org (mails.dpdk.org [217.70.189.124]) by inbox.dpdk.org (Postfix) with ESMTP id 297F9461F9 for ; Tue, 11 Feb 2025 19:23:19 +0100 (CET) Received: from mails.dpdk.org (localhost [127.0.0.1]) by mails.dpdk.org (Postfix) with ESMTP id 09378409FA; Tue, 11 Feb 2025 19:23:19 +0100 (CET) Received: from mail-qv1-f99.google.com (mail-qv1-f99.google.com [209.85.219.99]) by mails.dpdk.org (Postfix) with ESMTP id 756644067A for ; Tue, 11 Feb 2025 19:23:17 +0100 (CET) Received: by mail-qv1-f99.google.com with SMTP id 6a1803df08f44-6df83fd01cbso28578916d6.2 for ; Tue, 11 Feb 2025 10:23:17 -0800 (PST) DKIM-Signature: v=1; a=rsa-sha256; c=relaxed/relaxed; d=iol.unh.edu; s=unh-iol; t=1739298197; x=1739902997; darn=dpdk.org; h=references:in-reply-to:cc:to:from:subject:message-id:date:from:to :cc:subject:date:message-id:reply-to; bh=bQEMiKZjlTmoXmko/6U6PIsGaJr7DNE7IevOyvJ5kKo=; b=cZj3gsfxrAvs149aLaGx9xHAHfczvjFGMOU6N1WrupiCNDlgMQ3QJxyYQluJhi7FjI W9eJwpsFAcm7TPSYA752FESoKbSCvZoxAh0pzOrLlWhy4cLg9WlNVtOyPx9SOXUTKJM0 qsR2/tLnjErx1UlMfHI7zmSlJjysBGWmy9MB8= X-Google-DKIM-Signature: v=1; a=rsa-sha256; c=relaxed/relaxed; d=1e100.net; s=20230601; t=1739298197; x=1739902997; h=references:in-reply-to:cc:to:from:subject:message-id:date :x-gm-message-state:from:to:cc:subject:date:message-id:reply-to; bh=bQEMiKZjlTmoXmko/6U6PIsGaJr7DNE7IevOyvJ5kKo=; b=aISUbvp62JTMvZ9VmhP0VXbR9jZ2oOIq1GtCdlAzlMt2XQmw0Fb6kyWwd88yU53jgy +X2U2Zyammq1r1r9QqI7GDkTPCDBUYRZuRZfOScbvikjjbniOGJ1KdKKONzHSFrZJrBH PxM0nz4HQe8ZaetPvvhOaPPddBX++XWqN95eQ/LgeChGoxBnRHI683a2GOFJeIxJo9bD OfkrZdJBiyTePnfnSeq1Cuil7c85frVYVApQWuuro+t3QngO5f7lPIev/j9ReYTPuTkb JifvjoJuKK4iMp8/gb2Z00nDxtPY8atEr9HFEttsUwEarkYZbAkuzW0rjUAsGa2DBHKO Uljw== X-Gm-Message-State: AOJu0Yzf+5MY1FEB11nRnhXcabq4cDbRjbrlI1pWrw9XylTd9wXFDnBW KAiK3bit4mgK+VY00ua1E5queCJr+jWh3+yzcBd9IzNbSwRsnEcJLb49M+lLYz8ZyLtrrG/q55S b45mpcwKPubMdeqo9oakoyhlWlTTFGKi2BGXDEkPY6+uEdSvtDGgCCLL7 X-Gm-Gg: ASbGnctnESADFzWdAFoeGtj1LSQedjEo0pZKRnRwaNP/7rib+Vo9CHERtVZrV51v5OX i0NXrksMmnNY0rvPMB2Y5pA+l9/TtpEXiNJAGQUkXLXzDhOYlOc5kupC14ySBF7ZUmctBJWalUK L4kJfnaQ0sD/kE+M17T/h4aDIsmCexuW/9vqvCedhLhboDR5kmCCEtTzlE37ImpsJKIznFHcju6 CTuqN3nAWaUNEiMR5Np5KP6MeWHFNoCEfWgsOD65SBjpc9ZvwyjXax5DVFvcncn2NI7apoKI4Nc 0sjvkByf/aJCRPBqeY0i+4MysRwYZTS6BCycquIodA== X-Google-Smtp-Source: AGHT+IFkIM7g2bwUFRYV6oV39bH9ywaTbzxrliZkKxZG1MW3ugr8EP9DDwQ4pHEA1JYBHxCoRhSQ+EGXR7yY X-Received: by 2002:a05:6214:c6c:b0:6da:da7b:c196 with SMTP id 6a1803df08f44-6e46ed83138mr6501336d6.16.1739298196745; Tue, 11 Feb 2025 10:23:16 -0800 (PST) Received: from postal.iol.unh.edu (postal.iol.unh.edu. [2606:4100:3880:1234::84]) by smtp-relay.gmail.com with ESMTPS id 6a1803df08f44-6e45e8b7e4dsm3347246d6.36.2025.02.11.10.23.16 (version=TLS1_2 cipher=ECDHE-ECDSA-AES128-GCM-SHA256 bits=128/128); Tue, 11 Feb 2025 10:23:16 -0800 (PST) X-Relaying-Domain: iol.unh.edu Date: Tue, 11 Feb 2025 10:23:16 -0800 (PST) Message-ID: <67ab9594.050a0220.2d79e.21baSMTPIN_ADDED_MISSING@mx.google.com> Received: from [172.17.0.3] (unknown [172.18.0.217]) by postal.iol.unh.edu (Postfix) with ESMTP id 6FB8B6052471; Tue, 11 Feb 2025 13:23:16 -0500 (EST) Subject: |SUCCESS| pw151354 [PATCH] [RFC] app/test-pmd: add option to run sta From: dpdklab@iol.unh.edu To: Test Report Cc: dpdk-test-reports@iol.unh.edu In-Reply-To: <20250211164402.99941-1-bruce.richardson@intel.com> References: <20250211164402.99941-1-bruce.richardson@intel.com> Content-Type: text/plain X-BeenThere: test-report@dpdk.org X-Mailman-Version: 2.1.29 Precedence: list List-Id: automatic DPDK test reports List-Unsubscribe: , List-Archive: List-Post: List-Help: List-Subscribe: , Errors-To: test-report-bounces@dpdk.org Test-Label: iol-unit-arm64-testing Test-Status: SUCCESS http://dpdk.org/patch/151354 _Testing PASS_ Submitter: Bruce Richardson Date: Tuesday, February 11 2025 16:44:02 DPDK git baseline: Repo:dpdk Branch: master CommitID:88e17c88943145bb956b5bf6059a8043dbd33a99 151354 --> testing pass Upstream job id: Generic-Unit-Test-DPDK#314138 Test environment and result as below: +-----------------------------+----------------+--------------+---------------------------+------------------------------+ | Environment | dpdk_unit_test | lpm_autotest | cryptodev_sw_zuc_autotest | cryptodev_sw_snow3g_autotest | +=============================+================+==============+===========================+==============================+ | 32-bit Ubuntu 22.04.4 (ARM) | PASS | SKIPPED | SKIPPED | SKIPPED | +-----------------------------+----------------+--------------+---------------------------+------------------------------+ | CentOS Stream 9 (ARM) | PASS | SKIPPED | SKIPPED | SKIPPED | +-----------------------------+----------------+--------------+---------------------------+------------------------------+ | CentOS Stream 10 (ARM) | PASS | SKIPPED | SKIPPED | SKIPPED | +-----------------------------+----------------+--------------+---------------------------+------------------------------+ | Debian 12 (arm) | PASS | SKIPPED | PASS | PASS | +-----------------------------+----------------+--------------+---------------------------+------------------------------+ | Fedora 40 (ARM Clang) | PASS | SKIPPED | SKIPPED | SKIPPED | +-----------------------------+----------------+--------------+---------------------------+------------------------------+ | Debian 11 (Buster) (ARM) | PASS | SKIPPED | SKIPPED | SKIPPED | +-----------------------------+----------------+--------------+---------------------------+------------------------------+ | Fedora 40 (ARM) | PASS | SKIPPED | SKIPPED | SKIPPED | +-----------------------------+----------------+--------------+---------------------------+------------------------------+ | Fedora 41 (ARM Clang) | PASS | SKIPPED | SKIPPED | SKIPPED | +-----------------------------+----------------+--------------+---------------------------+------------------------------+ | Fedora 41 (ARM) | PASS | SKIPPED | SKIPPED | SKIPPED | +-----------------------------+----------------+--------------+---------------------------+------------------------------+ | Ubuntu 20.04 (ARM) | PASS | SKIPPED | SKIPPED | SKIPPED | +-----------------------------+----------------+--------------+---------------------------+------------------------------+ | Ubuntu 24.04 (ARM) | PASS | SKIPPED | SKIPPED | SKIPPED | +-----------------------------+----------------+--------------+---------------------------+------------------------------+ | RHEL9 (ARM) | PASS | SKIPPED | SKIPPED | SKIPPED | +-----------------------------+----------------+--------------+---------------------------+------------------------------+ | Ubuntu 22.04 (ARM) | PASS | SKIPPED | SKIPPED | SKIPPED | +-----------------------------+----------------+--------------+---------------------------+------------------------------+ | Ubuntu 20.04 ARM SVE | SKIPPED | PASS | SKIPPED | SKIPPED | +-----------------------------+----------------+--------------+---------------------------+------------------------------+ 32-bit Ubuntu 22.04.4 (ARM) Kernel: 5.15.83+ aarch64 Compiler: gcc (Ubuntu 11.4.0-1ubuntu1~22.04) 11.4.0 CentOS Stream 9 (ARM) Kernel: Depends on container host Compiler: gcc 11.5.0 20240719 (Red Hat 11.5.0-2) CentOS Stream 10 (ARM) Kernel: Depends on container host Compiler: gcc 14.2.1 20241104 (Red Hat 14.2.1-6) Debian 12 (arm) Kernel: Depends on container host Compiler: gcc (Debian 12.2.0-14) 12.2.0 Fedora 40 (ARM Clang) Kernel: Depends on container host Compiler: clang 18.1.8 (Fedora 18.1.8-1.fc40) Debian 11 (Buster) (ARM) Kernel: Depends on container host Compiler: gcc (Debian 10.2.1-6) 10.2.1 20210110 Fedora 40 (ARM) Kernel: Depends on container host Compiler: gcc 14.2.1 20240912 (Red Hat 14.2.1-3) Fedora 41 (ARM Clang) Kernel: Depends on container host Compiler: clang 19.1.5 (Fedora 19.1.5-1.fc41) Fedora 41 (ARM) Kernel: Depends on container host Compiler: gcc 14.2.1 20240912 (Red Hat 14.2.1-3) Ubuntu 20.04 (ARM) Kernel: Depends on container host Compiler: gcc (Ubuntu 9.4.0-1ubuntu1~20.04.2) 9.4.0 Ubuntu 24.04 (ARM) Kernel: Depends on container host Compiler: gcc (Ubuntu 13.3.0-6ubuntu2~24.04) 13.3.0 RHEL9 (ARM) Kernel: Depends on container host Compiler: gcc 11.5.0 20240719 (Red Hat 11.5.0-2) Ubuntu 22.04 (ARM) Kernel: Depends on container host Compiler: gcc (Ubuntu 11.4.0-1ubuntu1~22.04) 11.4.0 Ubuntu 20.04 ARM SVE Kernel: Depends on container host Compiler: gcc (Ubuntu 10.5.0-1ubuntu1~20.04) 10.5.0 To view detailed results, visit: https://lab.dpdk.org/results/dashboard/patchsets/32560/ UNH-IOL DPDK Community Lab To manage your email subscriptions, visit: https://lab.dpdk.org/results/dashboard/preferences/subscriptions/