From mboxrd@z Thu Jan 1 00:00:00 1970 Return-Path: Received: from mails.dpdk.org (mails.dpdk.org [217.70.189.124]) by inbox.dpdk.org (Postfix) with ESMTP id BA87F461F9 for ; Tue, 11 Feb 2025 19:28:27 +0100 (CET) Received: from mails.dpdk.org (localhost [127.0.0.1]) by mails.dpdk.org (Postfix) with ESMTP id 97A5940A67; Tue, 11 Feb 2025 19:28:27 +0100 (CET) Received: from mail-il1-f227.google.com (mail-il1-f227.google.com [209.85.166.227]) by mails.dpdk.org (Postfix) with ESMTP id 6CB98409FA for ; Tue, 11 Feb 2025 19:28:26 +0100 (CET) Received: by mail-il1-f227.google.com with SMTP id e9e14a558f8ab-3cf880d90bdso19173985ab.3 for ; Tue, 11 Feb 2025 10:28:26 -0800 (PST) DKIM-Signature: v=1; a=rsa-sha256; c=relaxed/relaxed; d=iol.unh.edu; s=unh-iol; t=1739298505; x=1739903305; darn=dpdk.org; h=references:in-reply-to:cc:to:from:subject:message-id:date:from:to :cc:subject:date:message-id:reply-to; bh=+7Xh1WNtXjzd2h9to/x0AKygbnZniv4udw9qKrx3VL0=; b=OgBt/4H0jolIaucgwBKgE4LrssCoTlNcnbK9gyQ59dwXpAvFCjBQX6qQsifmGKsTG9 NXtQfRHvZEhLKUPI7h6ue+0fl84X7Q0zarK8ord3dyuyZLJVZ2BS7zkZ5KQUPJYueQs+ qAHKAyFzye0+zSwXjReTd8Xz/ardUCGDG34Vo= X-Google-DKIM-Signature: v=1; a=rsa-sha256; c=relaxed/relaxed; d=1e100.net; s=20230601; t=1739298505; x=1739903305; h=references:in-reply-to:cc:to:from:subject:message-id:date :x-gm-message-state:from:to:cc:subject:date:message-id:reply-to; bh=+7Xh1WNtXjzd2h9to/x0AKygbnZniv4udw9qKrx3VL0=; b=a9WDdosKaHJqrHu7QRFuHwYTvv5Wik6PWGjnSGex6tFsqzKoVYgF2Wan+xHFVUgSG3 bVFlnB2UlyyGZJwnhS0179gZxULbwdvV+3z8rtA54gpnd1gjhOpr9ENlOZ9RB76JorBn K3Ie8QZe5OzuGSgrV6bEuKOi+c+yWgZyrJroFq4M8Ya9YdemGYLgWdJgaeI+1GAWgdOm hkpnleG24I6jgv9iwgnNz3TLv25+s1o3d8pWNu0yI80M8PikmM2hjZpWifOou6lZCwqr rt8F/HWGNucvwAwrof3sT4K89OCL0lXpRbwgOIktJMK04eLs08bNyvl3Dt+M8Gj9AVZE F2uw== X-Gm-Message-State: AOJu0YwX4q97FfVfAQVUGqwM8d30rbeoekpyimv/3/Y46tCkGnziRBQO 08RaaRUM6yNejgpDpkDM3mTPryCWTC8+mEkspb4y3Tfjk1ykUg+L6rpVrEG6UYE60Caxr8CL7mG U267WiPjRm7rqUzr5QDGwlYo97Wb/x1NjqHC+sUvT X-Gm-Gg: ASbGncvsaYZGYUKrHKOo2lUT8xXuH/hp17fzGUOvCARQbHSu0oHMLDilc4nFkXw/X1K pMikJD7krfwEG4oiCcddxETKJwAiGyuol+EZ+vpD23RttJAhcBRsY5CrSbBheJ3DdxAf8xHc0Cp iPT6HYTrGIvUjqUx91amaw9ogyLRI7hMyLF+dZMJ72VnsOABJB6sgi5TZ7AnwkMbN9bEP8NOGaN et4ihuXqghMB/nHyeEoHDXxU5FtG9U2OGDBU97eR5K/JJ7Cy3LlfEUwjsX4OaKenFhoyKfoQ8ki 5qfqFJkhbqflN9W99R0pbKbeoCRjvg== X-Google-Smtp-Source: AGHT+IFdrKHo8sFCqt20Xxuav4EPoMZPVvOkXDKpZjf48XZPjAyOMY9aiEP02+6h7sh7Kw72G5HIUHhoaDu6 X-Received: by 2002:a05:6e02:17cc:b0:3d1:7835:104b with SMTP id e9e14a558f8ab-3d17bf30f14mr4573695ab.11.1739298505684; Tue, 11 Feb 2025 10:28:25 -0800 (PST) Received: from postal.iol.unh.edu (postal.iol.unh.edu. [132.177.123.84]) by smtp-relay.gmail.com with ESMTPS id e9e14a558f8ab-3d16180a93bsm2690855ab.30.2025.02.11.10.28.25 (version=TLS1_2 cipher=ECDHE-ECDSA-AES128-GCM-SHA256 bits=128/128); Tue, 11 Feb 2025 10:28:25 -0800 (PST) X-Relaying-Domain: iol.unh.edu Date: Tue, 11 Feb 2025 10:28:25 -0800 (PST) Message-ID: <67ab96c9.050a0220.271e5c.e52aSMTPIN_ADDED_MISSING@mx.google.com> Received: from [172.17.0.3] (unknown [172.18.0.217]) by postal.iol.unh.edu (Postfix) with ESMTP id 1FD066052471; Tue, 11 Feb 2025 13:28:25 -0500 (EST) Subject: |SUCCESS| pw151354 [PATCH] [RFC] app/test-pmd: add option to run sta From: dpdklab@iol.unh.edu To: Test Report Cc: dpdk-test-reports@iol.unh.edu In-Reply-To: <20250211164402.99941-1-bruce.richardson@intel.com> References: <20250211164402.99941-1-bruce.richardson@intel.com> Content-Type: text/plain X-BeenThere: test-report@dpdk.org X-Mailman-Version: 2.1.29 Precedence: list List-Id: automatic DPDK test reports List-Unsubscribe: , List-Archive: List-Post: List-Help: List-Subscribe: , Errors-To: test-report-bounces@dpdk.org Test-Label: iol-unit-amd64-testing Test-Status: SUCCESS http://dpdk.org/patch/151354 _Testing PASS_ Submitter: Bruce Richardson Date: Tuesday, February 11 2025 16:44:02 DPDK git baseline: Repo:dpdk Branch: master CommitID:88e17c88943145bb956b5bf6059a8043dbd33a99 151354 --> testing pass Upstream job id: Generic-Unit-Test-DPDK#314139 Test environment and result as below: +---------------------+----------------+ | Environment | dpdk_unit_test | +=====================+================+ | CentOS Stream 9 | PASS | +---------------------+----------------+ | CentOS Stream 10 | PASS | +---------------------+----------------+ | Debian 12 | PASS | +---------------------+----------------+ | Fedora 40 | PASS | +---------------------+----------------+ | Debian Bullseye | PASS | +---------------------+----------------+ | Fedora 40 (Clang) | PASS | +---------------------+----------------+ | Fedora 41 (Clang) | PASS | +---------------------+----------------+ | RHEL9 | PASS | +---------------------+----------------+ | Fedora 41 | PASS | +---------------------+----------------+ | RHEL8 | PASS | +---------------------+----------------+ | Ubuntu 24.04 | PASS | +---------------------+----------------+ | Ubuntu 20.04 | PASS | +---------------------+----------------+ | Ubuntu 22.04 | PASS | +---------------------+----------------+ | Windows Server 2022 | PASS | +---------------------+----------------+ CentOS Stream 9 Kernel: Depends on container host Compiler: gcc 11.5.0 20240719 (Red Hat 11.5.0-2) CentOS Stream 10 Kernel: Depends on container host Compiler: gcc 14.2.1 20241104 (Red Hat 14.2.1-6) Debian 12 Kernel: Depends on container host Compiler: gcc (Debian 12.2.0-14) 12.2.0 Fedora 40 Kernel: Depends on container host Compiler: gcc 14.2.1 20240912 (Red Hat 14.2.1-3) Debian Bullseye Kernel: Depends on container host Compiler: gcc (Debian 10.2.1-6) 10.2.1 20210110 Fedora 40 (Clang) Kernel: Depends on container host Compiler: clang 18.1.8 (Fedora 18.1.8-1.fc40) Fedora 41 (Clang) Kernel: Depends on container host Compiler: clang 19.1.5 (Fedora 19.1.5-1.fc41) RHEL9 Kernel: Depends on container host Compiler: gcc 11.5.0 20240719 (Red Hat 11.5.0-2) Fedora 41 Kernel: Depends on container host Compiler: gcc 14.2.1 20240912 (Red Hat 14.2.1-3) RHEL8 Kernel: Depends on container host Compiler: gcc 8.5.0 20210514 (Red Hat 8.5.0-22) Ubuntu 24.04 Kernel: Depends on container host Compiler: gcc (Ubuntu 13.3.0-6ubuntu2~24.04) 13.3.0 Ubuntu 20.04 Kernel: Depends on container host Compiler: gcc (Ubuntu 9.4.0-1ubuntu1~20.04.2) 9.4.0 Ubuntu 22.04 Kernel: Depends on container host Compiler: gcc (Ubuntu 11.4.0-1ubuntu1~22.04) 11.4.0 Windows Server 2022 Kernel: 10.0.20348.2031 Compiler: clang 15.0.7, gcc 14.1.0 (MinGW), and MSVC VS 19.39.33521 To view detailed results, visit: https://lab.dpdk.org/results/dashboard/patchsets/32560/ UNH-IOL DPDK Community Lab To manage your email subscriptions, visit: https://lab.dpdk.org/results/dashboard/preferences/subscriptions/