From mboxrd@z Thu Jan 1 00:00:00 1970 Return-Path: Received: from mails.dpdk.org (mails.dpdk.org [217.70.189.124]) by inbox.dpdk.org (Postfix) with ESMTP id C3853461F9 for ; Tue, 11 Feb 2025 19:50:43 +0100 (CET) Received: from mails.dpdk.org (localhost [127.0.0.1]) by mails.dpdk.org (Postfix) with ESMTP id A48E640A67; Tue, 11 Feb 2025 19:50:43 +0100 (CET) Received: from mail-pl1-f228.google.com (mail-pl1-f228.google.com [209.85.214.228]) by mails.dpdk.org (Postfix) with ESMTP id 6C3D8409FA for ; Tue, 11 Feb 2025 19:50:41 +0100 (CET) Received: by mail-pl1-f228.google.com with SMTP id d9443c01a7336-21f5a224544so52301425ad.0 for ; Tue, 11 Feb 2025 10:50:41 -0800 (PST) DKIM-Signature: v=1; a=rsa-sha256; c=relaxed/relaxed; d=iol.unh.edu; s=unh-iol; t=1739299840; x=1739904640; darn=dpdk.org; h=references:in-reply-to:cc:to:from:subject:message-id:date:from:to :cc:subject:date:message-id:reply-to; bh=Mq4H5RvK7Rdfr/0stksRHRnwKGzj+/jYGlLUTRe2Rl4=; b=HcxMHS0/2BDvrSFwXUq8FZ/kcfKrusnrH+cbkUmAeTAyYcTRQWWd9xD8UHqWxFMV/+ VHcF1nce3wl7TW7rsISenfGBXi53wTvnUsNd2afjExW+VndRqHYQvO4vPd9eg8YRDtRN LQPaBDDjB1Gchl/aAYr0GHWAMXwhdD3iZOz0Q= X-Google-DKIM-Signature: v=1; a=rsa-sha256; c=relaxed/relaxed; d=1e100.net; s=20230601; t=1739299840; x=1739904640; h=references:in-reply-to:cc:to:from:subject:message-id:date :x-gm-message-state:from:to:cc:subject:date:message-id:reply-to; bh=Mq4H5RvK7Rdfr/0stksRHRnwKGzj+/jYGlLUTRe2Rl4=; b=YY+iYxJ4IMoBlbqXwx7NGs5qVHmHfEAuciq06S84fB8UJ38RecedfkDEwk/xjb2DNd +uHfa1X/OkZRaZsZAvS1hsq5+5s+2fM6OQ9Nyloswk2gLK74O0uPrhBy/LssmA+WUWEK QRvERz3j2M6+wsYldf+xe9fMkPbdwbY+wXaT43qVZF0AbybguYaE0YAyH27KWxgD6vqy nXoS7p8tK2WO5bXM6EGIaikt3NCWmSj8Qh6NH7QhQ+Bma0HYQd+Ak6ZphlHo2pEAdJ0n mq/bXOh2Bs7XM+HkQPbSq3rZ1cGoaZRjRSnXXfwr4+trON6UWbaT9doZJKP6HOVlj1bG 3SSw== X-Gm-Message-State: AOJu0YwT7m3qQ3XgotPcFRzLpj9/bql3HrvfPy+NuBsQ4pwHScd7a7sD MVRcWUUMm471PpmTHggIg7tR7zHcA+OBJx9+FnI3xa2ZH84rQRW5APbBQyikvAualH7c/BJraRE QHzhCWi2pcVwTQJaJj9nSZGAD+qeHch08T6Echy7KVkmIAe+xGZ+TBHFF X-Gm-Gg: ASbGncveHeh6N3rGgnETU1e8rQuk1yd06yFKQKVWcKCp+voes+kKrPjzu6rzKDnIMJg fbL/AclCu0AN/83vbQlYFNb+lCzLC0Y2fuXWuAZ9lQhk5F981SXOLfkfJSNF4+D5zQrT2bpNDnK P8RmmjLJPpTeMxq96tx1yya1Affi1UBDy0q85xIqE9ZnmDFZ0SlC1pnYPHmNedigJfVypMjgb+A E/XRvznV0PbBKWa55aWVmCDAbBYY5kxxm0Lv4NClN2HYG81A5ksf9CQb8f51KVZVFv8vAcpwilZ beGyheZd1lIc2denBomvyA9Eokoc1ccrq1BH80QU/w== X-Google-Smtp-Source: AGHT+IEhzVn8AH/NrIFW5glcu5kjz8YzvwRCnz+Xd6EkDrL+moqFflC2+l1WlZZ6KKD35ajLZw1f0eML6Fci X-Received: by 2002:a17:902:eccf:b0:215:acb3:3786 with SMTP id d9443c01a7336-220bbad0d25mr4990985ad.19.1739299840545; Tue, 11 Feb 2025 10:50:40 -0800 (PST) Received: from postal.iol.unh.edu (postal.iol.unh.edu. [2606:4100:3880:1234::84]) by smtp-relay.gmail.com with ESMTPS id d9443c01a7336-21f3656b252sm6708055ad.53.2025.02.11.10.50.40 (version=TLS1_2 cipher=ECDHE-ECDSA-AES128-GCM-SHA256 bits=128/128); Tue, 11 Feb 2025 10:50:40 -0800 (PST) X-Relaying-Domain: iol.unh.edu Date: Tue, 11 Feb 2025 10:50:40 -0800 (PST) Message-ID: <67ab9c00.170a0220.807af.2331SMTPIN_ADDED_MISSING@mx.google.com> Received: from [172.17.0.3] (unknown [172.18.0.217]) by postal.iol.unh.edu (Postfix) with ESMTP id A818F6052471; Tue, 11 Feb 2025 13:50:39 -0500 (EST) Subject: |SUCCESS| pw151354 [PATCH] [RFC] app/test-pmd: add option to run sta From: dpdklab@iol.unh.edu To: Test Report Cc: dpdk-test-reports@iol.unh.edu In-Reply-To: <20250211164402.99941-1-bruce.richardson@intel.com> References: <20250211164402.99941-1-bruce.richardson@intel.com> Content-Type: text/plain X-BeenThere: test-report@dpdk.org X-Mailman-Version: 2.1.29 Precedence: list List-Id: automatic DPDK test reports List-Unsubscribe: , List-Archive: List-Post: List-Help: List-Subscribe: , Errors-To: test-report-bounces@dpdk.org Test-Label: iol-compile-amd64-testing Test-Status: SUCCESS http://dpdk.org/patch/151354 _Testing PASS_ Submitter: Bruce Richardson Date: Tuesday, February 11 2025 16:44:02 DPDK git baseline: Repo:dpdk Branch: master CommitID:88e17c88943145bb956b5bf6059a8043dbd33a99 151354 --> testing pass Upstream job id: Generic-DPDK-Compile-Meson#360697 Test environment and result as below: +---------------------+--------------------+-------------------+------------------+-------------------------+-------------------+----------------------+ | Environment | dpdk_meson_compile | dpdk_compile_spdk | dpdk_compile_ovs | dpdk_llvm_clang_compile | dpdk_msvc_compile | dpdk_mingw64_compile | +=====================+====================+===================+==================+=========================+===================+======================+ | Debian Bullseye | PASS | PASS | SKIPPED | SKIPPED | SKIPPED | SKIPPED | +---------------------+--------------------+-------------------+------------------+-------------------------+-------------------+----------------------+ | CentOS Stream 10 | PASS | SKIPPED | SKIPPED | SKIPPED | SKIPPED | SKIPPED | +---------------------+--------------------+-------------------+------------------+-------------------------+-------------------+----------------------+ | Fedora 41 (Clang) | PASS | PASS | PASS | SKIPPED | SKIPPED | SKIPPED | +---------------------+--------------------+-------------------+------------------+-------------------------+-------------------+----------------------+ | Fedora 40 | PASS | PASS | SKIPPED | SKIPPED | SKIPPED | SKIPPED | +---------------------+--------------------+-------------------+------------------+-------------------------+-------------------+----------------------+ | Debian 12 | PASS | PASS | SKIPPED | SKIPPED | SKIPPED | SKIPPED | +---------------------+--------------------+-------------------+------------------+-------------------------+-------------------+----------------------+ | Fedora 40 (Clang) | PASS | PASS | SKIPPED | SKIPPED | SKIPPED | SKIPPED | +---------------------+--------------------+-------------------+------------------+-------------------------+-------------------+----------------------+ | Fedora 41 | PASS | PASS | PASS | SKIPPED | SKIPPED | SKIPPED | +---------------------+--------------------+-------------------+------------------+-------------------------+-------------------+----------------------+ | Ubuntu 20.04 | PASS | SKIPPED | SKIPPED | SKIPPED | SKIPPED | SKIPPED | +---------------------+--------------------+-------------------+------------------+-------------------------+-------------------+----------------------+ | RHEL8 | PASS | SKIPPED | SKIPPED | SKIPPED | SKIPPED | SKIPPED | +---------------------+--------------------+-------------------+------------------+-------------------------+-------------------+----------------------+ | RHEL9 | PASS | SKIPPED | SKIPPED | SKIPPED | SKIPPED | SKIPPED | +---------------------+--------------------+-------------------+------------------+-------------------------+-------------------+----------------------+ | Ubuntu 22.04 | PASS | PASS | SKIPPED | SKIPPED | SKIPPED | SKIPPED | +---------------------+--------------------+-------------------+------------------+-------------------------+-------------------+----------------------+ | Ubuntu 24.04 | PASS | PASS | PASS | SKIPPED | SKIPPED | SKIPPED | +---------------------+--------------------+-------------------+------------------+-------------------------+-------------------+----------------------+ | Alpine | PASS | SKIPPED | SKIPPED | SKIPPED | SKIPPED | SKIPPED | +---------------------+--------------------+-------------------+------------------+-------------------------+-------------------+----------------------+ | FreeBSD 13.4 | PASS | SKIPPED | SKIPPED | SKIPPED | SKIPPED | SKIPPED | +---------------------+--------------------+-------------------+------------------+-------------------------+-------------------+----------------------+ | FreeBSD 14.2 | PASS | SKIPPED | SKIPPED | SKIPPED | SKIPPED | SKIPPED | +---------------------+--------------------+-------------------+------------------+-------------------------+-------------------+----------------------+ | openSUSE Leap 15 | PASS | SKIPPED | SKIPPED | SKIPPED | SKIPPED | SKIPPED | +---------------------+--------------------+-------------------+------------------+-------------------------+-------------------+----------------------+ | Windows Server 2022 | SKIPPED | SKIPPED | SKIPPED | PASS | PASS | PASS | +---------------------+--------------------+-------------------+------------------+-------------------------+-------------------+----------------------+ Debian Bullseye Kernel: Depends on container host Compiler: gcc (Debian 10.2.1-6) 10.2.1 20210110 CentOS Stream 10 Kernel: Depends on container host Compiler: gcc 14.2.1 20241104 (Red Hat 14.2.1-6) Fedora 41 (Clang) Kernel: Depends on container host Compiler: clang 19.1.5 (Fedora 19.1.5-1.fc41) Fedora 40 Kernel: Depends on container host Compiler: gcc 14.2.1 20240912 (Red Hat 14.2.1-3) Debian 12 Kernel: Depends on container host Compiler: gcc (Debian 12.2.0-14) 12.2.0 Fedora 40 (Clang) Kernel: Depends on container host Compiler: clang 18.1.8 (Fedora 18.1.8-1.fc40) Fedora 41 Kernel: Depends on container host Compiler: gcc 14.2.1 20240912 (Red Hat 14.2.1-3) Ubuntu 20.04 Kernel: Depends on container host Compiler: gcc (Ubuntu 9.4.0-1ubuntu1~20.04.2) 9.4.0 RHEL8 Kernel: Depends on container host Compiler: gcc 8.5.0 20210514 (Red Hat 8.5.0-22) RHEL9 Kernel: Depends on container host Compiler: gcc 11.5.0 20240719 (Red Hat 11.5.0-2) Ubuntu 22.04 Kernel: Depends on container host Compiler: gcc (Ubuntu 11.4.0-1ubuntu1~22.04) 11.4.0 Ubuntu 24.04 Kernel: Depends on container host Compiler: gcc (Ubuntu 13.3.0-6ubuntu2~24.04) 13.3.0 Alpine Kernel: Depends on container host Compiler: gcc (Alpine 14.2.0) 14.2.0 FreeBSD 13.4 Kernel: 13.4-RELEASE-p1 Compiler: clang 18.1.6 FreeBSD 14.2 Kernel: 14.2-RELEASE Compiler: clang 18.1.6 openSUSE Leap 15 Kernel: Depends on container host Compiler: gcc (SUSE Linux) 7.5.0 Windows Server 2022 Kernel: 10.0.20348.2031 Compiler: clang 15.0.7, gcc 14.1.0 (MinGW), and MSVC VS 19.39.33521 To view detailed results, visit: https://lab.dpdk.org/results/dashboard/patchsets/32560/ UNH-IOL DPDK Community Lab To manage your email subscriptions, visit: https://lab.dpdk.org/results/dashboard/preferences/subscriptions/