From mboxrd@z Thu Jan 1 00:00:00 1970 Return-Path: Received: from mails.dpdk.org (mails.dpdk.org [217.70.189.124]) by inbox.dpdk.org (Postfix) with ESMTP id 7FC154611F for ; Tue, 11 Feb 2025 21:23:14 +0100 (CET) Received: from mails.dpdk.org (localhost [127.0.0.1]) by mails.dpdk.org (Postfix) with ESMTP id 8DF0A409FA; Tue, 11 Feb 2025 21:23:13 +0100 (CET) Received: from mail-qv1-f99.google.com (mail-qv1-f99.google.com [209.85.219.99]) by mails.dpdk.org (Postfix) with ESMTP id AF02D4027C for ; Tue, 11 Feb 2025 21:23:12 +0100 (CET) Received: by mail-qv1-f99.google.com with SMTP id 6a1803df08f44-6e4505134c4so53466206d6.2 for ; Tue, 11 Feb 2025 12:23:12 -0800 (PST) DKIM-Signature: v=1; a=rsa-sha256; c=relaxed/relaxed; d=iol.unh.edu; s=unh-iol; t=1739305392; x=1739910192; darn=dpdk.org; h=cc:to:from:subject:message-id:date:from:to:cc:subject:date :message-id:reply-to; bh=/Js+XtKwkp7j1n4aqVtt+dnkUvIPq857ho5YlwvON/U=; b=AOxL6LdwJRfnXX5l2XsB0CfArXRq87tzrFnzVqzNtuiIRzy5MHi9EP4vs2VNzYaTGw L1P/4mTIl64ucZXEe7xAvxb9SALxbSTyBGi26PV96Q0ZF4SZLcSM0PRYQKLVOGQ8CCHs GlniMDeZSdLRMAz2/L8EJhMY9OMdIbBp8vgYE= X-Google-DKIM-Signature: v=1; a=rsa-sha256; c=relaxed/relaxed; d=1e100.net; s=20230601; t=1739305392; x=1739910192; h=cc:to:from:subject:message-id:date:x-gm-message-state:from:to:cc :subject:date:message-id:reply-to; bh=/Js+XtKwkp7j1n4aqVtt+dnkUvIPq857ho5YlwvON/U=; b=oQsC7SfadgA32+tY3/UQaFpcqTansMYu+gPy9/URcEjA0oPu81x8i+4rLfzhM0+pFY p21gsvRgt1zeg21axueALdvAbDzEGmUeIYYAeha8yCFu3dgLzzD1UFmxgBpixhgB325o Tj4Ow7EPN9hWUPnc+/pFgE4EwVHkdXV3Xqlz9JEW7dwm0GBoaZJFbhKGArEgUxOlo8d0 rn3aNgGbX5O9rFiQEYa/0NcKxz+zInWBTIps2hiXYXdUZVgLc4tC8gZw5tYIUEzb28eg XCB/Td86i7uF/p3sLBDph6BtDQM4y+qvHDNyLjUUzgbIXxT4sc/c4Su4luH1hC4EOKtp QhGw== X-Gm-Message-State: AOJu0YxPZzPH3RZkjO55ANXWiLX2KmQ0+eIFGTeH6o/llpbyuTlTG2gV HfLoYHAnacGUlOSCSKj+KvrsmeL763It8uJHXvkXDgSEyBWiNKT16vycZ8FE44Th5M6w/6ljHTz z7Ddgy48lvWmt7rOlorA7DD0Dor7nUYDN X-Gm-Gg: ASbGncsUQf8aMS1UeMenIj/Mu8Ze86S4675kAiLlPs2l443IbUL6YnCJgED/fcWHHJl 8p6UhqUCp71W2krIyANi8wnIrhG7ct0XzmVxoUWrjX7dRTmIlGO7/2EFLQpO0gXom1QRDEimLzr q+GDKUtZ/app7k+esIVOoCyEEQ06IdPNgEHKzRw2yzxz57Gwyg0lxATJpPogzST7gyvHYH5jTmr LBlx8MNvSOIXSbJqbCa/gPN79eNgdLz8GWrWrHoqfc8lxHLqinkSu4j/3XIz1Tlc6WYVfgFkOiA U5twXM0A+geEdYbskl6uVnURg7hMRQ== X-Google-Smtp-Source: AGHT+IGThLqlTE4BA42J+80Nt7+jh0q9XWWLeqwpqKsA4KZIKfWoKslTpUhsz2yK4ODxgk/R5MY4yrfNRMzr X-Received: by 2002:a05:6214:d6e:b0:6e1:5076:c3ff with SMTP id 6a1803df08f44-6e46edac0a7mr12338916d6.36.1739305392043; Tue, 11 Feb 2025 12:23:12 -0800 (PST) Received: from postal.iol.unh.edu (postal.iol.unh.edu. [132.177.123.84]) by smtp-relay.gmail.com with ESMTPS id 6a1803df08f44-6e46146943esm3156006d6.67.2025.02.11.12.23.11 (version=TLS1_2 cipher=ECDHE-ECDSA-AES128-GCM-SHA256 bits=128/128); Tue, 11 Feb 2025 12:23:12 -0800 (PST) X-Relaying-Domain: iol.unh.edu Date: Tue, 11 Feb 2025 12:23:12 -0800 (PST) Message-ID: <67abb1b0.050a0220.1e2c5c.0c70SMTPIN_ADDED_MISSING@mx.google.com> Received: from [172.21.0.6] (unknown [172.18.0.240]) by postal.iol.unh.edu (Postfix) with ESMTP id ACB4D6052471; Tue, 11 Feb 2025 15:23:11 -0500 (EST) Subject: |SUCCESS| [GIT MASTER] f2eea2f37a82bb73fb01d56350708f7d70e21379 From: dpdklab@iol.unh.edu To: Test Report Cc: dpdk-test-reports@iol.unh.edu, Xueming Li , Christian Ehrhardt , Kevin Traynor , Luca Boccassi Content-Type: text/plain X-BeenThere: test-report@dpdk.org X-Mailman-Version: 2.1.29 Precedence: list List-Id: automatic DPDK test reports List-Unsubscribe: , List-Archive: List-Post: List-Help: List-Subscribe: , Errors-To: test-report-bounces@dpdk.org _Testing PASS_ Branch: tags/v24.11 f2eea2f37a82bb73fb01d56350708f7d70e21379 --> testing pass Upstream job id: ACVP-FIPS-testing#8873 Test environment and result as below: +--------------------+----------------------+----------------------+ | Environment | compressdev_zlib_pmd | dpdk_fips_validation | +====================+======================+======================+ | Ubuntu 22.04 (ARM) | PASS | SKIPPED | +--------------------+----------------------+----------------------+ | Ubuntu 22.04 | PASS | SKIPPED | +--------------------+----------------------+----------------------+ | Ubuntu 20.04 | SKIPPED | PASS | +--------------------+----------------------+----------------------+ Ubuntu 22.04 (ARM) Kernel: 5.15.0-97-generic Compiler: gcc gcc (Ubuntu 11.4.0-1ubuntu1~22.04) 11.4.0 Ubuntu 22.04 Kernel: 5.15.0-100-generic Compiler: gcc gcc (Ubuntu 11.4.0-1ubuntu1~22.04) 11.4.0 Ubuntu 20.04 Kernel: Depends on container host Compiler: gcc (Ubuntu 9.4.0-1ubuntu1~20.04.2) 9.4.0 To view detailed results, visit: https://lab.dpdk.org/results/dashboard/tarballs/32536/ UNH-IOL DPDK Community Lab To manage your email subscriptions, visit: https://lab.dpdk.org/results/dashboard/preferences/subscriptions/