From mboxrd@z Thu Jan 1 00:00:00 1970 Return-Path: Received: from mails.dpdk.org (mails.dpdk.org [217.70.189.124]) by inbox.dpdk.org (Postfix) with ESMTP id 88A134616C for ; Tue, 11 Feb 2025 21:42:00 +0100 (CET) Received: from mails.dpdk.org (localhost [127.0.0.1]) by mails.dpdk.org (Postfix) with ESMTP id 652A4402EF; Tue, 11 Feb 2025 21:42:00 +0100 (CET) Received: from mail-pl1-f227.google.com (mail-pl1-f227.google.com [209.85.214.227]) by mails.dpdk.org (Postfix) with ESMTP id 066934027C for ; Tue, 11 Feb 2025 21:41:59 +0100 (CET) Received: by mail-pl1-f227.google.com with SMTP id d9443c01a7336-21f5660c2fdso86666725ad.2 for ; Tue, 11 Feb 2025 12:41:58 -0800 (PST) DKIM-Signature: v=1; a=rsa-sha256; c=relaxed/relaxed; d=iol.unh.edu; s=unh-iol; t=1739306518; x=1739911318; darn=dpdk.org; h=references:in-reply-to:cc:to:from:subject:message-id:date:from:to :cc:subject:date:message-id:reply-to; bh=hnncKfLlh7CWrvAORvUAQCpmvfHaEcCNodCmBB2HJX8=; b=Fj5GYGOf8XJwg72WepvOAJNQVt32Fq/jPBLnANAbfNg84nefNFnMta0bT/DA7g2c+I I9GgTJS4bKrzukGJ28NsLEAww1Fh5h2bSZJFORs7Fw4PzDaLPH1O6QRmgxKGCPSLnCtA OzPWMXEi2LC5gk8N5nsnkoajjQ5nBOEZIORi0= X-Google-DKIM-Signature: v=1; a=rsa-sha256; c=relaxed/relaxed; d=1e100.net; s=20230601; t=1739306518; x=1739911318; h=references:in-reply-to:cc:to:from:subject:message-id:date :x-gm-message-state:from:to:cc:subject:date:message-id:reply-to; bh=hnncKfLlh7CWrvAORvUAQCpmvfHaEcCNodCmBB2HJX8=; b=jH5y2SX2/vdXOJn1R3prdc4tvNL4cXKe95jY802atWErIPjRZY+G/o0cUR+CebvWj9 ZboYqAfH2IrlSQhjDjQK9lKik+lXimVv4em8dSIl3slwCr8Iqk58xsIxPZoNotEz5Xox agCU28z40zV9gSqpsQq7MkJzgfiEuF34U0xs6S2NsLmVXqx/ciF2mRHRvKlh9iELZXys hRw8p94nbehUVR4p9a3+1+8BRy5H7uABdqbODXgq/HHi79aNgwq6dzQlDKPS4tqbSDJN yGIwyDdn7b1GP/Q5UEJuNN1o3tldXAoZvJXx0EhLfh4H2OocH+5eNyGi0ZaeHEUAeyZ3 puVg== X-Gm-Message-State: AOJu0YwSlgfNJ8OpcHjaeGET8u1JFVUQmDYFlT6T1QolMrslzHqzDarn Msak5Yy7CYM1lV4NGxAvPfOGv0JyEne9hyGS91zh60MtYKcPqB34Eo3nvmMwTjZ0bvZyMnoM0Wf Xm+uwbdiKEj9z3fL1rb0vdlHv4eAKkoXCStHbaS50 X-Gm-Gg: ASbGncsxxgU9fxzXWdJYlI/LhUb3DgXD2daD0XayUjqNe4YTnCGREseW4Vy35NE9pHl xbC6LRsoVNTMbZUB4cFKjmz4RjjTE7KW6VI3Vb2WmNcoDk6XBXCr+w4rOZPPLjvSApA1MmyXFD8 0TbmHG7q/rtgfK0yBcR1AfUvtFbdnwwEhobkkjwZyMuf+2IHhQIRPUwLWHEmXfS5diuNhFJ+qK+ KCAzusH1hEzH6VFRpXSz8WY8HDU7cMg4W5Lkwc7UjsYHxo5Vag5KLt92H0vBhKZLy8BQqO1DERU s4wJQ79mLs2B0r/YOQpyBu562220SQ== X-Google-Smtp-Source: AGHT+IHf6rGQQfTcdW4PRGKUOtNY/1jbdg1RfEVynocl3GMJ4RGS64Kv5dxaVJnhaA2DvHAgniKMeK6D/6fU X-Received: by 2002:a05:6a21:6012:b0:1ee:3b53:b77f with SMTP id adf61e73a8af0-1ee5c822909mr1271556637.37.1739306518158; Tue, 11 Feb 2025 12:41:58 -0800 (PST) Received: from postal.iol.unh.edu (postal.iol.unh.edu. [132.177.123.84]) by smtp-relay.gmail.com with ESMTPS id d2e1a72fcca58-730975207c4sm238367b3a.22.2025.02.11.12.41.58 (version=TLS1_2 cipher=ECDHE-ECDSA-AES128-GCM-SHA256 bits=128/128); Tue, 11 Feb 2025 12:41:58 -0800 (PST) X-Relaying-Domain: iol.unh.edu Date: Tue, 11 Feb 2025 12:41:58 -0800 (PST) Message-ID: <67abb616.050a0220.3b5c5d.d44aSMTPIN_ADDED_MISSING@mx.google.com> Received: from [172.21.0.7] (unknown [172.18.0.240]) by postal.iol.unh.edu (Postfix) with ESMTP id 4BC936052471; Tue, 11 Feb 2025 15:41:57 -0500 (EST) Subject: |SUCCESS| pw151354 [PATCH] [RFC] app/test-pmd: add option to run sta From: dpdklab@iol.unh.edu To: Test Report Cc: dpdk-test-reports@iol.unh.edu In-Reply-To: <20250211164402.99941-1-bruce.richardson@intel.com> References: <20250211164402.99941-1-bruce.richardson@intel.com> Content-Type: text/plain X-BeenThere: test-report@dpdk.org X-Mailman-Version: 2.1.29 Precedence: list List-Id: automatic DPDK test reports List-Unsubscribe: , List-Archive: List-Post: List-Help: List-Subscribe: , Errors-To: test-report-bounces@dpdk.org Test-Label: iol-compile-arm64-testing Test-Status: SUCCESS http://dpdk.org/patch/151354 _Testing PASS_ Submitter: Bruce Richardson Date: Tuesday, February 11 2025 16:44:02 DPDK git baseline: Repo:dpdk Branch: master CommitID:88e17c88943145bb956b5bf6059a8043dbd33a99 151354 --> testing pass Upstream job id: Generic-DPDK-Compile-Meson#360708 Test environment and result as below: +----------------------------------------+--------------------+ | Environment | dpdk_meson_compile | +========================================+====================+ | RHEL9 (ARM) | PASS | +----------------------------------------+--------------------+ | Ubuntu 20.04 ARM SVE | PASS | +----------------------------------------+--------------------+ | Debian 12 with MUSDK | PASS | +----------------------------------------+--------------------+ | Ubuntu 20.04 ARM GCC Cross Compile | PASS | +----------------------------------------+--------------------+ | Fedora 40 (ARM Clang) | PASS | +----------------------------------------+--------------------+ | Fedora 40 (ARM) | PASS | +----------------------------------------+--------------------+ | Fedora 41 (ARM) | PASS | +----------------------------------------+--------------------+ | Ubuntu 22.04 (ARM) | PASS | +----------------------------------------+--------------------+ | Fedora 41 (ARM Clang) | PASS | +----------------------------------------+--------------------+ | Ubuntu 20.04 (ARM) | PASS | +----------------------------------------+--------------------+ | Ubuntu 24.04 (ARM) | PASS | +----------------------------------------+--------------------+ | CentOS Stream 9 (ARM) | PASS | +----------------------------------------+--------------------+ | Ubuntu 20.04 ARM Clang Cross Compile | PASS | +----------------------------------------+--------------------+ | CentOS Stream 10 (ARM) | PASS | +----------------------------------------+--------------------+ | Debian 12 (arm) | PASS | +----------------------------------------+--------------------+ | Debian 11 (Buster) (ARM) | PASS | +----------------------------------------+--------------------+ | Ubuntu 20.04 aarch32 GCC Cross Compile | PASS | +----------------------------------------+--------------------+ RHEL9 (ARM) Kernel: Depends on container host Compiler: gcc 11.5.0 20240719 (Red Hat 11.5.0-2) Ubuntu 20.04 ARM SVE Kernel: Depends on container host Compiler: gcc (Ubuntu 10.5.0-1ubuntu1~20.04) 10.5.0 Debian 12 with MUSDK Kernel: Depends on container host Compiler: gcc (Debian 12.2.0-14) 12.2.0 Ubuntu 20.04 ARM GCC Cross Compile Kernel: Depends on container host Compiler: aarch64-linux-gnu-gcc (Ubuntu 9.4.0-1ubuntu1~20.04.2) 9.4.0 Fedora 40 (ARM Clang) Kernel: Depends on container host Compiler: clang 18.1.8 (Fedora 18.1.8-1.fc40) Fedora 40 (ARM) Kernel: Depends on container host Compiler: gcc 14.2.1 20240912 (Red Hat 14.2.1-3) Fedora 41 (ARM) Kernel: Depends on container host Compiler: gcc 14.2.1 20240912 (Red Hat 14.2.1-3) Ubuntu 22.04 (ARM) Kernel: Depends on container host Compiler: gcc (Ubuntu 11.4.0-1ubuntu1~22.04) 11.4.0 Fedora 41 (ARM Clang) Kernel: Depends on container host Compiler: clang 19.1.5 (Fedora 19.1.5-1.fc41) Ubuntu 20.04 (ARM) Kernel: Depends on container host Compiler: gcc (Ubuntu 9.4.0-1ubuntu1~20.04.2) 9.4.0 Ubuntu 24.04 (ARM) Kernel: Depends on container host Compiler: gcc (Ubuntu 13.3.0-6ubuntu2~24.04) 13.3.0 CentOS Stream 9 (ARM) Kernel: Depends on container host Compiler: gcc 11.5.0 20240719 (Red Hat 11.5.0-2) Ubuntu 20.04 ARM Clang Cross Compile Kernel: Depends on container host Compiler: clang 10.0.0-4ubuntu1 CentOS Stream 10 (ARM) Kernel: Depends on container host Compiler: gcc 14.2.1 20241104 (Red Hat 14.2.1-6) Debian 12 (arm) Kernel: Depends on container host Compiler: gcc (Debian 12.2.0-14) 12.2.0 Debian 11 (Buster) (ARM) Kernel: Depends on container host Compiler: gcc (Debian 10.2.1-6) 10.2.1 20210110 Ubuntu 20.04 aarch32 GCC Cross Compile Kernel: Depends on container host Compiler: gcc 9.4.0 To view detailed results, visit: https://lab.dpdk.org/results/dashboard/patchsets/32560/ UNH-IOL DPDK Community Lab To manage your email subscriptions, visit: https://lab.dpdk.org/results/dashboard/preferences/subscriptions/