From mboxrd@z Thu Jan  1 00:00:00 1970
Return-Path: <test-report-bounces@dpdk.org>
Received: from mails.dpdk.org (mails.dpdk.org [217.70.189.124])
	by inbox.dpdk.org (Postfix) with ESMTP id 4F8524616C
	for <public@inbox.dpdk.org>; Tue, 11 Feb 2025 21:59:45 +0100 (CET)
Received: from mails.dpdk.org (localhost [127.0.0.1])
	by mails.dpdk.org (Postfix) with ESMTP id 3156C402EF;
	Tue, 11 Feb 2025 21:59:45 +0100 (CET)
Received: from mail-pl1-f227.google.com (mail-pl1-f227.google.com
 [209.85.214.227])
 by mails.dpdk.org (Postfix) with ESMTP id 714834027C
 for <test-report@dpdk.org>; Tue, 11 Feb 2025 21:59:43 +0100 (CET)
Received: by mail-pl1-f227.google.com with SMTP id
 d9443c01a7336-21f2339dcfdso2620845ad.1
 for <test-report@dpdk.org>; Tue, 11 Feb 2025 12:59:43 -0800 (PST)
DKIM-Signature: v=1; a=rsa-sha256; c=relaxed/relaxed;
 d=iol.unh.edu; s=unh-iol; t=1739307582; x=1739912382; darn=dpdk.org;
 h=references:in-reply-to:cc:to:from:subject:message-id:date:from:to
 :cc:subject:date:message-id:reply-to;
 bh=ZpkHdncJtu4pIPW3LJurNN8WDBJ9O3Wxt0V/1IMdywM=;
 b=jDD145b9SfgzmAk4qjbt4OAwggxq+UEsqNeOHc7i+i7AvfBp1B6Gin6LFnbThuMis9
 X6OvQgO9fsi6agVVjA+q0pUYDCPyj8A4eA8L4XbtpdLUMqpvjWexlC4ef3UhjAioMZpi
 jFmDYYMQy1BFrpSYSckii6Lxu81CpkeSMyYIk=
X-Google-DKIM-Signature: v=1; a=rsa-sha256; c=relaxed/relaxed;
 d=1e100.net; s=20230601; t=1739307582; x=1739912382;
 h=references:in-reply-to:cc:to:from:subject:message-id:date
 :x-gm-message-state:from:to:cc:subject:date:message-id:reply-to;
 bh=ZpkHdncJtu4pIPW3LJurNN8WDBJ9O3Wxt0V/1IMdywM=;
 b=o81RI0pJ37ebXp6NLLg2adc1uP3hIg9tF6v1GrIOFCOCgUkvUWGQoGTk3BzWw4849H
 FqeRPRiTF/J4eUOT+95wiyr8q5+wtGPD92V7s+6OJ7kRDtniAVLZKCglGTT3ZRQ6cBtK
 4H1zGM5OacReKrKJgmyhGp8UKccC1Ai8+yukxFkV2IQxZfbcW8SeCJTJ6xv8uq7CC7EQ
 Rh5GNwc7g53J2WSBub8Xtl9ASBChlZzxpU+x22OtdpOTKeDmNkfI9EzpLTx397lESpkI
 uMaw8d1dGvLsESLsdGnOkbnAOQe89guCe8VzdRIe94JAdAGSgFLDw4YnPiS8k7fuqhHS
 Wncg==
X-Gm-Message-State: AOJu0YyiL7k/RpzLFhfR2EbLjTKohmIhyqVZXpjLTyO6NT/nDEOF104F
 N1VCJIDSntsaMfsKlxDTTaf8rCm8u1rMcVmqQDa/d+nqseiAf5AM/bcd/kCp/gsuFz1RNi4JNVU
 oktRIMJz1Ac3byx2/mh/5AGqj4w8V2Zsjwo7CyESW
X-Gm-Gg: ASbGncve8nOnjnHKSVBz4vrpMwfyzFsbB/HWbq0rvVgn/2IVM2lXdFYBKltYZMDi2zB
 d+XUHUNxmOREzsQAg5r3lJOTzdMUYY840gUtLHCWpOh5W1xLUeM0ws3nnRL6Y8zKq+ETUdV3ooC
 A3dm7pFd6dDohUOGKGAOnXS/Gw7/5CXTTkbgPiX2ifpwt+8go90vjnNUuDho58+TKxyiACyZ/EK
 adUpLj64Imx9yCcbQ6PXAEPE82n+FwsqhWscljwWH3XYi+fKYiRoMu1ftgv69SoYlzVfOgn0dXZ
 mF7Ktl9SW4qLQfuA3o50pAy7pw6zqA==
X-Google-Smtp-Source: AGHT+IFse8K88jOBcoxA5TJ7VwoQWZxAISXh4wyk7JfsddeW2kQaisRKTFYFKG+/IdhEtl1/7SCcWKTT1D35
X-Received: by 2002:a17:902:d2cc:b0:21f:6167:183a with SMTP id
 d9443c01a7336-21fb6f1219cmr79099165ad.15.1739307582557; 
 Tue, 11 Feb 2025 12:59:42 -0800 (PST)
Received: from postal.iol.unh.edu (postal.iol.unh.edu. [132.177.123.84])
 by smtp-relay.gmail.com with ESMTPS id
 d9443c01a7336-21f3c2d00a1sm7073035ad.90.2025.02.11.12.59.42
 (version=TLS1_2 cipher=ECDHE-ECDSA-AES128-GCM-SHA256 bits=128/128);
 Tue, 11 Feb 2025 12:59:42 -0800 (PST)
X-Relaying-Domain: iol.unh.edu
Date: Tue, 11 Feb 2025 12:59:42 -0800 (PST)
Message-ID: <67abba3e.170a0220.254a26.4cd9SMTPIN_ADDED_MISSING@mx.google.com>
Received: from [172.21.0.8] (unknown [172.18.0.240])
 by postal.iol.unh.edu (Postfix) with ESMTP id 9CFE76052471;
 Tue, 11 Feb 2025 15:59:41 -0500 (EST)
Subject: |SUCCESS| pw151356-151366 [PATCH] [v5,11/11] devtools/cocci: add scr
From: dpdklab@iol.unh.edu
To: Test Report <test-report@dpdk.org>
Cc: dpdk-test-reports@iol.unh.edu
In-Reply-To: <20250211173720.1188517-12-stephen@networkplumber.org>
References: <20250211173720.1188517-12-stephen@networkplumber.org>
Content-Type: text/plain
X-BeenThere: test-report@dpdk.org
X-Mailman-Version: 2.1.29
Precedence: list
List-Id: automatic DPDK test reports <test-report.dpdk.org>
List-Unsubscribe: <https://mails.dpdk.org/options/test-report>,
 <mailto:test-report-request@dpdk.org?subject=unsubscribe>
List-Archive: <http://mails.dpdk.org/archives/test-report/>
List-Post: <mailto:test-report@dpdk.org>
List-Help: <mailto:test-report-request@dpdk.org?subject=help>
List-Subscribe: <https://mails.dpdk.org/listinfo/test-report>,
 <mailto:test-report-request@dpdk.org?subject=subscribe>
Errors-To: test-report-bounces@dpdk.org

Test-Label: iol-abi-testing
Test-Status: SUCCESS
http://dpdk.org/patch/151366

_Testing PASS_

Submitter: Stephen Hemminger <stephen@networkplumber.org>
Date: Tuesday, February 11 2025 17:35:31 
DPDK git baseline: Repo:dpdk
  Branch: master
  CommitID:05db99c117e36c0cd28cda8f558309efd20055da

151356-151366 --> testing pass

Upstream job id: Generic-DPDK-Compile-ABI#115841

Test environment and result as below:

+-------------------+----------+
|    Environment    | abi_test |
+===================+==========+
| Debian Bullseye   | PASS     |
+-------------------+----------+
| CentOS Stream 10  | PASS     |
+-------------------+----------+
| Fedora 41         | PASS     |
+-------------------+----------+
| CentOS Stream 9   | PASS     |
+-------------------+----------+
| Fedora 40 (Clang) | PASS     |
+-------------------+----------+
| Fedora 40         | PASS     |
+-------------------+----------+
| Ubuntu 22.04      | PASS     |
+-------------------+----------+
| Debian 12         | PASS     |
+-------------------+----------+
| RHEL9             | PASS     |
+-------------------+----------+
| openSUSE Leap 15  | PASS     |
+-------------------+----------+
| RHEL8             | PASS     |
+-------------------+----------+
| Fedora 41 (Clang) | PASS     |
+-------------------+----------+
| Ubuntu 24.04      | PASS     |
+-------------------+----------+


Debian Bullseye
	Kernel: Depends on container host
	Compiler: gcc (Debian 10.2.1-6) 10.2.1 20210110

CentOS Stream 10
	Kernel: Depends on container host
	Compiler: gcc 14.2.1 20241104 (Red Hat 14.2.1-6)

Fedora 41
	Kernel: Depends on container host
	Compiler: gcc 14.2.1 20240912 (Red Hat 14.2.1-3)

CentOS Stream 9
	Kernel: Depends on container host
	Compiler: gcc 11.5.0 20240719 (Red Hat 11.5.0-2)

Fedora 40 (Clang)
	Kernel: Depends on container host
	Compiler: clang 18.1.8 (Fedora 18.1.8-1.fc40)

Fedora 40
	Kernel: Depends on container host
	Compiler: gcc 14.2.1 20240912 (Red Hat 14.2.1-3)

Ubuntu 22.04
	Kernel: Depends on container host
	Compiler: gcc (Ubuntu 11.4.0-1ubuntu1~22.04) 11.4.0

Debian 12
	Kernel: Depends on container host
	Compiler: gcc (Debian 12.2.0-14) 12.2.0

RHEL9
	Kernel: Depends on container host
	Compiler: gcc 11.5.0 20240719 (Red Hat 11.5.0-2)

openSUSE Leap 15
	Kernel: Depends on container host
	Compiler: gcc (SUSE Linux) 7.5.0

RHEL8
	Kernel: Depends on container host
	Compiler: gcc 8.5.0 20210514 (Red Hat 8.5.0-22)

Fedora 41 (Clang)
	Kernel: Depends on container host
	Compiler: clang 19.1.5 (Fedora 19.1.5-1.fc41)

Ubuntu 24.04
	Kernel: Depends on container host
	Compiler: gcc (Ubuntu 13.3.0-6ubuntu2~24.04) 13.3.0

To view detailed results, visit:
https://lab.dpdk.org/results/dashboard/patchsets/32562/

UNH-IOL DPDK Community Lab

To manage your email subscriptions, visit: 
https://lab.dpdk.org/results/dashboard/preferences/subscriptions/