From mboxrd@z Thu Jan 1 00:00:00 1970 Return-Path: Received: from mails.dpdk.org (mails.dpdk.org [217.70.189.124]) by inbox.dpdk.org (Postfix) with ESMTP id 9C1AB4619C for ; Tue, 11 Feb 2025 23:32:10 +0100 (CET) Received: from mails.dpdk.org (localhost [127.0.0.1]) by mails.dpdk.org (Postfix) with ESMTP id 9606340DCB; Tue, 11 Feb 2025 23:32:10 +0100 (CET) Received: from mail-io1-f100.google.com (mail-io1-f100.google.com [209.85.166.100]) by mails.dpdk.org (Postfix) with ESMTP id 0AE094027C for ; Tue, 11 Feb 2025 23:32:10 +0100 (CET) Received: by mail-io1-f100.google.com with SMTP id ca18e2360f4ac-855183fdcafso7270739f.1 for ; Tue, 11 Feb 2025 14:32:09 -0800 (PST) DKIM-Signature: v=1; a=rsa-sha256; c=relaxed/relaxed; d=iol.unh.edu; s=unh-iol; t=1739313129; x=1739917929; darn=dpdk.org; h=references:in-reply-to:cc:to:from:subject:message-id:date:from:to :cc:subject:date:message-id:reply-to; bh=E8RG/rsFvqyH744QgQI2sTuHfUb7dwWxbCQZSbRobZY=; b=TF9KVgnYicdKStB0TgqSQbH7UVUQMLw3Zfhs88XZGomr62vSVHQST4ZEvqWy1sWmN/ c2kbOd9pDU4waQy2+aSkBhyhjDKPKJzAtLzvwITMk69MbR73lmnSivOQjiAhOk2j1DBf yl3YredziAeU0/zpJm95NLM4XmLLuHTaUz2VA= X-Google-DKIM-Signature: v=1; a=rsa-sha256; c=relaxed/relaxed; d=1e100.net; s=20230601; t=1739313129; x=1739917929; h=references:in-reply-to:cc:to:from:subject:message-id:date :x-gm-message-state:from:to:cc:subject:date:message-id:reply-to; bh=E8RG/rsFvqyH744QgQI2sTuHfUb7dwWxbCQZSbRobZY=; b=bvoA5C76MTeQinf5SUvKrtLm/IDrNuJiQaj8qHhDgBjHMm+vPkASj9k8J54qTZ9B66 cq0pIjmFhRMUoxc+l6LC0SyCQwHcDvlmVntmhd6HMTQOo1qHg3BO/E+HtsdwpYPp6JAU ETdEP91pTr3dE+sP28bJWdjmNMp04Hs2/7rWHwAuTviVTZawLTOeQzecG8328bV5UgVZ 3wWFmlngB7oM/aJhJKHuoXvNT/fPwxCXZ8/4b+4ubKjwSs3KaRUESuTqI++jn+5/0iwc BtTj3xl9L4HydaEhbZCs3Hfq/Z4M7o6Ze5uws/1wjQ5U3nmOq1fRIviO5cuP9En5Fvar uLiA== X-Gm-Message-State: AOJu0YxMqE/12RfXUYXM47jW8ordLHsRH71euJivQpHOg+1Y4JTC5h+m +C6Z9y0TEugJjO1B6AIkhDm3Dg27XF0uX3xfDgtfjB+cAYpjA69NhIxVdcUNu4ZbQj7tx++KvZy w11tHnJQfqSdkOW9kjkzyAlHSnGXGAIq9rVxaSlh0GxgRv3XGGme5cZxk X-Gm-Gg: ASbGncsw63ye0h20t18KpjRtDVs3rOJ5OkDf+Y6H4SzoyWo9WYImIWCTKnjinnCCy85 ybtbIswGfXHZGYDvZe/JXeS5Hdywr/KWI6EavNsoZSM19KGt/duF3RP2B/6ly3faVS80fJfB4G8 aoDGFHf5WsJB+Cij3dcaTCaEEaovH4m8Z0oan3akgjl43q54Ol0Vw/MN7sypWI/neou7m1cBY0W l2IODLJZUlMM0TAtu/mApx76hmRgObFXnMLjxhM1XAQcDkDcQZpITYdX9ZRLsvlDt37malEUSsu LbBIxzvvtneaJzxsxcmZrfkRQTKhoxbz3tMyJdkEGQ== X-Google-Smtp-Source: AGHT+IH/VVbeo6Y1z5PkgC7AHCuNcliPial/1OY8tb4mzsLPMSVpnAzNCGLcXvFk+3V9GRVfORjECuFteQC8 X-Received: by 2002:a5e:de49:0:b0:841:ab27:acac with SMTP id ca18e2360f4ac-855448435ccmr421855039f.2.1739313129310; Tue, 11 Feb 2025 14:32:09 -0800 (PST) Received: from postal.iol.unh.edu (postal.iol.unh.edu. [2606:4100:3880:1234::84]) by smtp-relay.gmail.com with ESMTPS id 8926c6da1cb9f-4ece5594679sm487906173.6.2025.02.11.14.32.09 (version=TLS1_2 cipher=ECDHE-ECDSA-AES128-GCM-SHA256 bits=128/128); Tue, 11 Feb 2025 14:32:09 -0800 (PST) X-Relaying-Domain: iol.unh.edu Date: Tue, 11 Feb 2025 14:32:09 -0800 (PST) Message-ID: <67abcfe9.050a0220.838b8.9d4bSMTPIN_ADDED_MISSING@mx.google.com> Received: from [172.21.0.5] (unknown [172.18.0.240]) by postal.iol.unh.edu (Postfix) with ESMTP id CCD3C6052471; Tue, 11 Feb 2025 17:32:08 -0500 (EST) Subject: |SUCCESS| pw151355 [PATCH] [v0,1/1] dma/cnxk: support pending count From: dpdklab@iol.unh.edu To: Test Report Cc: dpdk-test-reports@iol.unh.edu In-Reply-To: <20250211170532.1650221-1-vattunuru@marvell.com> References: <20250211170532.1650221-1-vattunuru@marvell.com> Content-Type: text/plain X-BeenThere: test-report@dpdk.org X-Mailman-Version: 2.1.29 Precedence: list List-Id: automatic DPDK test reports List-Unsubscribe: , List-Archive: List-Post: List-Help: List-Subscribe: , Errors-To: test-report-bounces@dpdk.org Test-Label: iol-abi-testing Test-Status: SUCCESS http://dpdk.org/patch/151355 _Testing PASS_ Submitter: Vamsi Krishna Date: Tuesday, February 11 2025 17:05:32 DPDK git baseline: Repo:dpdk Branch: master CommitID:762e04c739fa4e7340c0639d3d29fd6230924c96 151355 --> testing pass Upstream job id: Generic-DPDK-Compile-ABI#115855 Test environment and result as below: +-------------------+----------+ | Environment | abi_test | +===================+==========+ | CentOS Stream 9 | PASS | +-------------------+----------+ | CentOS Stream 10 | PASS | +-------------------+----------+ | Debian Bullseye | PASS | +-------------------+----------+ | Fedora 40 (Clang) | PASS | +-------------------+----------+ | Debian 12 | PASS | +-------------------+----------+ | Fedora 40 | PASS | +-------------------+----------+ | Fedora 41 (Clang) | PASS | +-------------------+----------+ | Fedora 41 | PASS | +-------------------+----------+ | Ubuntu 22.04 | PASS | +-------------------+----------+ | openSUSE Leap 15 | PASS | +-------------------+----------+ | RHEL9 | PASS | +-------------------+----------+ | RHEL8 | PASS | +-------------------+----------+ | Ubuntu 24.04 | PASS | +-------------------+----------+ CentOS Stream 9 Kernel: Depends on container host Compiler: gcc 11.5.0 20240719 (Red Hat 11.5.0-2) CentOS Stream 10 Kernel: Depends on container host Compiler: gcc 14.2.1 20241104 (Red Hat 14.2.1-6) Debian Bullseye Kernel: Depends on container host Compiler: gcc (Debian 10.2.1-6) 10.2.1 20210110 Fedora 40 (Clang) Kernel: Depends on container host Compiler: clang 18.1.8 (Fedora 18.1.8-1.fc40) Debian 12 Kernel: Depends on container host Compiler: gcc (Debian 12.2.0-14) 12.2.0 Fedora 40 Kernel: Depends on container host Compiler: gcc 14.2.1 20240912 (Red Hat 14.2.1-3) Fedora 41 (Clang) Kernel: Depends on container host Compiler: clang 19.1.5 (Fedora 19.1.5-1.fc41) Fedora 41 Kernel: Depends on container host Compiler: gcc 14.2.1 20240912 (Red Hat 14.2.1-3) Ubuntu 22.04 Kernel: Depends on container host Compiler: gcc (Ubuntu 11.4.0-1ubuntu1~22.04) 11.4.0 openSUSE Leap 15 Kernel: Depends on container host Compiler: gcc (SUSE Linux) 7.5.0 RHEL9 Kernel: Depends on container host Compiler: gcc 11.5.0 20240719 (Red Hat 11.5.0-2) RHEL8 Kernel: Depends on container host Compiler: gcc 8.5.0 20210514 (Red Hat 8.5.0-22) Ubuntu 24.04 Kernel: Depends on container host Compiler: gcc (Ubuntu 13.3.0-6ubuntu2~24.04) 13.3.0 To view detailed results, visit: https://lab.dpdk.org/results/dashboard/patchsets/32561/ UNH-IOL DPDK Community Lab To manage your email subscriptions, visit: https://lab.dpdk.org/results/dashboard/preferences/subscriptions/