From mboxrd@z Thu Jan 1 00:00:00 1970 Return-Path: Received: from mails.dpdk.org (mails.dpdk.org [217.70.189.124]) by inbox.dpdk.org (Postfix) with ESMTP id 878974619C for ; Tue, 11 Feb 2025 23:40:23 +0100 (CET) Received: from mails.dpdk.org (localhost [127.0.0.1]) by mails.dpdk.org (Postfix) with ESMTP id 67E4740B98; Tue, 11 Feb 2025 23:40:23 +0100 (CET) Received: from mail-pl1-f226.google.com (mail-pl1-f226.google.com [209.85.214.226]) by mails.dpdk.org (Postfix) with ESMTP id 198F04027C for ; Tue, 11 Feb 2025 23:40:22 +0100 (CET) Received: by mail-pl1-f226.google.com with SMTP id d9443c01a7336-21f53ad05a0so78318985ad.3 for ; Tue, 11 Feb 2025 14:40:21 -0800 (PST) DKIM-Signature: v=1; a=rsa-sha256; c=relaxed/relaxed; d=iol.unh.edu; s=unh-iol; t=1739313621; x=1739918421; darn=dpdk.org; h=references:in-reply-to:cc:to:from:subject:message-id:date:from:to :cc:subject:date:message-id:reply-to; bh=dsfo0mMavhRdy09A2gEo+QBbnko0vE2Pgj06VND52Z8=; b=HpmeAcy7GHRWh9SxKFOMiP9plDzaKpaPryg3IkOcD1+wCLeHWqEetFD8iO1UJ2aJhQ Axd+ZM9XuY/TUT6mXC/a2eOpUABn5xIxLwJuxnwG4gnvAJ44NLRszbEEH5CeFa1YD9G9 mPFWhcwhLybSFp02iepgZQh1Dnvxt1SQn+GUQ= X-Google-DKIM-Signature: v=1; a=rsa-sha256; c=relaxed/relaxed; d=1e100.net; s=20230601; t=1739313621; x=1739918421; h=references:in-reply-to:cc:to:from:subject:message-id:date :x-gm-message-state:from:to:cc:subject:date:message-id:reply-to; bh=dsfo0mMavhRdy09A2gEo+QBbnko0vE2Pgj06VND52Z8=; b=YZFdQc0dDno+gqFceTbxSTlUFWlCK65RywFyNxvf1Pc8yy/DCMVYULWxk6OTy0IjpD ZrfoeV3F31dkK72qKxrGqcPBZdkfxIavzlmfNlKUGK5HFn5RdLe+8UlelR4LqulNnoFy FMaxRebPf9qPGOctq1J50zWOqnpBEYZxVEpoZPwreCWKOCs/SrY0NptfT1DVBf9l2n8v GHnhf8oznSqayb7Uy3nP3TR1SqEtb6ZaH7jarzQ/p5nGvTGSwR6PAjG76/md8TzgDRuz OfWttcNtunNtpPFNRd43Zy36XP4LPaDYgyntjP/k7WC6oZ5CXZuUsr2lowd9JWlbKNvB HeKA== X-Gm-Message-State: AOJu0Yy5vV+tZlFM3KJyMmUEizt0gfUpiVN3xGUygd6UMD8Y++G6Dzyy Mt/JkoobXR8pKhWjrFvTnioHnR2mJXOqhEbKCj9fAqe78VzlOEW0W2tSMAFNaJEmYsZkNPOIfT2 qSUhI3JtlVgNz6WG/rB/ofVGPmiXu08MVz5zat7OQ5CBtrQDIjhjcaFw8 X-Gm-Gg: ASbGncuSiQMn7PmHG9x5idhtzwHTFJ5+WIBtcp9DdKhHv6R8aOqI/gZ/rrR18acop+C NShZPmXWyxX72meEDAl+koZycuOlkrD6lhLgZf8fYH2uzGso1U3eRqtzR6dl1iK1116sR7Gx2vx q0+g31vQzcPYAJAtJ/t4gIAsWTVk2/MEwaUSEsldF15p0mamnNmMu0WCCNQH12oSZJSd3OL3FN8 yRe/j5tfNIU8IgXG/hlVS7k44gphHFqQJ3ATi3WAJl5A1g3b7Bka/PyzmRDIL4mlMlWNM7dnNrc MPVpnWnnn8UoLzb9Gbs2nM0HC8d8R7E3QvJwwZv0ug== X-Google-Smtp-Source: AGHT+IGwah1vvxkbU2DWQhQuf0OPxli2uPHzYsRF8jbYgkIEsUKasBXCcZaTyKXISi7HXHlsS4UcNhPTAEJ6 X-Received: by 2002:a17:903:2f86:b0:219:e4b0:4286 with SMTP id d9443c01a7336-220bdf5f128mr6002175ad.29.1739313621166; Tue, 11 Feb 2025 14:40:21 -0800 (PST) Received: from postal.iol.unh.edu (postal.iol.unh.edu. [2606:4100:3880:1234::84]) by smtp-relay.gmail.com with ESMTPS id d9443c01a7336-21f3650c4e5sm7406215ad.2.2025.02.11.14.40.21 (version=TLS1_2 cipher=ECDHE-ECDSA-AES128-GCM-SHA256 bits=128/128); Tue, 11 Feb 2025 14:40:21 -0800 (PST) X-Relaying-Domain: iol.unh.edu Date: Tue, 11 Feb 2025 14:40:21 -0800 (PST) Message-ID: <67abd1d5.170a0220.954f0.79e7SMTPIN_ADDED_MISSING@mx.google.com> Received: from [172.21.0.5] (unknown [172.18.0.240]) by postal.iol.unh.edu (Postfix) with ESMTP id 4AC8A6052471; Tue, 11 Feb 2025 17:40:20 -0500 (EST) Subject: |SUCCESS| pw151355 [PATCH] [v0,1/1] dma/cnxk: support pending count From: dpdklab@iol.unh.edu To: Test Report Cc: dpdk-test-reports@iol.unh.edu In-Reply-To: <20250211170532.1650221-1-vattunuru@marvell.com> References: <20250211170532.1650221-1-vattunuru@marvell.com> Content-Type: text/plain X-BeenThere: test-report@dpdk.org X-Mailman-Version: 2.1.29 Precedence: list List-Id: automatic DPDK test reports List-Unsubscribe: , List-Archive: List-Post: List-Help: List-Subscribe: , Errors-To: test-report-bounces@dpdk.org Test-Label: iol-unit-amd64-testing Test-Status: SUCCESS http://dpdk.org/patch/151355 _Testing PASS_ Submitter: Vamsi Krishna Date: Tuesday, February 11 2025 17:05:32 DPDK git baseline: Repo:dpdk Branch: master CommitID:762e04c739fa4e7340c0639d3d29fd6230924c96 151355 --> testing pass Upstream job id: Generic-Unit-Test-DPDK#314193 Test environment and result as below: +---------------------+----------------+ | Environment | dpdk_unit_test | +=====================+================+ | Fedora 40 (Clang) | PASS | +---------------------+----------------+ | CentOS Stream 9 | PASS | +---------------------+----------------+ | CentOS Stream 10 | PASS | +---------------------+----------------+ | Debian Bullseye | PASS | +---------------------+----------------+ | Debian 12 | PASS | +---------------------+----------------+ | Fedora 40 | PASS | +---------------------+----------------+ | Fedora 41 | PASS | +---------------------+----------------+ | RHEL8 | PASS | +---------------------+----------------+ | Fedora 41 (Clang) | PASS | +---------------------+----------------+ | RHEL9 | PASS | +---------------------+----------------+ | Ubuntu 20.04 | PASS | +---------------------+----------------+ | Ubuntu 24.04 | PASS | +---------------------+----------------+ | Ubuntu 22.04 | PASS | +---------------------+----------------+ | Windows Server 2022 | PASS | +---------------------+----------------+ Fedora 40 (Clang) Kernel: Depends on container host Compiler: clang 18.1.8 (Fedora 18.1.8-1.fc40) CentOS Stream 9 Kernel: Depends on container host Compiler: gcc 11.5.0 20240719 (Red Hat 11.5.0-2) CentOS Stream 10 Kernel: Depends on container host Compiler: gcc 14.2.1 20241104 (Red Hat 14.2.1-6) Debian Bullseye Kernel: Depends on container host Compiler: gcc (Debian 10.2.1-6) 10.2.1 20210110 Debian 12 Kernel: Depends on container host Compiler: gcc (Debian 12.2.0-14) 12.2.0 Fedora 40 Kernel: Depends on container host Compiler: gcc 14.2.1 20240912 (Red Hat 14.2.1-3) Fedora 41 Kernel: Depends on container host Compiler: gcc 14.2.1 20240912 (Red Hat 14.2.1-3) RHEL8 Kernel: Depends on container host Compiler: gcc 8.5.0 20210514 (Red Hat 8.5.0-22) Fedora 41 (Clang) Kernel: Depends on container host Compiler: clang 19.1.5 (Fedora 19.1.5-1.fc41) RHEL9 Kernel: Depends on container host Compiler: gcc 11.5.0 20240719 (Red Hat 11.5.0-2) Ubuntu 20.04 Kernel: Depends on container host Compiler: gcc (Ubuntu 9.4.0-1ubuntu1~20.04.2) 9.4.0 Ubuntu 24.04 Kernel: Depends on container host Compiler: gcc (Ubuntu 13.3.0-6ubuntu2~24.04) 13.3.0 Ubuntu 22.04 Kernel: Depends on container host Compiler: gcc (Ubuntu 11.4.0-1ubuntu1~22.04) 11.4.0 Windows Server 2022 Kernel: 10.0.20348.2031 Compiler: clang 15.0.7, gcc 14.1.0 (MinGW), and MSVC VS 19.39.33521 To view detailed results, visit: https://lab.dpdk.org/results/dashboard/patchsets/32561/ UNH-IOL DPDK Community Lab To manage your email subscriptions, visit: https://lab.dpdk.org/results/dashboard/preferences/subscriptions/