From mboxrd@z Thu Jan 1 00:00:00 1970 Return-Path: Received: from mails.dpdk.org (mails.dpdk.org [217.70.189.124]) by inbox.dpdk.org (Postfix) with ESMTP id 23361461AD for ; Wed, 12 Feb 2025 00:38:00 +0100 (CET) Received: from mails.dpdk.org (localhost [127.0.0.1]) by mails.dpdk.org (Postfix) with ESMTP id DBFF7402BB; Wed, 12 Feb 2025 00:37:59 +0100 (CET) Received: from mail-qv1-f98.google.com (mail-qv1-f98.google.com [209.85.219.98]) by mails.dpdk.org (Postfix) with ESMTP id 1A5F640269 for ; Wed, 12 Feb 2025 00:37:58 +0100 (CET) Received: by mail-qv1-f98.google.com with SMTP id 6a1803df08f44-6e4565be0e0so38623106d6.3 for ; Tue, 11 Feb 2025 15:37:58 -0800 (PST) DKIM-Signature: v=1; a=rsa-sha256; c=relaxed/relaxed; d=iol.unh.edu; s=unh-iol; t=1739317077; x=1739921877; darn=dpdk.org; h=references:in-reply-to:cc:to:from:subject:message-id:date:from:to :cc:subject:date:message-id:reply-to; bh=9vIKBV8BcP8Y3jEXv0cyRP6mX7iHajLqoVWDULCxg1Y=; b=eHziqJSwlP7kpshHZ0VL2EQyg6H042MKFUMcXRdlmx72GWS/eedybGv43bYDh7TJMH uDsfdIpVU7K2SVhFjfBJ7EBqnuX8RmyOnAtswsOLwEUi5qghUT3TqrtsY8vnP9ySY3Jg LZF0fz9h81w1XSr1UD3ETq6URu3qywjspMc+M= X-Google-DKIM-Signature: v=1; a=rsa-sha256; c=relaxed/relaxed; d=1e100.net; s=20230601; t=1739317077; x=1739921877; h=references:in-reply-to:cc:to:from:subject:message-id:date :x-gm-message-state:from:to:cc:subject:date:message-id:reply-to; bh=9vIKBV8BcP8Y3jEXv0cyRP6mX7iHajLqoVWDULCxg1Y=; b=GA1JHpyh03pkcyqQJ834PoYISdKq3Rj7/vdxMk4vSPH8eCJmT/EnntLS+mX9Tm62tF 3DMcKCsATizZKijF/3sMB8UPQMhKqQCE0H/g7IshsLuGX5gBVMziEEE0KyruJH8pR6vn NE3bNjsHuf0fJ+gSz//J15yN4zq2H3w/K8czwIYQA38uQpAp1CiFAdPO0JoYD8Mv3pOt wZgSJeLd50M2kmdMT0VSP48j18Iyycwykp2j9K/powtQLlFBtvIYCVCX9stko7riWyU4 ytvf5B8SLbSCST3cBmh8BRIAgYMsqXkt8n1DxGdWyuc+CVtX9+vYhWJUf50AYi1V81Bh lH+A== X-Gm-Message-State: AOJu0YyhKcx+kol0AHAkmwAIlkSih5lkobtAhvqxFnsuVj+TA5o+FrR/ +y03sEerED4ApdbMiPzptdYRTzueaaTmfc1Qp6cSKl9Mxti43fy/UyzkQRCIpUj1OEEgPRcJgAt d59z666+vZzkJ53x5+HB63PQSXAOLV/xMfCWY7ww5 X-Gm-Gg: ASbGncu+u9+QM1LG/zjSILPl3J1ax0Na2Jiu7xIGp0xqtmxGepuxmOB0Mf/vHFhkSmg 2pFSaIngeCG2c4kwZbbiA8+fQvdAXoxQB/TOFpYAPYlUYcAslbR/tTyTIXGUj9KiesJ/Jqd989S 6nz866tapHO0p1p2F1avbRs68jXLwPQgseCYrUThu5sJEm+BLsPnvl6pWLH/Ini/iTZ5jC945wS sLRk7fazFEKj7kPiH/PVP5YmHYTef+xMb5/Qv8dfLpLsLEJUPKUSaQcDBKQ/sqv9ob07k0+KP7y QxZYswNQ81v4el/MHhpFNX4QxfydpA== X-Google-Smtp-Source: AGHT+IG/a1cbTXCUXvPxw0ymE5uOrqbjI6Miw6kwdradISV1yLbDsSfAegFCO51UT9QbXJaTVuaLDmxS0T+T X-Received: by 2002:a05:6214:212b:b0:6e4:4484:f35c with SMTP id 6a1803df08f44-6e46edc27d9mr17726296d6.30.1739317077410; Tue, 11 Feb 2025 15:37:57 -0800 (PST) Received: from postal.iol.unh.edu (postal.iol.unh.edu. [132.177.123.84]) by smtp-relay.gmail.com with ESMTPS id 6a1803df08f44-6e43baee2basm7609966d6.50.2025.02.11.15.37.57 (version=TLS1_2 cipher=ECDHE-ECDSA-AES128-GCM-SHA256 bits=128/128); Tue, 11 Feb 2025 15:37:57 -0800 (PST) X-Relaying-Domain: iol.unh.edu Date: Tue, 11 Feb 2025 15:37:57 -0800 (PST) Message-ID: <67abdf55.050a0220.29c78f.774eSMTPIN_ADDED_MISSING@mx.google.com> Received: from [172.17.0.5] (unknown [172.18.0.217]) by postal.iol.unh.edu (Postfix) with ESMTP id F2C576052471; Tue, 11 Feb 2025 18:37:56 -0500 (EST) Subject: |SUCCESS| pw151355 [PATCH] [v0,1/1] dma/cnxk: support pending count From: dpdklab@iol.unh.edu To: Test Report Cc: dpdk-test-reports@iol.unh.edu In-Reply-To: <20250211170532.1650221-1-vattunuru@marvell.com> References: <20250211170532.1650221-1-vattunuru@marvell.com> Content-Type: text/plain X-BeenThere: test-report@dpdk.org X-Mailman-Version: 2.1.29 Precedence: list List-Id: automatic DPDK test reports List-Unsubscribe: , List-Archive: List-Post: List-Help: List-Subscribe: , Errors-To: test-report-bounces@dpdk.org Test-Label: iol-compile-amd64-testing Test-Status: SUCCESS http://dpdk.org/patch/151355 _Testing PASS_ Submitter: Vamsi Krishna Date: Tuesday, February 11 2025 17:05:32 DPDK git baseline: Repo:dpdk Branch: master CommitID:762e04c739fa4e7340c0639d3d29fd6230924c96 151355 --> testing pass Upstream job id: Generic-DPDK-Compile-Meson#360747 Test environment and result as below: +---------------------+--------------------+-------------------+------------------+-------------------+-------------------------+----------------------+ | Environment | dpdk_meson_compile | dpdk_compile_spdk | dpdk_compile_ovs | dpdk_msvc_compile | dpdk_llvm_clang_compile | dpdk_mingw64_compile | +=====================+====================+===================+==================+===================+=========================+======================+ | Debian Bullseye | PASS | PASS | SKIPPED | SKIPPED | SKIPPED | SKIPPED | +---------------------+--------------------+-------------------+------------------+-------------------+-------------------------+----------------------+ | CentOS Stream 10 | PASS | SKIPPED | SKIPPED | SKIPPED | SKIPPED | SKIPPED | +---------------------+--------------------+-------------------+------------------+-------------------+-------------------------+----------------------+ | Debian 12 | PASS | PASS | SKIPPED | SKIPPED | SKIPPED | SKIPPED | +---------------------+--------------------+-------------------+------------------+-------------------+-------------------------+----------------------+ | Fedora 40 (Clang) | PASS | PASS | SKIPPED | SKIPPED | SKIPPED | SKIPPED | +---------------------+--------------------+-------------------+------------------+-------------------+-------------------------+----------------------+ | Fedora 41 (Clang) | PASS | PASS | PASS | SKIPPED | SKIPPED | SKIPPED | +---------------------+--------------------+-------------------+------------------+-------------------+-------------------------+----------------------+ | Fedora 41 | PASS | PASS | PASS | SKIPPED | SKIPPED | SKIPPED | +---------------------+--------------------+-------------------+------------------+-------------------+-------------------------+----------------------+ | openSUSE Leap 15 | PASS | SKIPPED | SKIPPED | SKIPPED | SKIPPED | SKIPPED | +---------------------+--------------------+-------------------+------------------+-------------------+-------------------------+----------------------+ | RHEL8 | PASS | SKIPPED | SKIPPED | SKIPPED | SKIPPED | SKIPPED | +---------------------+--------------------+-------------------+------------------+-------------------+-------------------------+----------------------+ | RHEL9 | PASS | SKIPPED | SKIPPED | SKIPPED | SKIPPED | SKIPPED | +---------------------+--------------------+-------------------+------------------+-------------------+-------------------------+----------------------+ | Ubuntu 20.04 | PASS | SKIPPED | SKIPPED | SKIPPED | SKIPPED | SKIPPED | +---------------------+--------------------+-------------------+------------------+-------------------+-------------------------+----------------------+ | Ubuntu 22.04 | PASS | PASS | SKIPPED | SKIPPED | SKIPPED | SKIPPED | +---------------------+--------------------+-------------------+------------------+-------------------+-------------------------+----------------------+ | FreeBSD 13.4 | PASS | SKIPPED | SKIPPED | SKIPPED | SKIPPED | SKIPPED | +---------------------+--------------------+-------------------+------------------+-------------------+-------------------------+----------------------+ | Ubuntu 24.04 | PASS | PASS | PASS | SKIPPED | SKIPPED | SKIPPED | +---------------------+--------------------+-------------------+------------------+-------------------+-------------------------+----------------------+ | Alpine | PASS | SKIPPED | SKIPPED | SKIPPED | SKIPPED | SKIPPED | +---------------------+--------------------+-------------------+------------------+-------------------+-------------------------+----------------------+ | CentOS Stream 9 | PASS | PASS | SKIPPED | SKIPPED | SKIPPED | SKIPPED | +---------------------+--------------------+-------------------+------------------+-------------------+-------------------------+----------------------+ | FreeBSD 14.2 | PASS | SKIPPED | SKIPPED | SKIPPED | SKIPPED | SKIPPED | +---------------------+--------------------+-------------------+------------------+-------------------+-------------------------+----------------------+ | Fedora 40 | PASS | PASS | SKIPPED | SKIPPED | SKIPPED | SKIPPED | +---------------------+--------------------+-------------------+------------------+-------------------+-------------------------+----------------------+ | Windows Server 2022 | SKIPPED | SKIPPED | SKIPPED | PASS | PASS | PASS | +---------------------+--------------------+-------------------+------------------+-------------------+-------------------------+----------------------+ Debian Bullseye Kernel: Depends on container host Compiler: gcc (Debian 10.2.1-6) 10.2.1 20210110 CentOS Stream 10 Kernel: Depends on container host Compiler: gcc 14.2.1 20241104 (Red Hat 14.2.1-6) Debian 12 Kernel: Depends on container host Compiler: gcc (Debian 12.2.0-14) 12.2.0 Fedora 40 (Clang) Kernel: Depends on container host Compiler: clang 18.1.8 (Fedora 18.1.8-1.fc40) Fedora 41 (Clang) Kernel: Depends on container host Compiler: clang 19.1.5 (Fedora 19.1.5-1.fc41) Fedora 41 Kernel: Depends on container host Compiler: gcc 14.2.1 20240912 (Red Hat 14.2.1-3) openSUSE Leap 15 Kernel: Depends on container host Compiler: gcc (SUSE Linux) 7.5.0 RHEL8 Kernel: Depends on container host Compiler: gcc 8.5.0 20210514 (Red Hat 8.5.0-22) RHEL9 Kernel: Depends on container host Compiler: gcc 11.5.0 20240719 (Red Hat 11.5.0-2) Ubuntu 20.04 Kernel: Depends on container host Compiler: gcc (Ubuntu 9.4.0-1ubuntu1~20.04.2) 9.4.0 Ubuntu 22.04 Kernel: Depends on container host Compiler: gcc (Ubuntu 11.4.0-1ubuntu1~22.04) 11.4.0 FreeBSD 13.4 Kernel: 13.4-RELEASE-p1 Compiler: clang 18.1.6 Ubuntu 24.04 Kernel: Depends on container host Compiler: gcc (Ubuntu 13.3.0-6ubuntu2~24.04) 13.3.0 Alpine Kernel: Depends on container host Compiler: gcc (Alpine 14.2.0) 14.2.0 CentOS Stream 9 Kernel: Depends on container host Compiler: gcc 11.5.0 20240719 (Red Hat 11.5.0-2) FreeBSD 14.2 Kernel: 14.2-RELEASE Compiler: clang 18.1.6 Fedora 40 Kernel: Depends on container host Compiler: gcc 14.2.1 20240912 (Red Hat 14.2.1-3) Windows Server 2022 Kernel: 10.0.20348.2031 Compiler: clang 15.0.7, gcc 14.1.0 (MinGW), and MSVC VS 19.39.33521 To view detailed results, visit: https://lab.dpdk.org/results/dashboard/patchsets/32561/ UNH-IOL DPDK Community Lab To manage your email subscriptions, visit: https://lab.dpdk.org/results/dashboard/preferences/subscriptions/