From mboxrd@z Thu Jan 1 00:00:00 1970 Return-Path: Received: from mails.dpdk.org (mails.dpdk.org [217.70.189.124]) by inbox.dpdk.org (Postfix) with ESMTP id 1A299461AD for ; Wed, 12 Feb 2025 00:38:52 +0100 (CET) Received: from mails.dpdk.org (localhost [127.0.0.1]) by mails.dpdk.org (Postfix) with ESMTP id 16CC5402BB; Wed, 12 Feb 2025 00:38:52 +0100 (CET) Received: from mail-pl1-f227.google.com (mail-pl1-f227.google.com [209.85.214.227]) by mails.dpdk.org (Postfix) with ESMTP id 7CB5A40269 for ; Wed, 12 Feb 2025 00:38:51 +0100 (CET) Received: by mail-pl1-f227.google.com with SMTP id d9443c01a7336-21f5660c2fdso89070605ad.2 for ; Tue, 11 Feb 2025 15:38:51 -0800 (PST) DKIM-Signature: v=1; a=rsa-sha256; c=relaxed/relaxed; d=iol.unh.edu; s=unh-iol; t=1739317130; x=1739921930; darn=dpdk.org; h=references:in-reply-to:cc:to:from:subject:message-id:date:from:to :cc:subject:date:message-id:reply-to; bh=vsyNjzv92yqPiortb/swSCin4xuxKFQOS6sC5Wsye0E=; b=dMBvIN9jk0/batBJ3Cnk1VE7W5iKQh/fGuIn1W1Si6ekdx/kipH511EdwIo9yoY1q2 0SPNMjiOI6nQ4peDgmEF/Wjw6gFakgALqc3k28FIHc8r8edwPKZDF5Qt+FDQDtbjzHwl FLKNBYpreD4b6lbgZsDN8gTFVfFUqew1mYbVw= X-Google-DKIM-Signature: v=1; a=rsa-sha256; c=relaxed/relaxed; d=1e100.net; s=20230601; t=1739317130; x=1739921930; h=references:in-reply-to:cc:to:from:subject:message-id:date :x-gm-message-state:from:to:cc:subject:date:message-id:reply-to; bh=vsyNjzv92yqPiortb/swSCin4xuxKFQOS6sC5Wsye0E=; b=YmBXckZoduFN+R8/WsvNHox81UruHOXmGyW3VO6MnpnIsHYifutJF1oPDSWo1LqjTx 3eZDuy2aJc2v2VQI/y2l6hUOZdpLuc4RUVIeEozxTadOtZvhU2nkFZ7y8tjbY89Oe8EH c1KhC/uDT1ug+GUbB/2obnpw+rOTtuAHJ3uOLxSOEKV8PHNRY8/Up51neJA+X+icaNtR rEjb64rCVFvyHIb68AK7gVri86ItRxiNEnqNevIQzchLHR3nijLzhmGEv418JmzEFZgm ROdq+FzrxDRUE8OPkKd2//oLe/9cEARASnb1bsgAcEbIQdwENFpMKFMPacnRMX4i3IGN pV+Q== X-Gm-Message-State: AOJu0YwkdZ402CrEBwVYN3TlY/wyayLENN4DuBrj4mEjy9UA2LGjsfvS k+lwLGzP7P2V7JxEUAdctXtB3vk6zTKtnfuDoVZXXMwlUpEdTi1BWXaHnBg+JMZ1P5DgaD4xyiQ kuqjKjlqOB2f74a3GsI7xFR4gy+R3JjOlUudpzgYom3LzC4Vij0phR+Oj X-Gm-Gg: ASbGncuQp0iJfQ8ctWZ7DUnCY0fj6klTjdAQwP/NBCP2rMWvUEMJlydgUlYHNgMPWh6 ClTwIxdEnB1LIZyvZFYxlwDt3O0EPDt/K4hilqojJlmMe1E5uSiGg9eouboLkZP2CO1YGIhPlvE MVy+V7yPwGnELwQKi4HZXua3ZZAUWDrvYQxyhzidcdZiBYG1u2bkKAgKCB/xSEUoiW1ZHoAZbWo oofwwNvd913Xee72iH3I+/mWEAzTWKRA+tmuuSFQR/yEVUhbCguHE7UMoznSiwLLklVU7YAlnFs 6QyKS0bmRRwAWtYTktb1qwlqmCx9Qa9yNsE9PtPSCw== X-Google-Smtp-Source: AGHT+IEn5HOkUtqXYcNq9E8RiS/5wJu2zKfd1LyR9eytvgnYuuqwwBTH6uAGkdyK1eVEgd/5K8U5RtYqP5iK X-Received: by 2002:a17:902:f645:b0:21f:9107:fca3 with SMTP id d9443c01a7336-220bbc65bf2mr17663475ad.30.1739317130588; Tue, 11 Feb 2025 15:38:50 -0800 (PST) Received: from postal.iol.unh.edu (postal.iol.unh.edu. [2606:4100:3880:1234::84]) by smtp-relay.gmail.com with ESMTPS id d9443c01a7336-21f4aa60bb6sm6413655ad.35.2025.02.11.15.38.50 (version=TLS1_2 cipher=ECDHE-ECDSA-AES128-GCM-SHA256 bits=128/128); Tue, 11 Feb 2025 15:38:50 -0800 (PST) X-Relaying-Domain: iol.unh.edu Date: Tue, 11 Feb 2025 15:38:50 -0800 (PST) Message-ID: <67abdf8a.170a0220.18fde3.0c6aSMTPIN_ADDED_MISSING@mx.google.com> Received: from [172.17.0.4] (unknown [172.18.0.217]) by postal.iol.unh.edu (Postfix) with ESMTP id 058646052471; Tue, 11 Feb 2025 18:38:50 -0500 (EST) Subject: |SUCCESS| pw151355 [PATCH] [v0,1/1] dma/cnxk: support pending count From: dpdklab@iol.unh.edu To: Test Report Cc: dpdk-test-reports@iol.unh.edu In-Reply-To: <20250211170532.1650221-1-vattunuru@marvell.com> References: <20250211170532.1650221-1-vattunuru@marvell.com> Content-Type: text/plain X-BeenThere: test-report@dpdk.org X-Mailman-Version: 2.1.29 Precedence: list List-Id: automatic DPDK test reports List-Unsubscribe: , List-Archive: List-Post: List-Help: List-Subscribe: , Errors-To: test-report-bounces@dpdk.org Test-Label: iol-unit-arm64-testing Test-Status: SUCCESS http://dpdk.org/patch/151355 _Testing PASS_ Submitter: Vamsi Krishna Date: Tuesday, February 11 2025 17:05:32 DPDK git baseline: Repo:dpdk Branch: master CommitID:762e04c739fa4e7340c0639d3d29fd6230924c96 151355 --> testing pass Upstream job id: Generic-Unit-Test-DPDK#314196 Test environment and result as below: +-----------------------------+----------------+---------------------------+------------------------------+--------------+ | Environment | dpdk_unit_test | cryptodev_sw_zuc_autotest | cryptodev_sw_snow3g_autotest | lpm_autotest | +=============================+================+===========================+==============================+==============+ | 32-bit Ubuntu 22.04.4 (ARM) | PASS | SKIPPED | SKIPPED | SKIPPED | +-----------------------------+----------------+---------------------------+------------------------------+--------------+ | Fedora 40 (ARM Clang) | PASS | SKIPPED | SKIPPED | SKIPPED | +-----------------------------+----------------+---------------------------+------------------------------+--------------+ | Debian 11 (Buster) (ARM) | PASS | SKIPPED | SKIPPED | SKIPPED | +-----------------------------+----------------+---------------------------+------------------------------+--------------+ | CentOS Stream 9 (ARM) | PASS | SKIPPED | SKIPPED | SKIPPED | +-----------------------------+----------------+---------------------------+------------------------------+--------------+ | Fedora 40 (ARM) | PASS | SKIPPED | SKIPPED | SKIPPED | +-----------------------------+----------------+---------------------------+------------------------------+--------------+ | CentOS Stream 10 (ARM) | PASS | SKIPPED | SKIPPED | SKIPPED | +-----------------------------+----------------+---------------------------+------------------------------+--------------+ | Debian 12 (arm) | PASS | PASS | PASS | SKIPPED | +-----------------------------+----------------+---------------------------+------------------------------+--------------+ | Fedora 41 (ARM Clang) | PASS | SKIPPED | SKIPPED | SKIPPED | +-----------------------------+----------------+---------------------------+------------------------------+--------------+ | Ubuntu 20.04 (ARM) | PASS | SKIPPED | SKIPPED | SKIPPED | +-----------------------------+----------------+---------------------------+------------------------------+--------------+ | RHEL9 (ARM) | PASS | SKIPPED | SKIPPED | SKIPPED | +-----------------------------+----------------+---------------------------+------------------------------+--------------+ | Ubuntu 22.04 (ARM) | PASS | SKIPPED | SKIPPED | SKIPPED | +-----------------------------+----------------+---------------------------+------------------------------+--------------+ | Fedora 41 (ARM) | PASS | SKIPPED | SKIPPED | SKIPPED | +-----------------------------+----------------+---------------------------+------------------------------+--------------+ | Ubuntu 24.04 (ARM) | PASS | SKIPPED | SKIPPED | SKIPPED | +-----------------------------+----------------+---------------------------+------------------------------+--------------+ | Ubuntu 20.04 ARM SVE | SKIPPED | SKIPPED | SKIPPED | PASS | +-----------------------------+----------------+---------------------------+------------------------------+--------------+ 32-bit Ubuntu 22.04.4 (ARM) Kernel: 5.15.83+ aarch64 Compiler: gcc (Ubuntu 11.4.0-1ubuntu1~22.04) 11.4.0 Fedora 40 (ARM Clang) Kernel: Depends on container host Compiler: clang 18.1.8 (Fedora 18.1.8-1.fc40) Debian 11 (Buster) (ARM) Kernel: Depends on container host Compiler: gcc (Debian 10.2.1-6) 10.2.1 20210110 CentOS Stream 9 (ARM) Kernel: Depends on container host Compiler: gcc 11.5.0 20240719 (Red Hat 11.5.0-2) Fedora 40 (ARM) Kernel: Depends on container host Compiler: gcc 14.2.1 20240912 (Red Hat 14.2.1-3) CentOS Stream 10 (ARM) Kernel: Depends on container host Compiler: gcc 14.2.1 20241104 (Red Hat 14.2.1-6) Debian 12 (arm) Kernel: Depends on container host Compiler: gcc (Debian 12.2.0-14) 12.2.0 Fedora 41 (ARM Clang) Kernel: Depends on container host Compiler: clang 19.1.5 (Fedora 19.1.5-1.fc41) Ubuntu 20.04 (ARM) Kernel: Depends on container host Compiler: gcc (Ubuntu 9.4.0-1ubuntu1~20.04.2) 9.4.0 RHEL9 (ARM) Kernel: Depends on container host Compiler: gcc 11.5.0 20240719 (Red Hat 11.5.0-2) Ubuntu 22.04 (ARM) Kernel: Depends on container host Compiler: gcc (Ubuntu 11.4.0-1ubuntu1~22.04) 11.4.0 Fedora 41 (ARM) Kernel: Depends on container host Compiler: gcc 14.2.1 20240912 (Red Hat 14.2.1-3) Ubuntu 24.04 (ARM) Kernel: Depends on container host Compiler: gcc (Ubuntu 13.3.0-6ubuntu2~24.04) 13.3.0 Ubuntu 20.04 ARM SVE Kernel: Depends on container host Compiler: gcc (Ubuntu 10.5.0-1ubuntu1~20.04) 10.5.0 To view detailed results, visit: https://lab.dpdk.org/results/dashboard/patchsets/32561/ UNH-IOL DPDK Community Lab To manage your email subscriptions, visit: https://lab.dpdk.org/results/dashboard/preferences/subscriptions/