From mboxrd@z Thu Jan 1 00:00:00 1970 Return-Path: Received: from mails.dpdk.org (mails.dpdk.org [217.70.189.124]) by inbox.dpdk.org (Postfix) with ESMTP id B4E2C461AD for ; Wed, 12 Feb 2025 01:59:41 +0100 (CET) Received: from mails.dpdk.org (localhost [127.0.0.1]) by mails.dpdk.org (Postfix) with ESMTP id B17CD40EA5; Wed, 12 Feb 2025 01:59:41 +0100 (CET) Received: from mail-qt1-f226.google.com (mail-qt1-f226.google.com [209.85.160.226]) by mails.dpdk.org (Postfix) with ESMTP id 0602440E96 for ; Wed, 12 Feb 2025 01:59:40 +0100 (CET) Received: by mail-qt1-f226.google.com with SMTP id d75a77b69052e-4679eacf2c5so62724361cf.0 for ; Tue, 11 Feb 2025 16:59:39 -0800 (PST) DKIM-Signature: v=1; a=rsa-sha256; c=relaxed/relaxed; d=iol.unh.edu; s=unh-iol; t=1739321979; x=1739926779; darn=dpdk.org; h=references:in-reply-to:cc:to:from:subject:message-id:date:from:to :cc:subject:date:message-id:reply-to; bh=CFMS6kMYTm3sCZseIUAS+6bmpXO0leKlOE/UChAIoM8=; b=gBG84rj/pzoGyh3Dtev1tTB0+E3p8wHE64Cp74IEvMpcHakhaB1MP/fEazAX9PP28j D5bjeyRn7qOjUrem0sq7IcPE9PmNQofmbVJWitsJBdLrVomvqy5rJuOiuojXKnO+U7KE Kx3fJjAoYyANWoeOd63uahvxHiZxd1frUNC3I= X-Google-DKIM-Signature: v=1; a=rsa-sha256; c=relaxed/relaxed; d=1e100.net; s=20230601; t=1739321979; x=1739926779; h=references:in-reply-to:cc:to:from:subject:message-id:date :x-gm-message-state:from:to:cc:subject:date:message-id:reply-to; bh=CFMS6kMYTm3sCZseIUAS+6bmpXO0leKlOE/UChAIoM8=; b=TgLm9VJYhohHQ2AWAQtSBUiOxv48nn7tF8TrBLMVnAQpJeJCq7NfrhnnPGUt1KO6dl RGSw+rlpf5/8pG5aiJBBEq81RQsGyYSjwxwbBM2JzSK65wogx8c0qqcCEo1SHCKJ0dLV /SjIuV3oXkPNQc3WF3DOqe8msYOa/mK+fXiA6Oay5UKn7jf/m499yIwLgPcMtf0G7e/2 DlJmzDYgvVBVL/Ia2E/TvzIVElhWEZeR5hSB89g2qzXd+eoXL8SVKFFLX6fDvt4ZfQw4 q5vgJFyv0XDLhLdUpT+ZhRwZfBKUq+kLKWrnMygOGOnnfJu3AouUOTrgTz9A+f5dSnze 66Hw== X-Gm-Message-State: AOJu0YwzG2DiiaSMk3iKeGU2i+nGZqhasObUHm+bdWR6fxTC779w+vrs OG0ITEeH//QZAScAX2PpprHWK1J9tPkHzwLGioCCOPojqboC8yY2KZPecLoeF7gr3qs2D14j2C7 lkVwl8PjcPfJJwWR8ZoyEvhx5rvPf3LU5abtPcEeM X-Gm-Gg: ASbGnctrcfTj6nSPxAv/BM8o94dOwYHTCxbePKPBmjAklIREfjdZHAC52BIepBwPvQ8 nfhI+AuCFQ8SaQQF2faRZyXyg4GPbRylp8WGxUrGQrvzlm0MnFrAkcsNLHpT6Q6JRdgvIMqxSGZ 90Z151xZDh5lsHhhU7J7FZntb41d7tboSaeiWVf6QxjZQY1XG+TtdsiWDsOAJfVbSOukDIxYCsu vaasuYKiEVAt7/k3KfpFgRQhE1qTcmyQqNV05M017JEjYUIy4wZH79/vs9aSV5r+VkjzkbrUkuE Nhn4C2tiKTdg4Doz3Msj31iaCpiwyQ== X-Google-Smtp-Source: AGHT+IG9PsNZhNlejTWg8s9syJdl7IdV7S2rnfL6vxCsisBapCU5krX4114/3pq+fqQTyxdZucCupupTW/jV X-Received: by 2002:ac8:5fd2:0:b0:471:8b81:e556 with SMTP id d75a77b69052e-471afde6c30mr18892571cf.5.1739321979414; Tue, 11 Feb 2025 16:59:39 -0800 (PST) Received: from postal.iol.unh.edu (postal.iol.unh.edu. [132.177.123.84]) by smtp-relay.gmail.com with ESMTPS id d75a77b69052e-471a38a4413sm1440761cf.17.2025.02.11.16.59.39 (version=TLS1_2 cipher=ECDHE-ECDSA-AES128-GCM-SHA256 bits=128/128); Tue, 11 Feb 2025 16:59:39 -0800 (PST) X-Relaying-Domain: iol.unh.edu Date: Tue, 11 Feb 2025 16:59:39 -0800 (PST) Message-ID: <67abf27b.050a0220.caa80.769eSMTPIN_ADDED_MISSING@mx.google.com> Received: from [172.17.0.3] (unknown [172.18.0.217]) by postal.iol.unh.edu (Postfix) with ESMTP id ECE1C6052471; Tue, 11 Feb 2025 19:59:38 -0500 (EST) Subject: |SUCCESS| pw151325 [PATCH] [v7] net: add thread-safe crc api From: dpdklab@iol.unh.edu To: Test Report Cc: dpdk-test-reports@iol.unh.edu In-Reply-To: <20250211090202.1018656-1-arkadiuszx.kusztal@intel.com> References: <20250211090202.1018656-1-arkadiuszx.kusztal@intel.com> Content-Type: text/plain X-BeenThere: test-report@dpdk.org X-Mailman-Version: 2.1.29 Precedence: list List-Id: automatic DPDK test reports List-Unsubscribe: , List-Archive: List-Post: List-Help: List-Subscribe: , Errors-To: test-report-bounces@dpdk.org Test-Label: iol-sample-apps-testing Test-Status: SUCCESS http://dpdk.org/patch/151325 _Testing PASS_ Submitter: Arkadiusz Kusztal Date: Tuesday, February 11 2025 09:02:02 DPDK git baseline: Repo:dpdk Branch: master CommitID:7125636162d67b1c40ba6802a3ff4466d125d243 151325 --> testing pass Upstream job id: ACVP-FIPS-testing#8877 Test environment and result as below: +--------------------+----------------------+----------------------+ | Environment | compressdev_zlib_pmd | dpdk_fips_validation | +====================+======================+======================+ | Ubuntu 22.04 (ARM) | PASS | SKIPPED | +--------------------+----------------------+----------------------+ | Ubuntu 22.04 | PASS | SKIPPED | +--------------------+----------------------+----------------------+ | Ubuntu 20.04 | SKIPPED | PASS | +--------------------+----------------------+----------------------+ Ubuntu 22.04 (ARM) Kernel: 5.15.0-97-generic Compiler: gcc gcc (Ubuntu 11.4.0-1ubuntu1~22.04) 11.4.0 Ubuntu 22.04 Kernel: 5.15.0-100-generic Compiler: gcc gcc (Ubuntu 11.4.0-1ubuntu1~22.04) 11.4.0 Ubuntu 20.04 Kernel: Depends on container host Compiler: gcc (Ubuntu 9.4.0-1ubuntu1~20.04.2) 9.4.0 To view detailed results, visit: https://lab.dpdk.org/results/dashboard/patchsets/32558/ UNH-IOL DPDK Community Lab To manage your email subscriptions, visit: https://lab.dpdk.org/results/dashboard/preferences/subscriptions/