From mboxrd@z Thu Jan 1 00:00:00 1970 Return-Path: Received: from mails.dpdk.org (mails.dpdk.org [217.70.189.124]) by inbox.dpdk.org (Postfix) with ESMTP id 1A181461FC for ; Wed, 12 Feb 2025 02:34:19 +0100 (CET) Received: from mails.dpdk.org (localhost [127.0.0.1]) by mails.dpdk.org (Postfix) with ESMTP id 13A29402BB; Wed, 12 Feb 2025 02:34:19 +0100 (CET) Received: from mail-qv1-f100.google.com (mail-qv1-f100.google.com [209.85.219.100]) by mails.dpdk.org (Postfix) with ESMTP id 1188640269 for ; Wed, 12 Feb 2025 02:34:18 +0100 (CET) Received: by mail-qv1-f100.google.com with SMTP id 6a1803df08f44-6dcd4f1aaccso95500356d6.2 for ; Tue, 11 Feb 2025 17:34:17 -0800 (PST) DKIM-Signature: v=1; a=rsa-sha256; c=relaxed/relaxed; d=iol.unh.edu; s=unh-iol; t=1739324057; x=1739928857; darn=dpdk.org; h=references:in-reply-to:cc:to:from:subject:message-id:date:from:to :cc:subject:date:message-id:reply-to; bh=/W5C7nLUHbYeiv/7k8KU4+H+eQVOy3LqBO5+ubUY9rg=; b=OA38QEyqDVJTQ7U+t6xVGt4ghioa6t4fUU5UY28wEcS9L4av6YtiwtjdXaIS/GVVCU 1nlXAryUXJNeq9gBH4Ue6TJxoWXIzflezyi77rDXscU67OdvxVlKC90sjZgXugsbNo6W YpRMxbr2i6b2l+oHgqcZRWLRDmB7s7fxRxVbQ= X-Google-DKIM-Signature: v=1; a=rsa-sha256; c=relaxed/relaxed; d=1e100.net; s=20230601; t=1739324057; x=1739928857; h=references:in-reply-to:cc:to:from:subject:message-id:date :x-gm-message-state:from:to:cc:subject:date:message-id:reply-to; bh=/W5C7nLUHbYeiv/7k8KU4+H+eQVOy3LqBO5+ubUY9rg=; b=NFqVpz417SIrSkKxh1/ocPxnmAexxYKeSQ+7CM2FQ0FUdYXBRcbE5kUgPsLcxbdJUo 3HcgtgPIgnviLRdGZv9qw6FX7Ba+XcwMxduIdLwzMRtZwx0fa2CuB2+R1VgrnfOKwm/G WpubqbLePO/xANCTTMjA5d3bhsRy4gHQe3iSx7laHJGt/J5Lq3/6rNCVaszKA0JhPQiG CBg8NupYbgaoersgvdqLlWT4F/NPOpvXfuxtnIN7ch9Hz8tJZw+iTYBOS0XS2i5DwFc3 KQMKom6iDaUD9uQzK0hIwagZy63LqwbSQZAyqbQgPAewDJLKEMdQrlSdoDsGfWvKoo24 T5GQ== X-Gm-Message-State: AOJu0Yw+tm7B5omGPmeiG6X/ijaFAPTQMM/Rdt0/smI/YerJuhjfbyNk n6PtKgoF2rdRDd21aA5mtgiw3xme+haTxxFAimHXNc4GDFTT6lc245VJsvnHDNsR1W+wjMo1u6s 1XzCpxzCIVopb5ouwqBkrsoul9lkx4T8OPc+oRxbogUbvX81EI9uLBIU6 X-Gm-Gg: ASbGncuEEpicLnSxtlpwqp6LSwAKZBYDCI9e5jcmlLYWDYNnuw67GH3VG6HEjwB/DgL tM0COcOtojDJDrbIq5c9KtbYeuof1fP3c+w1Gqjn3sqm79ysMwIeHB85v3RKGzp8r6N32mfGfQd UsxETa1c2H73X/Fs/QDl9wi/eIZo7PZFkqNfJfKKTWkXbJ8e6zfIcAOV+aX31LlmWJEaRalkBDY 1pSVhC0WhxIcN+Uh4cj3GGKOADAiTqlCDuEjetWH5xB6Ly7Ua+8qUlXbgeb1ERvDKzMckQxbXk1 6RY1zBZgywUOJwCsqXnqthpoxMmneQjPtky2Z//rVg== X-Google-Smtp-Source: AGHT+IExIGoVeaZK2WkHMQO0o4uzgo+PZPr9G3nPTfedgbAHpmAPG9m03g9sYk71UcyobgpQNULLSegTXDQw X-Received: by 2002:ad4:5948:0:b0:6d4:18ce:117f with SMTP id 6a1803df08f44-6e46ed88f28mr26816546d6.20.1739324057498; Tue, 11 Feb 2025 17:34:17 -0800 (PST) Received: from postal.iol.unh.edu (postal.iol.unh.edu. [2606:4100:3880:1234::84]) by smtp-relay.gmail.com with ESMTPS id 6a1803df08f44-6e45ece43d4sm3893106d6.5.2025.02.11.17.34.17 (version=TLS1_2 cipher=ECDHE-ECDSA-AES128-GCM-SHA256 bits=128/128); Tue, 11 Feb 2025 17:34:17 -0800 (PST) X-Relaying-Domain: iol.unh.edu Date: Tue, 11 Feb 2025 17:34:17 -0800 (PST) Message-ID: <67abfa99.d40a0220.25e728.4ddaSMTPIN_ADDED_MISSING@mx.google.com> Received: from [172.21.0.5] (unknown [172.18.0.240]) by postal.iol.unh.edu (Postfix) with ESMTP id 37DBD6052471; Tue, 11 Feb 2025 20:34:17 -0500 (EST) Subject: |SUCCESS| pw151356-151366 [PATCH] [v5,11/11] devtools/cocci: add scr From: dpdklab@iol.unh.edu To: Test Report Cc: dpdk-test-reports@iol.unh.edu In-Reply-To: <20250211173720.1188517-12-stephen@networkplumber.org> References: <20250211173720.1188517-12-stephen@networkplumber.org> Content-Type: text/plain X-BeenThere: test-report@dpdk.org X-Mailman-Version: 2.1.29 Precedence: list List-Id: automatic DPDK test reports List-Unsubscribe: , List-Archive: List-Post: List-Help: List-Subscribe: , Errors-To: test-report-bounces@dpdk.org Test-Label: iol-unit-arm64-testing Test-Status: SUCCESS http://dpdk.org/patch/151366 _Testing PASS_ Submitter: Stephen Hemminger Date: Tuesday, February 11 2025 17:35:31 DPDK git baseline: Repo:dpdk Branch: master CommitID:05db99c117e36c0cd28cda8f558309efd20055da 151356-151366 --> testing pass Upstream job id: Generic-Unit-Test-DPDK#314225 Test environment and result as below: +-----------------------------+----------------+--------------+------------------------------+---------------------------+ | Environment | dpdk_unit_test | lpm_autotest | cryptodev_sw_snow3g_autotest | cryptodev_sw_zuc_autotest | +=============================+================+==============+==============================+===========================+ | 32-bit Ubuntu 22.04.4 (ARM) | PASS | SKIPPED | SKIPPED | SKIPPED | +-----------------------------+----------------+--------------+------------------------------+---------------------------+ | CentOS Stream 9 (ARM) | PASS | SKIPPED | SKIPPED | SKIPPED | +-----------------------------+----------------+--------------+------------------------------+---------------------------+ | CentOS Stream 10 (ARM) | PASS | SKIPPED | SKIPPED | SKIPPED | +-----------------------------+----------------+--------------+------------------------------+---------------------------+ | Fedora 41 (ARM Clang) | PASS | SKIPPED | SKIPPED | SKIPPED | +-----------------------------+----------------+--------------+------------------------------+---------------------------+ | Fedora 40 (ARM) | PASS | SKIPPED | SKIPPED | SKIPPED | +-----------------------------+----------------+--------------+------------------------------+---------------------------+ | Debian 11 (Buster) (ARM) | PASS | SKIPPED | SKIPPED | SKIPPED | +-----------------------------+----------------+--------------+------------------------------+---------------------------+ | Fedora 40 (ARM Clang) | PASS | SKIPPED | SKIPPED | SKIPPED | +-----------------------------+----------------+--------------+------------------------------+---------------------------+ | Debian 12 (arm) | PASS | SKIPPED | PASS | PASS | +-----------------------------+----------------+--------------+------------------------------+---------------------------+ | Fedora 41 (ARM) | PASS | SKIPPED | SKIPPED | SKIPPED | +-----------------------------+----------------+--------------+------------------------------+---------------------------+ | Ubuntu 20.04 (ARM) | PASS | SKIPPED | SKIPPED | SKIPPED | +-----------------------------+----------------+--------------+------------------------------+---------------------------+ | Ubuntu 24.04 (ARM) | PASS | SKIPPED | SKIPPED | SKIPPED | +-----------------------------+----------------+--------------+------------------------------+---------------------------+ | RHEL9 (ARM) | PASS | SKIPPED | SKIPPED | SKIPPED | +-----------------------------+----------------+--------------+------------------------------+---------------------------+ | Ubuntu 22.04 (ARM) | PASS | SKIPPED | SKIPPED | SKIPPED | +-----------------------------+----------------+--------------+------------------------------+---------------------------+ | Ubuntu 20.04 ARM SVE | SKIPPED | PASS | SKIPPED | SKIPPED | +-----------------------------+----------------+--------------+------------------------------+---------------------------+ 32-bit Ubuntu 22.04.4 (ARM) Kernel: 5.15.83+ aarch64 Compiler: gcc (Ubuntu 11.4.0-1ubuntu1~22.04) 11.4.0 CentOS Stream 9 (ARM) Kernel: Depends on container host Compiler: gcc 11.5.0 20240719 (Red Hat 11.5.0-2) CentOS Stream 10 (ARM) Kernel: Depends on container host Compiler: gcc 14.2.1 20241104 (Red Hat 14.2.1-6) Fedora 41 (ARM Clang) Kernel: Depends on container host Compiler: clang 19.1.5 (Fedora 19.1.5-1.fc41) Fedora 40 (ARM) Kernel: Depends on container host Compiler: gcc 14.2.1 20240912 (Red Hat 14.2.1-3) Debian 11 (Buster) (ARM) Kernel: Depends on container host Compiler: gcc (Debian 10.2.1-6) 10.2.1 20210110 Fedora 40 (ARM Clang) Kernel: Depends on container host Compiler: clang 18.1.8 (Fedora 18.1.8-1.fc40) Debian 12 (arm) Kernel: Depends on container host Compiler: gcc (Debian 12.2.0-14) 12.2.0 Fedora 41 (ARM) Kernel: Depends on container host Compiler: gcc 14.2.1 20240912 (Red Hat 14.2.1-3) Ubuntu 20.04 (ARM) Kernel: Depends on container host Compiler: gcc (Ubuntu 9.4.0-1ubuntu1~20.04.2) 9.4.0 Ubuntu 24.04 (ARM) Kernel: Depends on container host Compiler: gcc (Ubuntu 13.3.0-6ubuntu2~24.04) 13.3.0 RHEL9 (ARM) Kernel: Depends on container host Compiler: gcc 11.5.0 20240719 (Red Hat 11.5.0-2) Ubuntu 22.04 (ARM) Kernel: Depends on container host Compiler: gcc (Ubuntu 11.4.0-1ubuntu1~22.04) 11.4.0 Ubuntu 20.04 ARM SVE Kernel: Depends on container host Compiler: gcc (Ubuntu 10.5.0-1ubuntu1~20.04) 10.5.0 To view detailed results, visit: https://lab.dpdk.org/results/dashboard/patchsets/32562/ UNH-IOL DPDK Community Lab To manage your email subscriptions, visit: https://lab.dpdk.org/results/dashboard/preferences/subscriptions/