From mboxrd@z Thu Jan 1 00:00:00 1970 Return-Path: Received: from mails.dpdk.org (mails.dpdk.org [217.70.189.124]) by inbox.dpdk.org (Postfix) with ESMTP id 91FE84611F for ; Wed, 12 Feb 2025 03:36:39 +0100 (CET) Received: from mails.dpdk.org (localhost [127.0.0.1]) by mails.dpdk.org (Postfix) with ESMTP id 7387C402BB; Wed, 12 Feb 2025 03:36:39 +0100 (CET) Received: from mail-pl1-f226.google.com (mail-pl1-f226.google.com [209.85.214.226]) by mails.dpdk.org (Postfix) with ESMTP id 6540F40269 for ; Wed, 12 Feb 2025 03:36:38 +0100 (CET) Received: by mail-pl1-f226.google.com with SMTP id d9443c01a7336-21f6022c2c3so6101765ad.0 for ; Tue, 11 Feb 2025 18:36:38 -0800 (PST) DKIM-Signature: v=1; a=rsa-sha256; c=relaxed/relaxed; d=iol.unh.edu; s=unh-iol; t=1739327797; x=1739932597; darn=dpdk.org; h=cc:to:from:subject:message-id:date:from:to:cc:subject:date :message-id:reply-to; bh=0MkcTVctVN7TDattbKpgO7HhapuU71xGC9vwTvdHO+s=; b=RwtdiIhSAgLYA74oYaX5ulMePqxPimGrWfhGiNwuYdV05jkp7wmclXSIxx5YHYsSm5 QXDmZhIxoeggdeunY1IzHqWRHvkF4aNvz6Ao41cc/dFZT9OFWg1AztfUGTdHJtBIeLF6 hvjGOpkFmzHqKKEPx+i9iXkmVFLwjKR7kwGnI= X-Google-DKIM-Signature: v=1; a=rsa-sha256; c=relaxed/relaxed; d=1e100.net; s=20230601; t=1739327797; x=1739932597; h=cc:to:from:subject:message-id:date:x-gm-message-state:from:to:cc :subject:date:message-id:reply-to; bh=0MkcTVctVN7TDattbKpgO7HhapuU71xGC9vwTvdHO+s=; b=WA9XaKCrvBNc/DHKNeGMHeUyQv2pVLYG1G25QDh9J+UzeCtYTqwaQB98qfktE3oqEg m4tlZVTzVJyeCX9qQFVobNKu07KKfasju26dAs4LsKHOZWJpLl4XcrK7ol4z4KuDZpcO PT7FvL1f1yhiYDSXrWj4TakpXz5NscfIYurzCyiyBBnm9B1iik8qvOQG7z77Pp3yR1La 4RrPRRvkFnaMwxj5AGJHhL1UPRMQphRKazuuPp9kV0+N5yMzFyIU0hKA7UWF9uNApXUZ Z5zUJlPwV/LN2nBr926qAaPBd3su8IiCQNGtRN/o8LS80/aOZ/zXFmdc7w3D2fWehpvn IHiw== X-Gm-Message-State: AOJu0YxQxW1GRldQE6Ic9L8nwApamxj8zKHf9NJ/7G2sngkPa9oag3fp EdTeFuPVnRDldjbzKqOFrebkt5Bb52ucaz08ZfWDk7oov+38tiIOItb2VdySe8Ob8RX9TEzTgv4 sA7mBEmEtl7y2jUp2euFcikcpDfoGpUcFqq/XcsN2 X-Gm-Gg: ASbGnctyivXcZ6JP4ZG/CPU80LZrmnVz1qxef/oRe3NikSWacUmbg6Fzuvvr7Jbj80I imsSRrG8XwaEzf+2ahAgc2nfDz3ohCN8lUbRoIrQceLmEX40PDw1ESBeCyuaNvo8kifEaWN/iOw cVEyHheBqZvZqJ9vx0ylN0zX9rlFCe55SIS0nvV8OVihDrU3tku0okTH3SS1e28i6Zcnkus9VI3 E/QA7qBfXDN/ZVCM6LXj2uIF4x2DyZ1pqIaNNYIT9XkbN9KiuowOuFQNgaHtOSCzedVIq34Prth Ele+NcQ+lnGqPiCgL5NrHP+KOIqYuw== X-Google-Smtp-Source: AGHT+IGCb+Gekbm7bvcJLR9BnlBHrsF47ncGFj5nX+sqBIvxEcH1bmM5NoE0xfF/VJ/o0T1eRbvLcdBQhSe3 X-Received: by 2002:a05:6a21:1693:b0:1ea:f941:8d8e with SMTP id adf61e73a8af0-1ee5cf4b4bbmr2084831637.16.1739327797347; Tue, 11 Feb 2025 18:36:37 -0800 (PST) Received: from postal.iol.unh.edu (postal.iol.unh.edu. [132.177.123.84]) by smtp-relay.gmail.com with ESMTPS id 41be03b00d2f7-ad51aee848csm682068a12.18.2025.02.11.18.36.37 (version=TLS1_2 cipher=ECDHE-ECDSA-AES128-GCM-SHA256 bits=128/128); Tue, 11 Feb 2025 18:36:37 -0800 (PST) X-Relaying-Domain: iol.unh.edu Date: Tue, 11 Feb 2025 18:36:37 -0800 (PST) Message-ID: <67ac0935.630a0220.53663.44edSMTPIN_ADDED_MISSING@mx.google.com> Received: from [172.17.0.3] (unknown [172.18.0.217]) by postal.iol.unh.edu (Postfix) with ESMTP id 816D96052471; Tue, 11 Feb 2025 21:36:36 -0500 (EST) Subject: |SUCCESS| [GIT MASTER] 05db99c117e36c0cd28cda8f558309efd20055da From: dpdklab@iol.unh.edu To: Test Report Cc: dpdk-test-reports@iol.unh.edu Content-Type: text/plain X-BeenThere: test-report@dpdk.org X-Mailman-Version: 2.1.29 Precedence: list List-Id: automatic DPDK test reports List-Unsubscribe: , List-Archive: List-Post: List-Help: List-Subscribe: , Errors-To: test-report-bounces@dpdk.org _Testing PASS_ Branch: dpdk 05db99c117e36c0cd28cda8f558309efd20055da --> testing pass Upstream job id: Generic-DPDK-Compile-ABI#115867 Test environment and result as below: +-------------------+----------+ | Environment | abi_test | +===================+==========+ | CentOS Stream 9 | PASS | +-------------------+----------+ | Debian Bullseye | PASS | +-------------------+----------+ | CentOS Stream 10 | PASS | +-------------------+----------+ | Fedora 40 | PASS | +-------------------+----------+ | Fedora 40 (Clang) | PASS | +-------------------+----------+ | Debian 12 | PASS | +-------------------+----------+ | Fedora 41 (Clang) | PASS | +-------------------+----------+ | Fedora 41 | PASS | +-------------------+----------+ | openSUSE Leap 15 | PASS | +-------------------+----------+ | RHEL9 | PASS | +-------------------+----------+ | Ubuntu 22.04 | PASS | +-------------------+----------+ | RHEL8 | PASS | +-------------------+----------+ | Arch Linux | PASS | +-------------------+----------+ | Ubuntu 24.04 | PASS | +-------------------+----------+ CentOS Stream 9 Kernel: Depends on container host Compiler: gcc 11.5.0 20240719 (Red Hat 11.5.0-2) Debian Bullseye Kernel: Depends on container host Compiler: gcc (Debian 10.2.1-6) 10.2.1 20210110 CentOS Stream 10 Kernel: Depends on container host Compiler: gcc 14.2.1 20241104 (Red Hat 14.2.1-6) Fedora 40 Kernel: Depends on container host Compiler: gcc 14.2.1 20240912 (Red Hat 14.2.1-3) Fedora 40 (Clang) Kernel: Depends on container host Compiler: clang 18.1.8 (Fedora 18.1.8-1.fc40) Debian 12 Kernel: Depends on container host Compiler: gcc (Debian 12.2.0-14) 12.2.0 Fedora 41 (Clang) Kernel: Depends on container host Compiler: clang 19.1.5 (Fedora 19.1.5-1.fc41) Fedora 41 Kernel: Depends on container host Compiler: gcc 14.2.1 20240912 (Red Hat 14.2.1-3) openSUSE Leap 15 Kernel: Depends on container host Compiler: gcc (SUSE Linux) 7.5.0 RHEL9 Kernel: Depends on container host Compiler: gcc 11.5.0 20240719 (Red Hat 11.5.0-2) Ubuntu 22.04 Kernel: Depends on container host Compiler: gcc (Ubuntu 11.4.0-1ubuntu1~22.04) 11.4.0 RHEL8 Kernel: Depends on container host Compiler: gcc 8.5.0 20210514 (Red Hat 8.5.0-22) Arch Linux Kernel: Depends on container host Compiler: gcc 14.2.1 20240910 Ubuntu 24.04 Kernel: Depends on container host Compiler: gcc (Ubuntu 13.3.0-6ubuntu2~24.04) 13.3.0 To view detailed results, visit: https://lab.dpdk.org/results/dashboard/tarballs/32548/ UNH-IOL DPDK Community Lab To manage your email subscriptions, visit: https://lab.dpdk.org/results/dashboard/preferences/subscriptions/