From mboxrd@z Thu Jan 1 00:00:00 1970 Return-Path: Received: from mails.dpdk.org (mails.dpdk.org [217.70.189.124]) by inbox.dpdk.org (Postfix) with ESMTP id B686C4611F for ; Wed, 12 Feb 2025 03:45:21 +0100 (CET) Received: from mails.dpdk.org (localhost [127.0.0.1]) by mails.dpdk.org (Postfix) with ESMTP id 96C22402BB; Wed, 12 Feb 2025 03:45:21 +0100 (CET) Received: from mail-pl1-f227.google.com (mail-pl1-f227.google.com [209.85.214.227]) by mails.dpdk.org (Postfix) with ESMTP id 8C54C40269 for ; Wed, 12 Feb 2025 03:45:19 +0100 (CET) Received: by mail-pl1-f227.google.com with SMTP id d9443c01a7336-21f2f386cbeso115887115ad.0 for ; Tue, 11 Feb 2025 18:45:19 -0800 (PST) DKIM-Signature: v=1; a=rsa-sha256; c=relaxed/relaxed; d=iol.unh.edu; s=unh-iol; t=1739328318; x=1739933118; darn=dpdk.org; h=cc:to:from:subject:message-id:date:from:to:cc:subject:date :message-id:reply-to; bh=2alHcCBws6lvEcu4JStAigyY/snMEDLZWt3gQrJGick=; b=XHt+l2Qd69hAmlSTg7IOzs9jfyXMiulNU67nPz7EFqXsJU0AWB4uPYBMi8ivNd55vC De1CVb6vHeL0kn1TJ6+3lnGD9MHv7bmFw4GaGRmxyOwS/N8PgnQMygSqanamr4RZDx4H x/SldthESX8qo5pMfQ0ts2EvojOGM5WW0Gm4o= X-Google-DKIM-Signature: v=1; a=rsa-sha256; c=relaxed/relaxed; d=1e100.net; s=20230601; t=1739328318; x=1739933118; h=cc:to:from:subject:message-id:date:x-gm-message-state:from:to:cc :subject:date:message-id:reply-to; bh=2alHcCBws6lvEcu4JStAigyY/snMEDLZWt3gQrJGick=; b=PTzKSWG6SqvAeA49+a1NQp+zWAUv3Y31fWJjJ5JjT1/2xp8j9163NYeS/k6YzxsrSg f/Ps3ebZPqUhx3foonsDnSYVrCHxccCr2X5xSLOuXtZViHUvuNFKnTLFijjgCRKFgtFd DB+DzCvY5QBz5972Cz8vcUSCpvXGKTXhvgw+s1h3V131fktSNeebc7nMVkhxI4oPgAWj GY1vE5t49OAymJ+FKi5i97mfrDufr9SmyEcHOY03BzjYitnurr22njOZ4IpfjdbxNx+g mPxZvbOP3OdXXx+1HI6JyG5ZyC2wfMnRUZjGJxENpW01J/eiWgkyvwzeZZi/2oifV/1N +vyA== X-Gm-Message-State: AOJu0YxNDI4n0vAk18ONxhfI6DfEdXw0JGrSdzQ/8pCtdGWopHYP9Gvy D461RLh3+JO2hF9ZEbd5iBUIM+ug+KTJbMEW7SCtPAaqR2bX67Wt7zSOvAW3BfxEKcqQeShCz6y OFtSRwdMzU/diUYVt2oWhmNSb1YIOA3bKhUphpUULbFPTiTmgCW0O0BxP X-Gm-Gg: ASbGnctjt2yPcchHigsPGxJHGNDbsymxYDHhuRPXRQvW0LXky8/C4Ob/sc2/bXscbkA xXmSDbhNvVAApTAVgLTBaCSygzAcMqcoRboj2R5M47NH1yayvJHKubGP5Xal22dNNUgDQi3zY98 s7eI5wFT4WcsOwZFCeSY0NktK2iedZPMnO7ZSz58evMCX6nYCFhxBAxY3h3izUYxIiQp7eXiyEz 61Y/HnOk/Cz+LY9sTxyJ0DWftTgfsd3cSXCmcb0yZvwhfD4Pb/374vEmbBbrfra927B4KSTX15q mmg3pjngX+WHS6N8D6UrgYzJeZ5dcuxC8tC1+wz+7g== X-Google-Smtp-Source: AGHT+IF2INEKe8iV7Q+oDBEdbOvYiZYrnR50C2wtmxjV87Ns6Xj0rIjLbm1lyX7tLF0KDyPhl8oTjCoyCyJT X-Received: by 2002:a05:6a20:c797:b0:1e0:d4f4:5b39 with SMTP id adf61e73a8af0-1ee5c79672fmr3161644637.24.1739328318464; Tue, 11 Feb 2025 18:45:18 -0800 (PST) Received: from postal.iol.unh.edu (postal.iol.unh.edu. [2606:4100:3880:1234::84]) by smtp-relay.gmail.com with ESMTPS id 41be03b00d2f7-ad544be6f5esm374272a12.7.2025.02.11.18.45.18 (version=TLS1_2 cipher=ECDHE-ECDSA-AES128-GCM-SHA256 bits=128/128); Tue, 11 Feb 2025 18:45:18 -0800 (PST) X-Relaying-Domain: iol.unh.edu Date: Tue, 11 Feb 2025 18:45:18 -0800 (PST) Message-ID: <67ac0b3e.630a0220.25c514.3f14SMTPIN_ADDED_MISSING@mx.google.com> Received: from [172.17.0.3] (unknown [172.18.0.217]) by postal.iol.unh.edu (Postfix) with ESMTP id 9A4236052471; Tue, 11 Feb 2025 21:45:17 -0500 (EST) Subject: |SUCCESS| [GIT MASTER] 4dc0eac848506d9365fc93fdd6f32f3fc81c00d1 From: dpdklab@iol.unh.edu To: Test Report Cc: dpdk-test-reports@iol.unh.edu, Bruce Richardson Content-Type: text/plain X-BeenThere: test-report@dpdk.org X-Mailman-Version: 2.1.29 Precedence: list List-Id: automatic DPDK test reports List-Unsubscribe: , List-Archive: List-Post: List-Help: List-Subscribe: , Errors-To: test-report-bounces@dpdk.org _Testing PASS_ Branch: dpdk-next-net-intel 4dc0eac848506d9365fc93fdd6f32f3fc81c00d1 --> testing pass Upstream job id: ACVP-FIPS-testing#8879 Test environment and result as below: +--------------------+----------------------+----------------------+ | Environment | compressdev_zlib_pmd | dpdk_fips_validation | +====================+======================+======================+ | Ubuntu 22.04 (ARM) | PASS | SKIPPED | +--------------------+----------------------+----------------------+ | Ubuntu 22.04 | PASS | SKIPPED | +--------------------+----------------------+----------------------+ | Ubuntu 20.04 | SKIPPED | PASS | +--------------------+----------------------+----------------------+ Ubuntu 22.04 (ARM) Kernel: 5.15.0-97-generic Compiler: gcc gcc (Ubuntu 11.4.0-1ubuntu1~22.04) 11.4.0 Ubuntu 22.04 Kernel: 5.15.0-100-generic Compiler: gcc gcc (Ubuntu 11.4.0-1ubuntu1~22.04) 11.4.0 Ubuntu 20.04 Kernel: Depends on container host Compiler: gcc (Ubuntu 9.4.0-1ubuntu1~20.04.2) 9.4.0 To view detailed results, visit: https://lab.dpdk.org/results/dashboard/tarballs/32543/ UNH-IOL DPDK Community Lab To manage your email subscriptions, visit: https://lab.dpdk.org/results/dashboard/preferences/subscriptions/