From mboxrd@z Thu Jan 1 00:00:00 1970 Return-Path: Received: from mails.dpdk.org (mails.dpdk.org [217.70.189.124]) by inbox.dpdk.org (Postfix) with ESMTP id 191CF4611F for ; Wed, 12 Feb 2025 03:47:14 +0100 (CET) Received: from mails.dpdk.org (localhost [127.0.0.1]) by mails.dpdk.org (Postfix) with ESMTP id EB0E0402BB; Wed, 12 Feb 2025 03:47:13 +0100 (CET) Received: from mail-io1-f97.google.com (mail-io1-f97.google.com [209.85.166.97]) by mails.dpdk.org (Postfix) with ESMTP id AEF1640269 for ; Wed, 12 Feb 2025 03:47:12 +0100 (CET) Received: by mail-io1-f97.google.com with SMTP id ca18e2360f4ac-8553108e7a9so73265739f.1 for ; Tue, 11 Feb 2025 18:47:12 -0800 (PST) DKIM-Signature: v=1; a=rsa-sha256; c=relaxed/relaxed; d=iol.unh.edu; s=unh-iol; t=1739328432; x=1739933232; darn=dpdk.org; h=cc:to:from:subject:message-id:date:from:to:cc:subject:date :message-id:reply-to; bh=O84w3ykfhlonRgR7aw9h0BmR4zWC7HFSGIBdk3mZufA=; b=ifL1a58DW7753doicgdf8OjmSHW4HT3GWIdslDZavfSg9rtItacJ2QhQb3xiKFe2Y5 GHYo3C4ke242R9FywD4A+dmqyahek96eI5hk6ktBsfzbfFhyN1PMB9TjLrjGR1durcXF wOTiBbYCnW2jAQmXxCD5pIOzjqLluaZEdwiqQ= X-Google-DKIM-Signature: v=1; a=rsa-sha256; c=relaxed/relaxed; d=1e100.net; s=20230601; t=1739328432; x=1739933232; h=cc:to:from:subject:message-id:date:x-gm-message-state:from:to:cc :subject:date:message-id:reply-to; bh=O84w3ykfhlonRgR7aw9h0BmR4zWC7HFSGIBdk3mZufA=; b=KW9fxi9vlLaF/upzNyLcFbpd+93rmk6uV8emsP+EAR58wDWbGmqXCQxI9XeI04tPCj VfoVoBEstgD9NrIwfGmPytdhCmiJ8tTJTAJROlDrbaFG3mJRWx+HI7BnlXr8A3BaElGq oWWl65AH8KT6eZb53eMD0k9jKIdSwDqPNXrgyQ0T2DfvPBINFsBNnoWLO11Lzq1EOxio lkJ5x5OAcMs0dNdBOrNidhzchsMwekEREEcsl1X4uw60tN+xa6islYvwyAUGyNicI6uz Z6a760E9CYpXnGgqTnTeEtw8VEbkGB/LHQau8mN2VShKn9apO4G6sVXaIvT7HlDNSvMn ywiA== X-Gm-Message-State: AOJu0Yzmgpe8aVeqLKW8YiTZt/b38d1tOWt6O699PX6U3ZPq30Iycjfv qnJQiSaGDhaZNHZZRV+UxmcAYvabaQZ4kz1zAs0sboB7ahNYBVegBu1xgfYIgliuuFy2d1Mt3Uk 27Cpa8AERhZ/9tju2izFM7p3XIiEVbRFywAmvUh70 X-Gm-Gg: ASbGncsPUeyHf8qBcVeKqvF4ICiTTeRMDna6t/tqb+fRdFYLCOaOu2M8fytPlWqvCso DKkaXHrpcpsazDlW/5Sn0hYXc0ADP/xB+Uqx7nJm7AUqPlI3e2KiCrgwZpL4jjBl31ZPJpQE0p4 BD9qUEHXdfmcZbyOryNTTYgFC/ZZKfiZQMGnoxZDntEMQcX6jzVFsrOaDNYPqmo0agPra2fOezU 3gYhkaPEzIqBTsSBb+TbULv/4oD7w3YdGWHgBlYuK97GgVcA66GaYvc0m2E/eMJtMt+dpXTpMQQ Oqd77gBa1DlHWgfeBEN41uLAdMH1DQ== X-Google-Smtp-Source: AGHT+IEvY32n1SggnutDcLGHdpqjsV+ZrsBVblsnxiWRwrSXfTVUT8dX8As9WITyTv+7mqVORc+n3Lm4sN0r X-Received: by 2002:a05:6602:6c05:b0:84a:51e2:9f93 with SMTP id ca18e2360f4ac-85555d64e8dmr176968539f.9.1739328431975; Tue, 11 Feb 2025 18:47:11 -0800 (PST) Received: from postal.iol.unh.edu (postal.iol.unh.edu. [132.177.123.84]) by smtp-relay.gmail.com with ESMTPS id ca18e2360f4ac-854f667f7b4sm71711739f.10.2025.02.11.18.47.11 (version=TLS1_2 cipher=ECDHE-ECDSA-AES128-GCM-SHA256 bits=128/128); Tue, 11 Feb 2025 18:47:11 -0800 (PST) X-Relaying-Domain: iol.unh.edu Date: Tue, 11 Feb 2025 18:47:11 -0800 (PST) Message-ID: <67ac0baf.5d0a0220.3ba265.529bSMTPIN_ADDED_MISSING@mx.google.com> Received: from [172.17.0.3] (unknown [172.18.0.217]) by postal.iol.unh.edu (Postfix) with ESMTP id 4C0406052471; Tue, 11 Feb 2025 21:47:11 -0500 (EST) Subject: |SUCCESS| [GIT MASTER] 05db99c117e36c0cd28cda8f558309efd20055da From: dpdklab@iol.unh.edu To: Test Report Cc: dpdk-test-reports@iol.unh.edu Content-Type: text/plain X-BeenThere: test-report@dpdk.org X-Mailman-Version: 2.1.29 Precedence: list List-Id: automatic DPDK test reports List-Unsubscribe: , List-Archive: List-Post: List-Help: List-Subscribe: , Errors-To: test-report-bounces@dpdk.org _Testing PASS_ Branch: dpdk 05db99c117e36c0cd28cda8f558309efd20055da --> testing pass Upstream job id: Generic-Unit-Test-DPDK#314248 Test environment and result as below: +-----------------------------+----------------+------------------------------+--------------+---------------------------+ | Environment | dpdk_unit_test | cryptodev_sw_snow3g_autotest | lpm_autotest | cryptodev_sw_zuc_autotest | +=============================+================+==============================+==============+===========================+ | 32-bit Ubuntu 22.04.4 (ARM) | PASS | SKIPPED | SKIPPED | SKIPPED | +-----------------------------+----------------+------------------------------+--------------+---------------------------+ | Fedora 40 (ARM Clang) | PASS | SKIPPED | SKIPPED | SKIPPED | +-----------------------------+----------------+------------------------------+--------------+---------------------------+ | CentOS Stream 9 (ARM) | PASS | SKIPPED | SKIPPED | SKIPPED | +-----------------------------+----------------+------------------------------+--------------+---------------------------+ | Debian 12 (arm) | PASS | PASS | SKIPPED | PASS | +-----------------------------+----------------+------------------------------+--------------+---------------------------+ | CentOS Stream 10 (ARM) | PASS | SKIPPED | SKIPPED | SKIPPED | +-----------------------------+----------------+------------------------------+--------------+---------------------------+ | Debian 11 (Buster) (ARM) | PASS | SKIPPED | SKIPPED | SKIPPED | +-----------------------------+----------------+------------------------------+--------------+---------------------------+ | Fedora 40 (ARM) | PASS | SKIPPED | SKIPPED | SKIPPED | +-----------------------------+----------------+------------------------------+--------------+---------------------------+ | Fedora 41 (ARM Clang) | PASS | SKIPPED | SKIPPED | SKIPPED | +-----------------------------+----------------+------------------------------+--------------+---------------------------+ | Ubuntu 20.04 (ARM) | PASS | SKIPPED | SKIPPED | SKIPPED | +-----------------------------+----------------+------------------------------+--------------+---------------------------+ | Fedora 41 (ARM) | PASS | SKIPPED | SKIPPED | SKIPPED | +-----------------------------+----------------+------------------------------+--------------+---------------------------+ | Ubuntu 22.04 (ARM) | PASS | SKIPPED | SKIPPED | SKIPPED | +-----------------------------+----------------+------------------------------+--------------+---------------------------+ | RHEL9 (ARM) | PASS | SKIPPED | SKIPPED | SKIPPED | +-----------------------------+----------------+------------------------------+--------------+---------------------------+ | Ubuntu 24.04 (ARM) | PASS | SKIPPED | SKIPPED | SKIPPED | +-----------------------------+----------------+------------------------------+--------------+---------------------------+ | Ubuntu 20.04 ARM SVE | SKIPPED | SKIPPED | PASS | SKIPPED | +-----------------------------+----------------+------------------------------+--------------+---------------------------+ 32-bit Ubuntu 22.04.4 (ARM) Kernel: 5.15.83+ aarch64 Compiler: gcc (Ubuntu 11.4.0-1ubuntu1~22.04) 11.4.0 Fedora 40 (ARM Clang) Kernel: Depends on container host Compiler: clang 18.1.8 (Fedora 18.1.8-1.fc40) CentOS Stream 9 (ARM) Kernel: Depends on container host Compiler: gcc 11.5.0 20240719 (Red Hat 11.5.0-2) Debian 12 (arm) Kernel: Depends on container host Compiler: gcc (Debian 12.2.0-14) 12.2.0 CentOS Stream 10 (ARM) Kernel: Depends on container host Compiler: gcc 14.2.1 20241104 (Red Hat 14.2.1-6) Debian 11 (Buster) (ARM) Kernel: Depends on container host Compiler: gcc (Debian 10.2.1-6) 10.2.1 20210110 Fedora 40 (ARM) Kernel: Depends on container host Compiler: gcc 14.2.1 20240912 (Red Hat 14.2.1-3) Fedora 41 (ARM Clang) Kernel: Depends on container host Compiler: clang 19.1.5 (Fedora 19.1.5-1.fc41) Ubuntu 20.04 (ARM) Kernel: Depends on container host Compiler: gcc (Ubuntu 9.4.0-1ubuntu1~20.04.2) 9.4.0 Fedora 41 (ARM) Kernel: Depends on container host Compiler: gcc 14.2.1 20240912 (Red Hat 14.2.1-3) Ubuntu 22.04 (ARM) Kernel: Depends on container host Compiler: gcc (Ubuntu 11.4.0-1ubuntu1~22.04) 11.4.0 RHEL9 (ARM) Kernel: Depends on container host Compiler: gcc 11.5.0 20240719 (Red Hat 11.5.0-2) Ubuntu 24.04 (ARM) Kernel: Depends on container host Compiler: gcc (Ubuntu 13.3.0-6ubuntu2~24.04) 13.3.0 Ubuntu 20.04 ARM SVE Kernel: Depends on container host Compiler: gcc (Ubuntu 10.5.0-1ubuntu1~20.04) 10.5.0 To view detailed results, visit: https://lab.dpdk.org/results/dashboard/tarballs/32548/ UNH-IOL DPDK Community Lab To manage your email subscriptions, visit: https://lab.dpdk.org/results/dashboard/preferences/subscriptions/