From mboxrd@z Thu Jan 1 00:00:00 1970 Return-Path: Received: from mails.dpdk.org (mails.dpdk.org [217.70.189.124]) by inbox.dpdk.org (Postfix) with ESMTP id E799E461B0 for ; Wed, 12 Feb 2025 04:12:26 +0100 (CET) Received: from mails.dpdk.org (localhost [127.0.0.1]) by mails.dpdk.org (Postfix) with ESMTP id C6DCF402BB; Wed, 12 Feb 2025 04:12:26 +0100 (CET) Received: from mail-il1-f227.google.com (mail-il1-f227.google.com [209.85.166.227]) by mails.dpdk.org (Postfix) with ESMTP id C90C640269 for ; Wed, 12 Feb 2025 04:12:24 +0100 (CET) Received: by mail-il1-f227.google.com with SMTP id e9e14a558f8ab-3ce868498d3so21053225ab.3 for ; Tue, 11 Feb 2025 19:12:24 -0800 (PST) DKIM-Signature: v=1; a=rsa-sha256; c=relaxed/relaxed; d=iol.unh.edu; s=unh-iol; t=1739329944; x=1739934744; darn=dpdk.org; h=cc:to:from:subject:message-id:date:from:to:cc:subject:date :message-id:reply-to; bh=q4YCHnCrqLQ2gGTjgXTRJTggCZFewZr3XxDbM304yds=; b=WoxZU5qhZvcIrI5FLtH5ZrMmp5pQXJejI3vwKe49g2u70/f+whULv5OudBp2kSlL22 E8/mpZokfYtu+ZzQlMGAbp/gqiXTDd9xJckbdru2AJCZuvW/0Pv5N0brgmfvk3va1Eqv w8p054rUtAbBmbP+S+JkrS6ic4BuiF1vMpsqU= X-Google-DKIM-Signature: v=1; a=rsa-sha256; c=relaxed/relaxed; d=1e100.net; s=20230601; t=1739329944; x=1739934744; h=cc:to:from:subject:message-id:date:x-gm-message-state:from:to:cc :subject:date:message-id:reply-to; bh=q4YCHnCrqLQ2gGTjgXTRJTggCZFewZr3XxDbM304yds=; b=Y86qvo7yGTl7mo6bzbVye0MVms6NDJFNNqPFnVrhnrF+2A6wqeknZ9MFi5Ajf8yZ4O 2GfVJSmt9D82bqP1Mekz1zeetiVjqtdjv71Waz4mZ6/ObWAED0N4t5L4dmHUZOweq3L2 q1Bh8EXCyUC4l60hfRzL0gTgk9DIWP/Zj+5/o36znoa6ol9JJveax8RFi7cqBRFp5RlX u38niemqS1+Wkzusaw0zlJs1QG0LshqlRuZ0QlNqeltX6MBzF8FwnSUjOemRO9Jw/pNI 1IVoWj5aswaF7AeF/bxR0nyE1u4FOwt0zLeOWFVfywNv7IDq5mup14o3g0UoItp51eC0 AM/w== X-Gm-Message-State: AOJu0YzPp/vN5e2FUFXDMorh6RhnpCoIbr1HSFzPf/KbzM32fWyy0Z8G vhcm+Q12eSw8Az/BAqxKi4y73XiUbUxrBOv4+Jf/olnMcn7E8GBkBq/V4Kgk9l7abJTTiMWZ2pP BTybuOR758RjYT5T/l3J9MzhBnRj2y3BAWlfKiPZF X-Gm-Gg: ASbGncuiIYNrGkGGGzDmLe6/nxX16jULg92U+ln3HXgZQfjD6+tt+6RGwNe5PxatFZv qQ0+AZGBvBelX2rgyUClDcu+2C0HhDWtL9VY1JwkpBzagPSGkqVB6ArSr26ImuXgNUcaPjtKSqQ WdQH6NPgmP2gjhPlu7JLWewUSkfRO87esHZkScJy9QRZv3ju4NRfIMcaTlYeC+rOertx4/i6Knh wP/sozoR67kEAxvSputgEHQ8igqFYCttUMHLRvwgR+ho/Gc3LdFkC/Sr1g3PXlcbmPoGS2VOFix oNkfEjbHAbpPTzR5UKmx/qp7CIKM6Q== X-Google-Smtp-Source: AGHT+IEgFCwswfoz84FMLECR4DjvM5HvRZmt7PyyNikPYT10r9DjOPPdUM89flmDlNEvt3sRNqTui/X8YKqA X-Received: by 2002:a05:6e02:156a:b0:3d0:2b88:116c with SMTP id e9e14a558f8ab-3d17bf46074mr14794525ab.10.1739329943956; Tue, 11 Feb 2025 19:12:23 -0800 (PST) Received: from postal.iol.unh.edu (postal.iol.unh.edu. [132.177.123.84]) by smtp-relay.gmail.com with ESMTPS id e9e14a558f8ab-3d17dc67300sm320685ab.67.2025.02.11.19.12.23 (version=TLS1_2 cipher=ECDHE-ECDSA-AES128-GCM-SHA256 bits=128/128); Tue, 11 Feb 2025 19:12:23 -0800 (PST) X-Relaying-Domain: iol.unh.edu Date: Tue, 11 Feb 2025 19:12:23 -0800 (PST) Message-ID: <67ac1197.050a0220.e372c.1ce5SMTPIN_ADDED_MISSING@mx.google.com> Received: from [172.17.0.3] (unknown [172.18.0.217]) by postal.iol.unh.edu (Postfix) with ESMTP id 4821C6052471; Tue, 11 Feb 2025 22:12:23 -0500 (EST) Subject: |SUCCESS| [GIT MASTER] 05db99c117e36c0cd28cda8f558309efd20055da From: dpdklab@iol.unh.edu To: Test Report Cc: dpdk-test-reports@iol.unh.edu Content-Type: text/plain X-BeenThere: test-report@dpdk.org X-Mailman-Version: 2.1.29 Precedence: list List-Id: automatic DPDK test reports List-Unsubscribe: , List-Archive: List-Post: List-Help: List-Subscribe: , Errors-To: test-report-bounces@dpdk.org _Testing PASS_ Branch: dpdk 05db99c117e36c0cd28cda8f558309efd20055da --> testing pass Upstream job id: Generic-DPDK-Compile-Meson#360811 Test environment and result as below: +----------------------------------------+--------------------+ | Environment | dpdk_meson_compile | +========================================+====================+ | RHEL9 (ARM) | PASS | +----------------------------------------+--------------------+ | Ubuntu 20.04 ARM GCC Cross Compile | PASS | +----------------------------------------+--------------------+ | Ubuntu 20.04 ARM SVE | PASS | +----------------------------------------+--------------------+ | Debian 12 with MUSDK | PASS | +----------------------------------------+--------------------+ | Fedora 40 (ARM Clang) | PASS | +----------------------------------------+--------------------+ | Fedora 40 (ARM) | PASS | +----------------------------------------+--------------------+ | Fedora 41 (ARM) | PASS | +----------------------------------------+--------------------+ | Ubuntu 24.04 (ARM) | PASS | +----------------------------------------+--------------------+ | Ubuntu 22.04 (ARM) | PASS | +----------------------------------------+--------------------+ | Fedora 41 (ARM Clang) | PASS | +----------------------------------------+--------------------+ | Ubuntu 20.04 (ARM) | PASS | +----------------------------------------+--------------------+ | Ubuntu 20.04 aarch32 GCC Cross Compile | PASS | +----------------------------------------+--------------------+ | Debian 11 (Buster) (ARM) | PASS | +----------------------------------------+--------------------+ | CentOS Stream 10 (ARM) | PASS | +----------------------------------------+--------------------+ | Ubuntu 20.04 ARM Clang Cross Compile | PASS | +----------------------------------------+--------------------+ | Debian 12 (arm) | PASS | +----------------------------------------+--------------------+ | CentOS Stream 9 (ARM) | PASS | +----------------------------------------+--------------------+ RHEL9 (ARM) Kernel: Depends on container host Compiler: gcc 11.5.0 20240719 (Red Hat 11.5.0-2) Ubuntu 20.04 ARM GCC Cross Compile Kernel: Depends on container host Compiler: aarch64-linux-gnu-gcc (Ubuntu 9.4.0-1ubuntu1~20.04.2) 9.4.0 Ubuntu 20.04 ARM SVE Kernel: Depends on container host Compiler: gcc (Ubuntu 10.5.0-1ubuntu1~20.04) 10.5.0 Debian 12 with MUSDK Kernel: Depends on container host Compiler: gcc (Debian 12.2.0-14) 12.2.0 Fedora 40 (ARM Clang) Kernel: Depends on container host Compiler: clang 18.1.8 (Fedora 18.1.8-1.fc40) Fedora 40 (ARM) Kernel: Depends on container host Compiler: gcc 14.2.1 20240912 (Red Hat 14.2.1-3) Fedora 41 (ARM) Kernel: Depends on container host Compiler: gcc 14.2.1 20240912 (Red Hat 14.2.1-3) Ubuntu 24.04 (ARM) Kernel: Depends on container host Compiler: gcc (Ubuntu 13.3.0-6ubuntu2~24.04) 13.3.0 Ubuntu 22.04 (ARM) Kernel: Depends on container host Compiler: gcc (Ubuntu 11.4.0-1ubuntu1~22.04) 11.4.0 Fedora 41 (ARM Clang) Kernel: Depends on container host Compiler: clang 19.1.5 (Fedora 19.1.5-1.fc41) Ubuntu 20.04 (ARM) Kernel: Depends on container host Compiler: gcc (Ubuntu 9.4.0-1ubuntu1~20.04.2) 9.4.0 Ubuntu 20.04 aarch32 GCC Cross Compile Kernel: Depends on container host Compiler: gcc 9.4.0 Debian 11 (Buster) (ARM) Kernel: Depends on container host Compiler: gcc (Debian 10.2.1-6) 10.2.1 20210110 CentOS Stream 10 (ARM) Kernel: Depends on container host Compiler: gcc 14.2.1 20241104 (Red Hat 14.2.1-6) Ubuntu 20.04 ARM Clang Cross Compile Kernel: Depends on container host Compiler: clang 10.0.0-4ubuntu1 Debian 12 (arm) Kernel: Depends on container host Compiler: gcc (Debian 12.2.0-14) 12.2.0 CentOS Stream 9 (ARM) Kernel: Depends on container host Compiler: gcc 11.5.0 20240719 (Red Hat 11.5.0-2) To view detailed results, visit: https://lab.dpdk.org/results/dashboard/tarballs/32548/ UNH-IOL DPDK Community Lab To manage your email subscriptions, visit: https://lab.dpdk.org/results/dashboard/preferences/subscriptions/